BEGIN:VCALENDAR
VERSION:2.0
PRODID:-//Listowel Rifle &amp; Revolver Club - ECPv6.15.20//NONSGML v1.0//EN
CALSCALE:GREGORIAN
METHOD:PUBLISH
X-WR-CALNAME:Listowel Rifle &amp; Revolver Club
X-ORIGINAL-URL:https://lrrc.ca
X-WR-CALDESC:Events for Listowel Rifle &amp; Revolver Club
REFRESH-INTERVAL;VALUE=DURATION:PT1H
X-Robots-Tag:noindex
X-PUBLISHED-TTL:PT1H
BEGIN:VTIMEZONE
TZID:America/Toronto
BEGIN:DAYLIGHT
TZOFFSETFROM:-0500
TZOFFSETTO:-0400
TZNAME:EDT
DTSTART:20250309T070000
END:DAYLIGHT
BEGIN:STANDARD
TZOFFSETFROM:-0400
TZOFFSETTO:-0500
TZNAME:EST
DTSTART:20251102T060000
END:STANDARD
BEGIN:DAYLIGHT
TZOFFSETFROM:-0500
TZOFFSETTO:-0400
TZNAME:EDT
DTSTART:20260308T070000
END:DAYLIGHT
BEGIN:STANDARD
TZOFFSETFROM:-0400
TZOFFSETTO:-0500
TZNAME:EST
DTSTART:20261101T060000
END:STANDARD
BEGIN:DAYLIGHT
TZOFFSETFROM:-0500
TZOFFSETTO:-0400
TZNAME:EDT
DTSTART:20270314T070000
END:DAYLIGHT
BEGIN:STANDARD
TZOFFSETFROM:-0400
TZOFFSETTO:-0500
TZNAME:EST
DTSTART:20271107T060000
END:STANDARD
BEGIN:DAYLIGHT
TZOFFSETFROM:-0500
TZOFFSETTO:-0400
TZNAME:EDT
DTSTART:20280312T070000
END:DAYLIGHT
BEGIN:STANDARD
TZOFFSETFROM:-0400
TZOFFSETTO:-0500
TZNAME:EST
DTSTART:20281105T060000
END:STANDARD
BEGIN:DAYLIGHT
TZOFFSETFROM:-0500
TZOFFSETTO:-0400
TZNAME:EDT
DTSTART:20290311T070000
END:DAYLIGHT
BEGIN:STANDARD
TZOFFSETFROM:-0400
TZOFFSETTO:-0500
TZNAME:EST
DTSTART:20291104T060000
END:STANDARD
BEGIN:DAYLIGHT
TZOFFSETFROM:-0500
TZOFFSETTO:-0400
TZNAME:EDT
DTSTART:20300310T070000
END:DAYLIGHT
BEGIN:STANDARD
TZOFFSETFROM:-0400
TZOFFSETTO:-0500
TZNAME:EST
DTSTART:20301103T060000
END:STANDARD
BEGIN:DAYLIGHT
TZOFFSETFROM:-0500
TZOFFSETTO:-0400
TZNAME:EDT
DTSTART:20310309T070000
END:DAYLIGHT
BEGIN:STANDARD
TZOFFSETFROM:-0400
TZOFFSETTO:-0500
TZNAME:EST
DTSTART:20311102T060000
END:STANDARD
BEGIN:DAYLIGHT
TZOFFSETFROM:-0500
TZOFFSETTO:-0400
TZNAME:EDT
DTSTART:20320314T070000
END:DAYLIGHT
BEGIN:STANDARD
TZOFFSETFROM:-0400
TZOFFSETTO:-0500
TZNAME:EST
DTSTART:20321107T060000
END:STANDARD
END:VTIMEZONE
BEGIN:VEVENT
DTSTART;TZID=America/Toronto:20260916T190000
DTEND;TZID=America/Toronto:20260916T220000
DTSTAMP:20260420T173504
CREATED:20240216T205516Z
LAST-MODIFIED:20250413T213236Z
UID:10000731-1789585200-1789596000@lrrc.ca
SUMMARY:Annual General Meeting
DESCRIPTION:Annual General Meeting\nTime: 7pm
URL:https://lrrc.ca/event/annual-general-meeting/2026-09-16/
LOCATION:Listowel Rifle & Revolver Club\, 8310 Rd 165\, Listowel\, Ontario\, N4W 3H2
CATEGORIES:Annual General Meeting
ATTACH;FMTTYPE=image/jpeg:https://lrrc.ca/wp-content/uploads/2024/02/director-meeting.jpg
ORGANIZER;CN="LRRC":MAILTO:listowelgunclub@gmail.com
END:VEVENT
BEGIN:VEVENT
DTSTART;TZID=America/Toronto:20270410T090000
DTEND;TZID=America/Toronto:20270410T150000
DTSTAMP:20260420T173504
CREATED:20240216T210520Z
LAST-MODIFIED:20250413T175429Z
UID:10000641-1807347600-1807369200@lrrc.ca
SUMMARY:Club Clean Up April
DESCRIPTION:Club Clean Up\nTime: 9 AM
URL:https://lrrc.ca/event/club-clean-up-april/2027-04-10/
LOCATION:Listowel Rifle & Revolver Club\, 8310 Rd 165\, Listowel\, Ontario\, N4W 3H2
CATEGORIES:Clean Up
ATTACH;FMTTYPE=image/jpeg:https://lrrc.ca/wp-content/uploads/2024/02/director-meeting.jpg
ORGANIZER;CN="LRRC":MAILTO:listowelgunclub@gmail.com
END:VEVENT
BEGIN:VEVENT
DTSTART;TZID=America/Toronto:20270417T090000
DTEND;TZID=America/Toronto:20270417T150000
DTSTAMP:20260420T173504
CREATED:20240216T211455Z
LAST-MODIFIED:20250413T175547Z
UID:10000647-1807952400-1807974000@lrrc.ca
SUMMARY:Club Clean Up - Rain Date April
DESCRIPTION:Club Clean Up Rain Date\nTime: 9 AM
URL:https://lrrc.ca/event/club-clean-up-rain-date-april/2027-04-17/
LOCATION:Listowel Rifle & Revolver Club\, 8310 Rd 165\, Listowel\, Ontario\, N4W 3H2
CATEGORIES:Clean Up
ATTACH;FMTTYPE=image/jpeg:https://lrrc.ca/wp-content/uploads/2024/02/director-meeting.jpg
ORGANIZER;CN="LRRC":MAILTO:listowelgunclub@gmail.com
END:VEVENT
BEGIN:VEVENT
DTSTART;TZID=America/Toronto:20270915T190000
DTEND;TZID=America/Toronto:20270915T220000
DTSTAMP:20260420T173504
CREATED:20240216T205516Z
LAST-MODIFIED:20250413T213236Z
UID:10000732-1821034800-1821045600@lrrc.ca
SUMMARY:Annual General Meeting
DESCRIPTION:Annual General Meeting\nTime: 7pm
URL:https://lrrc.ca/event/annual-general-meeting/2027-09-15/
LOCATION:Listowel Rifle & Revolver Club\, 8310 Rd 165\, Listowel\, Ontario\, N4W 3H2
CATEGORIES:Annual General Meeting
ATTACH;FMTTYPE=image/jpeg:https://lrrc.ca/wp-content/uploads/2024/02/director-meeting.jpg
ORGANIZER;CN="LRRC":MAILTO:listowelgunclub@gmail.com
END:VEVENT
BEGIN:VEVENT
DTSTART;TZID=America/Toronto:20280408T090000
DTEND;TZID=America/Toronto:20280408T150000
DTSTAMP:20260420T173504
CREATED:20240216T210520Z
LAST-MODIFIED:20250413T175429Z
UID:10000642-1838797200-1838818800@lrrc.ca
SUMMARY:Club Clean Up April
DESCRIPTION:Club Clean Up\nTime: 9 AM
URL:https://lrrc.ca/event/club-clean-up-april/2028-04-08/
LOCATION:Listowel Rifle & Revolver Club\, 8310 Rd 165\, Listowel\, Ontario\, N4W 3H2
CATEGORIES:Clean Up
ATTACH;FMTTYPE=image/jpeg:https://lrrc.ca/wp-content/uploads/2024/02/director-meeting.jpg
ORGANIZER;CN="LRRC":MAILTO:listowelgunclub@gmail.com
END:VEVENT
BEGIN:VEVENT
DTSTART;TZID=America/Toronto:20280415T090000
DTEND;TZID=America/Toronto:20280415T150000
DTSTAMP:20260420T173504
CREATED:20240216T211455Z
LAST-MODIFIED:20250413T175547Z
UID:10000648-1839402000-1839423600@lrrc.ca
SUMMARY:Club Clean Up - Rain Date April
DESCRIPTION:Club Clean Up Rain Date\nTime: 9 AM
URL:https://lrrc.ca/event/club-clean-up-rain-date-april/2028-04-15/
LOCATION:Listowel Rifle & Revolver Club\, 8310 Rd 165\, Listowel\, Ontario\, N4W 3H2
CATEGORIES:Clean Up
ATTACH;FMTTYPE=image/jpeg:https://lrrc.ca/wp-content/uploads/2024/02/director-meeting.jpg
ORGANIZER;CN="LRRC":MAILTO:listowelgunclub@gmail.com
END:VEVENT
BEGIN:VEVENT
DTSTART;TZID=America/Toronto:20280920T190000
DTEND;TZID=America/Toronto:20280920T220000
DTSTAMP:20260420T173504
CREATED:20240216T205516Z
LAST-MODIFIED:20250413T213236Z
UID:10000733-1853089200-1853100000@lrrc.ca
SUMMARY:Annual General Meeting
DESCRIPTION:Annual General Meeting\nTime: 7pm
URL:https://lrrc.ca/event/annual-general-meeting/2028-09-20/
LOCATION:Listowel Rifle & Revolver Club\, 8310 Rd 165\, Listowel\, Ontario\, N4W 3H2
CATEGORIES:Annual General Meeting
ATTACH;FMTTYPE=image/jpeg:https://lrrc.ca/wp-content/uploads/2024/02/director-meeting.jpg
ORGANIZER;CN="LRRC":MAILTO:listowelgunclub@gmail.com
END:VEVENT
BEGIN:VEVENT
DTSTART;TZID=America/Toronto:20290414T090000
DTEND;TZID=America/Toronto:20290414T150000
DTSTAMP:20260420T173504
CREATED:20240216T210520Z
LAST-MODIFIED:20250413T175429Z
UID:10000643-1870851600-1870873200@lrrc.ca
SUMMARY:Club Clean Up April
DESCRIPTION:Club Clean Up\nTime: 9 AM
URL:https://lrrc.ca/event/club-clean-up-april/2029-04-14/
LOCATION:Listowel Rifle & Revolver Club\, 8310 Rd 165\, Listowel\, Ontario\, N4W 3H2
CATEGORIES:Clean Up
ATTACH;FMTTYPE=image/jpeg:https://lrrc.ca/wp-content/uploads/2024/02/director-meeting.jpg
ORGANIZER;CN="LRRC":MAILTO:listowelgunclub@gmail.com
END:VEVENT
BEGIN:VEVENT
DTSTART;TZID=America/Toronto:20290421T090000
DTEND;TZID=America/Toronto:20290421T150000
DTSTAMP:20260420T173504
CREATED:20240216T211455Z
LAST-MODIFIED:20250413T175547Z
UID:10000649-1871456400-1871478000@lrrc.ca
SUMMARY:Club Clean Up - Rain Date April
DESCRIPTION:Club Clean Up Rain Date\nTime: 9 AM
URL:https://lrrc.ca/event/club-clean-up-rain-date-april/2029-04-21/
LOCATION:Listowel Rifle & Revolver Club\, 8310 Rd 165\, Listowel\, Ontario\, N4W 3H2
CATEGORIES:Clean Up
ATTACH;FMTTYPE=image/jpeg:https://lrrc.ca/wp-content/uploads/2024/02/director-meeting.jpg
ORGANIZER;CN="LRRC":MAILTO:listowelgunclub@gmail.com
END:VEVENT
BEGIN:VEVENT
DTSTART;TZID=America/Toronto:20290919T190000
DTEND;TZID=America/Toronto:20290919T220000
DTSTAMP:20260420T173504
CREATED:20240216T205516Z
LAST-MODIFIED:20250413T213236Z
UID:10000734-1884538800-1884549600@lrrc.ca
SUMMARY:Annual General Meeting
DESCRIPTION:Annual General Meeting\nTime: 7pm
URL:https://lrrc.ca/event/annual-general-meeting/2029-09-19/
LOCATION:Listowel Rifle & Revolver Club\, 8310 Rd 165\, Listowel\, Ontario\, N4W 3H2
CATEGORIES:Annual General Meeting
ATTACH;FMTTYPE=image/jpeg:https://lrrc.ca/wp-content/uploads/2024/02/director-meeting.jpg
ORGANIZER;CN="LRRC":MAILTO:listowelgunclub@gmail.com
END:VEVENT
BEGIN:VEVENT
DTSTART;TZID=America/Toronto:20300413T090000
DTEND;TZID=America/Toronto:20300413T150000
DTSTAMP:20260420T173504
CREATED:20240216T210520Z
LAST-MODIFIED:20250413T175429Z
UID:10000644-1902301200-1902322800@lrrc.ca
SUMMARY:Club Clean Up April
DESCRIPTION:Club Clean Up\nTime: 9 AM
URL:https://lrrc.ca/event/club-clean-up-april/2030-04-13/
LOCATION:Listowel Rifle & Revolver Club\, 8310 Rd 165\, Listowel\, Ontario\, N4W 3H2
CATEGORIES:Clean Up
ATTACH;FMTTYPE=image/jpeg:https://lrrc.ca/wp-content/uploads/2024/02/director-meeting.jpg
ORGANIZER;CN="LRRC":MAILTO:listowelgunclub@gmail.com
END:VEVENT
BEGIN:VEVENT
DTSTART;TZID=America/Toronto:20300420T090000
DTEND;TZID=America/Toronto:20300420T150000
DTSTAMP:20260420T173504
CREATED:20240216T211455Z
LAST-MODIFIED:20250413T175547Z
UID:10000741-1902906000-1902927600@lrrc.ca
SUMMARY:Club Clean Up - Rain Date April
DESCRIPTION:Club Clean Up Rain Date\nTime: 9 AM
URL:https://lrrc.ca/event/club-clean-up-rain-date-april/2030-04-20/
LOCATION:Listowel Rifle & Revolver Club\, 8310 Rd 165\, Listowel\, Ontario\, N4W 3H2
CATEGORIES:Clean Up
ATTACH;FMTTYPE=image/jpeg:https://lrrc.ca/wp-content/uploads/2024/02/director-meeting.jpg
ORGANIZER;CN="LRRC":MAILTO:listowelgunclub@gmail.com
END:VEVENT
BEGIN:VEVENT
DTSTART;TZID=America/Toronto:20300918T190000
DTEND;TZID=America/Toronto:20300918T220000
DTSTAMP:20260420T173504
CREATED:20240216T205516Z
LAST-MODIFIED:20250413T213236Z
UID:10000772-1915988400-1915999200@lrrc.ca
SUMMARY:Annual General Meeting
DESCRIPTION:Annual General Meeting\nTime: 7pm
URL:https://lrrc.ca/event/annual-general-meeting/2030-09-18/
LOCATION:Listowel Rifle & Revolver Club\, 8310 Rd 165\, Listowel\, Ontario\, N4W 3H2
CATEGORIES:Annual General Meeting
ATTACH;FMTTYPE=image/jpeg:https://lrrc.ca/wp-content/uploads/2024/02/director-meeting.jpg
ORGANIZER;CN="LRRC":MAILTO:listowelgunclub@gmail.com
END:VEVENT
BEGIN:VEVENT
DTSTART;TZID=America/Toronto:20310412T090000
DTEND;TZID=America/Toronto:20310412T150000
DTSTAMP:20260420T173504
CREATED:20240216T210520Z
LAST-MODIFIED:20250413T175429Z
UID:10002055-1933750800-1933772400@lrrc.ca
SUMMARY:Club Clean Up April
DESCRIPTION:Club Clean Up\nTime: 9 AM
URL:https://lrrc.ca/event/club-clean-up-april/2031-04-12/
LOCATION:Listowel Rifle & Revolver Club\, 8310 Rd 165\, Listowel\, Ontario\, N4W 3H2
CATEGORIES:Clean Up
ATTACH;FMTTYPE=image/jpeg:https://lrrc.ca/wp-content/uploads/2024/02/director-meeting.jpg
ORGANIZER;CN="LRRC":MAILTO:listowelgunclub@gmail.com
END:VEVENT
BEGIN:VEVENT
DTSTART;TZID=America/Toronto:20310419T090000
DTEND;TZID=America/Toronto:20310419T150000
DTSTAMP:20260420T173504
CREATED:20240216T211455Z
LAST-MODIFIED:20250413T175547Z
UID:10002057-1934355600-1934377200@lrrc.ca
SUMMARY:Club Clean Up - Rain Date April
DESCRIPTION:Club Clean Up Rain Date\nTime: 9 AM
URL:https://lrrc.ca/event/club-clean-up-rain-date-april/2031-04-19/
LOCATION:Listowel Rifle & Revolver Club\, 8310 Rd 165\, Listowel\, Ontario\, N4W 3H2
CATEGORIES:Clean Up
ATTACH;FMTTYPE=image/jpeg:https://lrrc.ca/wp-content/uploads/2024/02/director-meeting.jpg
ORGANIZER;CN="LRRC":MAILTO:listowelgunclub@gmail.com
END:VEVENT
END:VCALENDAR