BEGIN:VCALENDAR
VERSION:2.0
PRODID:-//Listowel Rifle &amp; Revolver Club - ECPv6.15.20//NONSGML v1.0//EN
CALSCALE:GREGORIAN
METHOD:PUBLISH
X-WR-CALNAME:Listowel Rifle &amp; Revolver Club
X-ORIGINAL-URL:https://lrrc.ca
X-WR-CALDESC:Events for Listowel Rifle &amp; Revolver Club
REFRESH-INTERVAL;VALUE=DURATION:PT1H
X-Robots-Tag:noindex
X-PUBLISHED-TTL:PT1H
BEGIN:VTIMEZONE
TZID:America/Toronto
BEGIN:DAYLIGHT
TZOFFSETFROM:-0500
TZOFFSETTO:-0400
TZNAME:EDT
DTSTART:20270314T070000
END:DAYLIGHT
BEGIN:STANDARD
TZOFFSETFROM:-0400
TZOFFSETTO:-0500
TZNAME:EST
DTSTART:20271107T060000
END:STANDARD
BEGIN:DAYLIGHT
TZOFFSETFROM:-0500
TZOFFSETTO:-0400
TZNAME:EDT
DTSTART:20280312T070000
END:DAYLIGHT
BEGIN:STANDARD
TZOFFSETFROM:-0400
TZOFFSETTO:-0500
TZNAME:EST
DTSTART:20281105T060000
END:STANDARD
BEGIN:DAYLIGHT
TZOFFSETFROM:-0500
TZOFFSETTO:-0400
TZNAME:EDT
DTSTART:20290311T070000
END:DAYLIGHT
BEGIN:STANDARD
TZOFFSETFROM:-0400
TZOFFSETTO:-0500
TZNAME:EST
DTSTART:20291104T060000
END:STANDARD
BEGIN:DAYLIGHT
TZOFFSETFROM:-0500
TZOFFSETTO:-0400
TZNAME:EDT
DTSTART:20300310T070000
END:DAYLIGHT
BEGIN:STANDARD
TZOFFSETFROM:-0400
TZOFFSETTO:-0500
TZNAME:EST
DTSTART:20301103T060000
END:STANDARD
BEGIN:DAYLIGHT
TZOFFSETFROM:-0500
TZOFFSETTO:-0400
TZNAME:EDT
DTSTART:20310309T070000
END:DAYLIGHT
BEGIN:STANDARD
TZOFFSETFROM:-0400
TZOFFSETTO:-0500
TZNAME:EST
DTSTART:20311102T060000
END:STANDARD
BEGIN:DAYLIGHT
TZOFFSETFROM:-0500
TZOFFSETTO:-0400
TZNAME:EDT
DTSTART:20320314T070000
END:DAYLIGHT
BEGIN:STANDARD
TZOFFSETFROM:-0400
TZOFFSETTO:-0500
TZNAME:EST
DTSTART:20321107T060000
END:STANDARD
END:VTIMEZONE
BEGIN:VEVENT
DTSTART;TZID=America/Toronto:20281112T100000
DTEND;TZID=America/Toronto:20281112T120000
DTSTAMP:20260421T040602
CREATED:20240514T183053Z
LAST-MODIFIED:20240514T183053Z
UID:10000523-1857636000-1857643200@lrrc.ca
SUMMARY:Indoor Sniper Match
DESCRIPTION:Indoor Sniper Match\nStart Time: 10:00 A.MCost: $5.00 per match \n\n\nRequires 22 rim fire rifles with iron sights or scopes to compete in iron sights or optic sight classes.\nRequires 40 rounds of ammo\nTargets are supplied and will be explained the day of the match.\nThe top 5 score average over the season determines the winner of the optic & iron classes for the season. Match winners in each class will be listed in the club newsletter.\nAll LRRC safety and range rules apply.
URL:https://lrrc.ca/event/indoor-sniper-match-2/2028-11-12/
LOCATION:Listowel Rifle & Revolver Club\, 8310 Rd 165\, Listowel\, Ontario\, N4W 3H2
CATEGORIES:Matches
ATTACH;FMTTYPE=image/jpeg:https://lrrc.ca/wp-content/uploads/2024/01/Indoor-Range-800-1.jpg
ORGANIZER;CN="LRRC":MAILTO:listowelgunclub@gmail.com
END:VEVENT
BEGIN:VEVENT
DTSTART;TZID=America/Toronto:20281210T100000
DTEND;TZID=America/Toronto:20281210T120000
DTSTAMP:20260421T040602
CREATED:20240514T183053Z
LAST-MODIFIED:20240514T183053Z
UID:10000524-1860055200-1860062400@lrrc.ca
SUMMARY:Indoor Sniper Match
DESCRIPTION:Indoor Sniper Match\nStart Time: 10:00 A.MCost: $5.00 per match \n\n\nRequires 22 rim fire rifles with iron sights or scopes to compete in iron sights or optic sight classes.\nRequires 40 rounds of ammo\nTargets are supplied and will be explained the day of the match.\nThe top 5 score average over the season determines the winner of the optic & iron classes for the season. Match winners in each class will be listed in the club newsletter.\nAll LRRC safety and range rules apply.
URL:https://lrrc.ca/event/indoor-sniper-match-2/2028-12-10/
LOCATION:Listowel Rifle & Revolver Club\, 8310 Rd 165\, Listowel\, Ontario\, N4W 3H2
CATEGORIES:Matches
ATTACH;FMTTYPE=image/jpeg:https://lrrc.ca/wp-content/uploads/2024/01/Indoor-Range-800-1.jpg
ORGANIZER;CN="LRRC":MAILTO:listowelgunclub@gmail.com
END:VEVENT
BEGIN:VEVENT
DTSTART;TZID=America/Toronto:20290114T100000
DTEND;TZID=America/Toronto:20290114T120000
DTSTAMP:20260421T040602
CREATED:20240514T183053Z
LAST-MODIFIED:20240514T183053Z
UID:10000525-1863079200-1863086400@lrrc.ca
SUMMARY:Indoor Sniper Match
DESCRIPTION:Indoor Sniper Match\nStart Time: 10:00 A.MCost: $5.00 per match \n\n\nRequires 22 rim fire rifles with iron sights or scopes to compete in iron sights or optic sight classes.\nRequires 40 rounds of ammo\nTargets are supplied and will be explained the day of the match.\nThe top 5 score average over the season determines the winner of the optic & iron classes for the season. Match winners in each class will be listed in the club newsletter.\nAll LRRC safety and range rules apply.
URL:https://lrrc.ca/event/indoor-sniper-match-2/2029-01-14/
LOCATION:Listowel Rifle & Revolver Club\, 8310 Rd 165\, Listowel\, Ontario\, N4W 3H2
CATEGORIES:Matches
ATTACH;FMTTYPE=image/jpeg:https://lrrc.ca/wp-content/uploads/2024/01/Indoor-Range-800-1.jpg
ORGANIZER;CN="LRRC":MAILTO:listowelgunclub@gmail.com
END:VEVENT
BEGIN:VEVENT
DTSTART;TZID=America/Toronto:20290211T100000
DTEND;TZID=America/Toronto:20290211T120000
DTSTAMP:20260421T040602
CREATED:20240514T183053Z
LAST-MODIFIED:20240514T183053Z
UID:10000526-1865498400-1865505600@lrrc.ca
SUMMARY:Indoor Sniper Match
DESCRIPTION:Indoor Sniper Match\nStart Time: 10:00 A.MCost: $5.00 per match \n\n\nRequires 22 rim fire rifles with iron sights or scopes to compete in iron sights or optic sight classes.\nRequires 40 rounds of ammo\nTargets are supplied and will be explained the day of the match.\nThe top 5 score average over the season determines the winner of the optic & iron classes for the season. Match winners in each class will be listed in the club newsletter.\nAll LRRC safety and range rules apply.
URL:https://lrrc.ca/event/indoor-sniper-match-2/2029-02-11/
LOCATION:Listowel Rifle & Revolver Club\, 8310 Rd 165\, Listowel\, Ontario\, N4W 3H2
CATEGORIES:Matches
ATTACH;FMTTYPE=image/jpeg:https://lrrc.ca/wp-content/uploads/2024/01/Indoor-Range-800-1.jpg
ORGANIZER;CN="LRRC":MAILTO:listowelgunclub@gmail.com
END:VEVENT
BEGIN:VEVENT
DTSTART;TZID=America/Toronto:20290311T100000
DTEND;TZID=America/Toronto:20290311T120000
DTSTAMP:20260421T040602
CREATED:20240514T183053Z
LAST-MODIFIED:20240514T183053Z
UID:10000527-1867917600-1867924800@lrrc.ca
SUMMARY:Indoor Sniper Match
DESCRIPTION:Indoor Sniper Match\nStart Time: 10:00 A.MCost: $5.00 per match \n\n\nRequires 22 rim fire rifles with iron sights or scopes to compete in iron sights or optic sight classes.\nRequires 40 rounds of ammo\nTargets are supplied and will be explained the day of the match.\nThe top 5 score average over the season determines the winner of the optic & iron classes for the season. Match winners in each class will be listed in the club newsletter.\nAll LRRC safety and range rules apply.
URL:https://lrrc.ca/event/indoor-sniper-match-2/2029-03-11/
LOCATION:Listowel Rifle & Revolver Club\, 8310 Rd 165\, Listowel\, Ontario\, N4W 3H2
CATEGORIES:Matches
ATTACH;FMTTYPE=image/jpeg:https://lrrc.ca/wp-content/uploads/2024/01/Indoor-Range-800-1.jpg
ORGANIZER;CN="LRRC":MAILTO:listowelgunclub@gmail.com
END:VEVENT
BEGIN:VEVENT
DTSTART;TZID=America/Toronto:20290408T100000
DTEND;TZID=America/Toronto:20290408T120000
DTSTAMP:20260421T040602
CREATED:20240514T183053Z
LAST-MODIFIED:20240514T183053Z
UID:10000528-1870336800-1870344000@lrrc.ca
SUMMARY:Indoor Sniper Match
DESCRIPTION:Indoor Sniper Match\nStart Time: 10:00 A.MCost: $5.00 per match \n\n\nRequires 22 rim fire rifles with iron sights or scopes to compete in iron sights or optic sight classes.\nRequires 40 rounds of ammo\nTargets are supplied and will be explained the day of the match.\nThe top 5 score average over the season determines the winner of the optic & iron classes for the season. Match winners in each class will be listed in the club newsletter.\nAll LRRC safety and range rules apply.
URL:https://lrrc.ca/event/indoor-sniper-match-2/2029-04-08/
LOCATION:Listowel Rifle & Revolver Club\, 8310 Rd 165\, Listowel\, Ontario\, N4W 3H2
CATEGORIES:Matches
ATTACH;FMTTYPE=image/jpeg:https://lrrc.ca/wp-content/uploads/2024/01/Indoor-Range-800-1.jpg
ORGANIZER;CN="LRRC":MAILTO:listowelgunclub@gmail.com
END:VEVENT
BEGIN:VEVENT
DTSTART;TZID=America/Toronto:20291111T100000
DTEND;TZID=America/Toronto:20291111T120000
DTSTAMP:20260421T040602
CREATED:20240514T183053Z
LAST-MODIFIED:20240514T183053Z
UID:10000787-1889085600-1889092800@lrrc.ca
SUMMARY:Indoor Sniper Match
DESCRIPTION:Indoor Sniper Match\nStart Time: 10:00 A.MCost: $5.00 per match \n\n\nRequires 22 rim fire rifles with iron sights or scopes to compete in iron sights or optic sight classes.\nRequires 40 rounds of ammo\nTargets are supplied and will be explained the day of the match.\nThe top 5 score average over the season determines the winner of the optic & iron classes for the season. Match winners in each class will be listed in the club newsletter.\nAll LRRC safety and range rules apply.
URL:https://lrrc.ca/event/indoor-sniper-match-2/2029-11-11/
LOCATION:Listowel Rifle & Revolver Club\, 8310 Rd 165\, Listowel\, Ontario\, N4W 3H2
CATEGORIES:Matches
ATTACH;FMTTYPE=image/jpeg:https://lrrc.ca/wp-content/uploads/2024/01/Indoor-Range-800-1.jpg
ORGANIZER;CN="LRRC":MAILTO:listowelgunclub@gmail.com
END:VEVENT
BEGIN:VEVENT
DTSTART;TZID=America/Toronto:20291209T100000
DTEND;TZID=America/Toronto:20291209T120000
DTSTAMP:20260421T040602
CREATED:20240514T183053Z
LAST-MODIFIED:20240514T183053Z
UID:10000788-1891504800-1891512000@lrrc.ca
SUMMARY:Indoor Sniper Match
DESCRIPTION:Indoor Sniper Match\nStart Time: 10:00 A.MCost: $5.00 per match \n\n\nRequires 22 rim fire rifles with iron sights or scopes to compete in iron sights or optic sight classes.\nRequires 40 rounds of ammo\nTargets are supplied and will be explained the day of the match.\nThe top 5 score average over the season determines the winner of the optic & iron classes for the season. Match winners in each class will be listed in the club newsletter.\nAll LRRC safety and range rules apply.
URL:https://lrrc.ca/event/indoor-sniper-match-2/2029-12-09/
LOCATION:Listowel Rifle & Revolver Club\, 8310 Rd 165\, Listowel\, Ontario\, N4W 3H2
CATEGORIES:Matches
ATTACH;FMTTYPE=image/jpeg:https://lrrc.ca/wp-content/uploads/2024/01/Indoor-Range-800-1.jpg
ORGANIZER;CN="LRRC":MAILTO:listowelgunclub@gmail.com
END:VEVENT
BEGIN:VEVENT
DTSTART;TZID=America/Toronto:20300113T100000
DTEND;TZID=America/Toronto:20300113T120000
DTSTAMP:20260421T040602
CREATED:20240514T183053Z
LAST-MODIFIED:20240514T183053Z
UID:10000789-1894528800-1894536000@lrrc.ca
SUMMARY:Indoor Sniper Match
DESCRIPTION:Indoor Sniper Match\nStart Time: 10:00 A.MCost: $5.00 per match \n\n\nRequires 22 rim fire rifles with iron sights or scopes to compete in iron sights or optic sight classes.\nRequires 40 rounds of ammo\nTargets are supplied and will be explained the day of the match.\nThe top 5 score average over the season determines the winner of the optic & iron classes for the season. Match winners in each class will be listed in the club newsletter.\nAll LRRC safety and range rules apply.
URL:https://lrrc.ca/event/indoor-sniper-match-2/2030-01-13/
LOCATION:Listowel Rifle & Revolver Club\, 8310 Rd 165\, Listowel\, Ontario\, N4W 3H2
CATEGORIES:Matches
ATTACH;FMTTYPE=image/jpeg:https://lrrc.ca/wp-content/uploads/2024/01/Indoor-Range-800-1.jpg
ORGANIZER;CN="LRRC":MAILTO:listowelgunclub@gmail.com
END:VEVENT
BEGIN:VEVENT
DTSTART;TZID=America/Toronto:20300210T100000
DTEND;TZID=America/Toronto:20300210T120000
DTSTAMP:20260421T040602
CREATED:20240514T183053Z
LAST-MODIFIED:20240514T183053Z
UID:10000790-1896948000-1896955200@lrrc.ca
SUMMARY:Indoor Sniper Match
DESCRIPTION:Indoor Sniper Match\nStart Time: 10:00 A.MCost: $5.00 per match \n\n\nRequires 22 rim fire rifles with iron sights or scopes to compete in iron sights or optic sight classes.\nRequires 40 rounds of ammo\nTargets are supplied and will be explained the day of the match.\nThe top 5 score average over the season determines the winner of the optic & iron classes for the season. Match winners in each class will be listed in the club newsletter.\nAll LRRC safety and range rules apply.
URL:https://lrrc.ca/event/indoor-sniper-match-2/2030-02-10/
LOCATION:Listowel Rifle & Revolver Club\, 8310 Rd 165\, Listowel\, Ontario\, N4W 3H2
CATEGORIES:Matches
ATTACH;FMTTYPE=image/jpeg:https://lrrc.ca/wp-content/uploads/2024/01/Indoor-Range-800-1.jpg
ORGANIZER;CN="LRRC":MAILTO:listowelgunclub@gmail.com
END:VEVENT
BEGIN:VEVENT
DTSTART;TZID=America/Toronto:20300310T100000
DTEND;TZID=America/Toronto:20300310T120000
DTSTAMP:20260421T040602
CREATED:20240514T183053Z
LAST-MODIFIED:20240514T183053Z
UID:10000791-1899367200-1899374400@lrrc.ca
SUMMARY:Indoor Sniper Match
DESCRIPTION:Indoor Sniper Match\nStart Time: 10:00 A.MCost: $5.00 per match \n\n\nRequires 22 rim fire rifles with iron sights or scopes to compete in iron sights or optic sight classes.\nRequires 40 rounds of ammo\nTargets are supplied and will be explained the day of the match.\nThe top 5 score average over the season determines the winner of the optic & iron classes for the season. Match winners in each class will be listed in the club newsletter.\nAll LRRC safety and range rules apply.
URL:https://lrrc.ca/event/indoor-sniper-match-2/2030-03-10/
LOCATION:Listowel Rifle & Revolver Club\, 8310 Rd 165\, Listowel\, Ontario\, N4W 3H2
CATEGORIES:Matches
ATTACH;FMTTYPE=image/jpeg:https://lrrc.ca/wp-content/uploads/2024/01/Indoor-Range-800-1.jpg
ORGANIZER;CN="LRRC":MAILTO:listowelgunclub@gmail.com
END:VEVENT
BEGIN:VEVENT
DTSTART;TZID=America/Toronto:20300414T100000
DTEND;TZID=America/Toronto:20300414T120000
DTSTAMP:20260421T040602
CREATED:20240514T183053Z
LAST-MODIFIED:20240514T183053Z
UID:10000792-1902391200-1902398400@lrrc.ca
SUMMARY:Indoor Sniper Match
DESCRIPTION:Indoor Sniper Match\nStart Time: 10:00 A.MCost: $5.00 per match \n\n\nRequires 22 rim fire rifles with iron sights or scopes to compete in iron sights or optic sight classes.\nRequires 40 rounds of ammo\nTargets are supplied and will be explained the day of the match.\nThe top 5 score average over the season determines the winner of the optic & iron classes for the season. Match winners in each class will be listed in the club newsletter.\nAll LRRC safety and range rules apply.
URL:https://lrrc.ca/event/indoor-sniper-match-2/2030-04-14/
LOCATION:Listowel Rifle & Revolver Club\, 8310 Rd 165\, Listowel\, Ontario\, N4W 3H2
CATEGORIES:Matches
ATTACH;FMTTYPE=image/jpeg:https://lrrc.ca/wp-content/uploads/2024/01/Indoor-Range-800-1.jpg
ORGANIZER;CN="LRRC":MAILTO:listowelgunclub@gmail.com
END:VEVENT
BEGIN:VEVENT
DTSTART;TZID=America/Toronto:20301110T100000
DTEND;TZID=America/Toronto:20301110T120000
DTSTAMP:20260421T040602
CREATED:20240514T183053Z
LAST-MODIFIED:20240514T183053Z
UID:10000793-1920535200-1920542400@lrrc.ca
SUMMARY:Indoor Sniper Match
DESCRIPTION:Indoor Sniper Match\nStart Time: 10:00 A.MCost: $5.00 per match \n\n\nRequires 22 rim fire rifles with iron sights or scopes to compete in iron sights or optic sight classes.\nRequires 40 rounds of ammo\nTargets are supplied and will be explained the day of the match.\nThe top 5 score average over the season determines the winner of the optic & iron classes for the season. Match winners in each class will be listed in the club newsletter.\nAll LRRC safety and range rules apply.
URL:https://lrrc.ca/event/indoor-sniper-match-2/2030-11-10/
LOCATION:Listowel Rifle & Revolver Club\, 8310 Rd 165\, Listowel\, Ontario\, N4W 3H2
CATEGORIES:Matches
ATTACH;FMTTYPE=image/jpeg:https://lrrc.ca/wp-content/uploads/2024/01/Indoor-Range-800-1.jpg
ORGANIZER;CN="LRRC":MAILTO:listowelgunclub@gmail.com
END:VEVENT
BEGIN:VEVENT
DTSTART;TZID=America/Toronto:20301208T100000
DTEND;TZID=America/Toronto:20301208T120000
DTSTAMP:20260421T040602
CREATED:20240514T183053Z
LAST-MODIFIED:20240514T183053Z
UID:10000794-1922954400-1922961600@lrrc.ca
SUMMARY:Indoor Sniper Match
DESCRIPTION:Indoor Sniper Match\nStart Time: 10:00 A.MCost: $5.00 per match \n\n\nRequires 22 rim fire rifles with iron sights or scopes to compete in iron sights or optic sight classes.\nRequires 40 rounds of ammo\nTargets are supplied and will be explained the day of the match.\nThe top 5 score average over the season determines the winner of the optic & iron classes for the season. Match winners in each class will be listed in the club newsletter.\nAll LRRC safety and range rules apply.
URL:https://lrrc.ca/event/indoor-sniper-match-2/2030-12-08/
LOCATION:Listowel Rifle & Revolver Club\, 8310 Rd 165\, Listowel\, Ontario\, N4W 3H2
CATEGORIES:Matches
ATTACH;FMTTYPE=image/jpeg:https://lrrc.ca/wp-content/uploads/2024/01/Indoor-Range-800-1.jpg
ORGANIZER;CN="LRRC":MAILTO:listowelgunclub@gmail.com
END:VEVENT
BEGIN:VEVENT
DTSTART;TZID=America/Toronto:20310112T100000
DTEND;TZID=America/Toronto:20310112T120000
DTSTAMP:20260421T040602
CREATED:20240514T183053Z
LAST-MODIFIED:20240514T183053Z
UID:10000800-1925978400-1925985600@lrrc.ca
SUMMARY:Indoor Sniper Match
DESCRIPTION:Indoor Sniper Match\nStart Time: 10:00 A.MCost: $5.00 per match \n\n\nRequires 22 rim fire rifles with iron sights or scopes to compete in iron sights or optic sight classes.\nRequires 40 rounds of ammo\nTargets are supplied and will be explained the day of the match.\nThe top 5 score average over the season determines the winner of the optic & iron classes for the season. Match winners in each class will be listed in the club newsletter.\nAll LRRC safety and range rules apply.
URL:https://lrrc.ca/event/indoor-sniper-match-2/2031-01-12/
LOCATION:Listowel Rifle & Revolver Club\, 8310 Rd 165\, Listowel\, Ontario\, N4W 3H2
CATEGORIES:Matches
ATTACH;FMTTYPE=image/jpeg:https://lrrc.ca/wp-content/uploads/2024/01/Indoor-Range-800-1.jpg
ORGANIZER;CN="LRRC":MAILTO:listowelgunclub@gmail.com
END:VEVENT
BEGIN:VEVENT
DTSTART;TZID=America/Toronto:20310209T100000
DTEND;TZID=America/Toronto:20310209T120000
DTSTAMP:20260421T040602
CREATED:20240514T183053Z
LAST-MODIFIED:20240514T183053Z
UID:10002053-1928397600-1928404800@lrrc.ca
SUMMARY:Indoor Sniper Match
DESCRIPTION:Indoor Sniper Match\nStart Time: 10:00 A.MCost: $5.00 per match \n\n\nRequires 22 rim fire rifles with iron sights or scopes to compete in iron sights or optic sight classes.\nRequires 40 rounds of ammo\nTargets are supplied and will be explained the day of the match.\nThe top 5 score average over the season determines the winner of the optic & iron classes for the season. Match winners in each class will be listed in the club newsletter.\nAll LRRC safety and range rules apply.
URL:https://lrrc.ca/event/indoor-sniper-match-2/2031-02-09/
LOCATION:Listowel Rifle & Revolver Club\, 8310 Rd 165\, Listowel\, Ontario\, N4W 3H2
CATEGORIES:Matches
ATTACH;FMTTYPE=image/jpeg:https://lrrc.ca/wp-content/uploads/2024/01/Indoor-Range-800-1.jpg
ORGANIZER;CN="LRRC":MAILTO:listowelgunclub@gmail.com
END:VEVENT
BEGIN:VEVENT
DTSTART;TZID=America/Toronto:20310309T100000
DTEND;TZID=America/Toronto:20310309T120000
DTSTAMP:20260421T040602
CREATED:20240514T183053Z
LAST-MODIFIED:20240514T183053Z
UID:10002054-1930816800-1930824000@lrrc.ca
SUMMARY:Indoor Sniper Match
DESCRIPTION:Indoor Sniper Match\nStart Time: 10:00 A.MCost: $5.00 per match \n\n\nRequires 22 rim fire rifles with iron sights or scopes to compete in iron sights or optic sight classes.\nRequires 40 rounds of ammo\nTargets are supplied and will be explained the day of the match.\nThe top 5 score average over the season determines the winner of the optic & iron classes for the season. Match winners in each class will be listed in the club newsletter.\nAll LRRC safety and range rules apply.
URL:https://lrrc.ca/event/indoor-sniper-match-2/2031-03-09/
LOCATION:Listowel Rifle & Revolver Club\, 8310 Rd 165\, Listowel\, Ontario\, N4W 3H2
CATEGORIES:Matches
ATTACH;FMTTYPE=image/jpeg:https://lrrc.ca/wp-content/uploads/2024/01/Indoor-Range-800-1.jpg
ORGANIZER;CN="LRRC":MAILTO:listowelgunclub@gmail.com
END:VEVENT
BEGIN:VEVENT
DTSTART;TZID=America/Toronto:20310413T100000
DTEND;TZID=America/Toronto:20310413T120000
DTSTAMP:20260421T040602
CREATED:20240514T183053Z
LAST-MODIFIED:20240514T183053Z
UID:10002056-1933840800-1933848000@lrrc.ca
SUMMARY:Indoor Sniper Match
DESCRIPTION:Indoor Sniper Match\nStart Time: 10:00 A.MCost: $5.00 per match \n\n\nRequires 22 rim fire rifles with iron sights or scopes to compete in iron sights or optic sight classes.\nRequires 40 rounds of ammo\nTargets are supplied and will be explained the day of the match.\nThe top 5 score average over the season determines the winner of the optic & iron classes for the season. Match winners in each class will be listed in the club newsletter.\nAll LRRC safety and range rules apply.
URL:https://lrrc.ca/event/indoor-sniper-match-2/2031-04-13/
LOCATION:Listowel Rifle & Revolver Club\, 8310 Rd 165\, Listowel\, Ontario\, N4W 3H2
CATEGORIES:Matches
ATTACH;FMTTYPE=image/jpeg:https://lrrc.ca/wp-content/uploads/2024/01/Indoor-Range-800-1.jpg
ORGANIZER;CN="LRRC":MAILTO:listowelgunclub@gmail.com
END:VEVENT
END:VCALENDAR