BEGIN:VCALENDAR
VERSION:2.0
PRODID:-//Listowel Rifle &amp; Revolver Club - ECPv6.15.20//NONSGML v1.0//EN
CALSCALE:GREGORIAN
METHOD:PUBLISH
X-WR-CALNAME:Listowel Rifle &amp; Revolver Club
X-ORIGINAL-URL:https://lrrc.ca
X-WR-CALDESC:Events for Listowel Rifle &amp; Revolver Club
REFRESH-INTERVAL;VALUE=DURATION:PT1H
X-Robots-Tag:noindex
X-PUBLISHED-TTL:PT1H
BEGIN:VTIMEZONE
TZID:America/Toronto
BEGIN:DAYLIGHT
TZOFFSETFROM:-0500
TZOFFSETTO:-0400
TZNAME:EDT
DTSTART:20250309T070000
END:DAYLIGHT
BEGIN:STANDARD
TZOFFSETFROM:-0400
TZOFFSETTO:-0500
TZNAME:EST
DTSTART:20251102T060000
END:STANDARD
BEGIN:DAYLIGHT
TZOFFSETFROM:-0500
TZOFFSETTO:-0400
TZNAME:EDT
DTSTART:20260308T070000
END:DAYLIGHT
BEGIN:STANDARD
TZOFFSETFROM:-0400
TZOFFSETTO:-0500
TZNAME:EST
DTSTART:20261101T060000
END:STANDARD
BEGIN:DAYLIGHT
TZOFFSETFROM:-0500
TZOFFSETTO:-0400
TZNAME:EDT
DTSTART:20270314T070000
END:DAYLIGHT
BEGIN:STANDARD
TZOFFSETFROM:-0400
TZOFFSETTO:-0500
TZNAME:EST
DTSTART:20271107T060000
END:STANDARD
BEGIN:DAYLIGHT
TZOFFSETFROM:-0500
TZOFFSETTO:-0400
TZNAME:EDT
DTSTART:20280312T070000
END:DAYLIGHT
BEGIN:STANDARD
TZOFFSETFROM:-0400
TZOFFSETTO:-0500
TZNAME:EST
DTSTART:20281105T060000
END:STANDARD
BEGIN:DAYLIGHT
TZOFFSETFROM:-0500
TZOFFSETTO:-0400
TZNAME:EDT
DTSTART:20290311T070000
END:DAYLIGHT
BEGIN:STANDARD
TZOFFSETFROM:-0400
TZOFFSETTO:-0500
TZNAME:EST
DTSTART:20291104T060000
END:STANDARD
BEGIN:DAYLIGHT
TZOFFSETFROM:-0500
TZOFFSETTO:-0400
TZNAME:EDT
DTSTART:20300310T070000
END:DAYLIGHT
BEGIN:STANDARD
TZOFFSETFROM:-0400
TZOFFSETTO:-0500
TZNAME:EST
DTSTART:20301103T060000
END:STANDARD
BEGIN:DAYLIGHT
TZOFFSETFROM:-0500
TZOFFSETTO:-0400
TZNAME:EDT
DTSTART:20310309T070000
END:DAYLIGHT
BEGIN:STANDARD
TZOFFSETFROM:-0400
TZOFFSETTO:-0500
TZNAME:EST
DTSTART:20311102T060000
END:STANDARD
END:VTIMEZONE
BEGIN:VEVENT
DTSTART;TZID=America/Toronto:20260822T090000
DTEND;TZID=America/Toronto:20260822T130000
DTSTAMP:20260420T165401
CREATED:20260113T010229Z
LAST-MODIFIED:20260116T181149Z
UID:10002048-1787389200-1787403600@lrrc.ca
SUMMARY:BLACK POWDER RIFLE & HANDGUN MATCH
DESCRIPTION:BLACK POWDER RIFLE & HANDGUN MATCH\nMatch to be shot on the outdoor handgun range starting at 9:00 a.m.\nA fee of $10.00 is charged with no charge for reshoots. \n\nThis is a combination match using muzzle loading rifles and handguns.\nApproximately 8 – 10 targets will be used with 5 shots per target.\nAll targets are shot offhand (no rests) at 25 yards.\nThe match will require approximately 25 rounds for rifle and 25 rounds for handgun.\nFor more details contact the rifle committee chairman.\nThere is a $10.00 match fee that includes a BBQ lunch.\nMatch winners will be listed in the club newsletter.\nAll LRRC safety and range rules apply.
URL:https://lrrc.ca/event/black-powder-rifle-handgun-match/2026-08-22/
CATEGORIES:Matches
ORGANIZER;CN="LRRC":MAILTO:listowelgunclub@gmail.com
END:VEVENT
BEGIN:VEVENT
DTSTART;TZID=America/Toronto:20270828T090000
DTEND;TZID=America/Toronto:20270828T130000
DTSTAMP:20260420T165401
CREATED:20260113T010229Z
LAST-MODIFIED:20260116T181149Z
UID:10002049-1819443600-1819458000@lrrc.ca
SUMMARY:BLACK POWDER RIFLE & HANDGUN MATCH
DESCRIPTION:BLACK POWDER RIFLE & HANDGUN MATCH\nMatch to be shot on the outdoor handgun range starting at 9:00 a.m.\nA fee of $10.00 is charged with no charge for reshoots. \n\nThis is a combination match using muzzle loading rifles and handguns.\nApproximately 8 – 10 targets will be used with 5 shots per target.\nAll targets are shot offhand (no rests) at 25 yards.\nThe match will require approximately 25 rounds for rifle and 25 rounds for handgun.\nFor more details contact the rifle committee chairman.\nThere is a $10.00 match fee that includes a BBQ lunch.\nMatch winners will be listed in the club newsletter.\nAll LRRC safety and range rules apply.
URL:https://lrrc.ca/event/black-powder-rifle-handgun-match/2027-08-28/
CATEGORIES:Matches
ORGANIZER;CN="LRRC":MAILTO:listowelgunclub@gmail.com
END:VEVENT
BEGIN:VEVENT
DTSTART;TZID=America/Toronto:20280826T090000
DTEND;TZID=America/Toronto:20280826T130000
DTSTAMP:20260420T165401
CREATED:20260113T010229Z
LAST-MODIFIED:20260116T181149Z
UID:10002050-1850893200-1850907600@lrrc.ca
SUMMARY:BLACK POWDER RIFLE & HANDGUN MATCH
DESCRIPTION:BLACK POWDER RIFLE & HANDGUN MATCH\nMatch to be shot on the outdoor handgun range starting at 9:00 a.m.\nA fee of $10.00 is charged with no charge for reshoots. \n\nThis is a combination match using muzzle loading rifles and handguns.\nApproximately 8 – 10 targets will be used with 5 shots per target.\nAll targets are shot offhand (no rests) at 25 yards.\nThe match will require approximately 25 rounds for rifle and 25 rounds for handgun.\nFor more details contact the rifle committee chairman.\nThere is a $10.00 match fee that includes a BBQ lunch.\nMatch winners will be listed in the club newsletter.\nAll LRRC safety and range rules apply.
URL:https://lrrc.ca/event/black-powder-rifle-handgun-match/2028-08-26/
CATEGORIES:Matches
ORGANIZER;CN="LRRC":MAILTO:listowelgunclub@gmail.com
END:VEVENT
BEGIN:VEVENT
DTSTART;TZID=America/Toronto:20290825T090000
DTEND;TZID=America/Toronto:20290825T130000
DTSTAMP:20260420T165401
CREATED:20260113T010229Z
LAST-MODIFIED:20260116T181149Z
UID:10002051-1882342800-1882357200@lrrc.ca
SUMMARY:BLACK POWDER RIFLE & HANDGUN MATCH
DESCRIPTION:BLACK POWDER RIFLE & HANDGUN MATCH\nMatch to be shot on the outdoor handgun range starting at 9:00 a.m.\nA fee of $10.00 is charged with no charge for reshoots. \n\nThis is a combination match using muzzle loading rifles and handguns.\nApproximately 8 – 10 targets will be used with 5 shots per target.\nAll targets are shot offhand (no rests) at 25 yards.\nThe match will require approximately 25 rounds for rifle and 25 rounds for handgun.\nFor more details contact the rifle committee chairman.\nThere is a $10.00 match fee that includes a BBQ lunch.\nMatch winners will be listed in the club newsletter.\nAll LRRC safety and range rules apply.
URL:https://lrrc.ca/event/black-powder-rifle-handgun-match/2029-08-25/
CATEGORIES:Matches
ORGANIZER;CN="LRRC":MAILTO:listowelgunclub@gmail.com
END:VEVENT
BEGIN:VEVENT
DTSTART;TZID=America/Toronto:20300824T090000
DTEND;TZID=America/Toronto:20300824T130000
DTSTAMP:20260420T165401
CREATED:20260113T010229Z
LAST-MODIFIED:20260116T181149Z
UID:10002052-1913792400-1913806800@lrrc.ca
SUMMARY:BLACK POWDER RIFLE & HANDGUN MATCH
DESCRIPTION:BLACK POWDER RIFLE & HANDGUN MATCH\nMatch to be shot on the outdoor handgun range starting at 9:00 a.m.\nA fee of $10.00 is charged with no charge for reshoots. \n\nThis is a combination match using muzzle loading rifles and handguns.\nApproximately 8 – 10 targets will be used with 5 shots per target.\nAll targets are shot offhand (no rests) at 25 yards.\nThe match will require approximately 25 rounds for rifle and 25 rounds for handgun.\nFor more details contact the rifle committee chairman.\nThere is a $10.00 match fee that includes a BBQ lunch.\nMatch winners will be listed in the club newsletter.\nAll LRRC safety and range rules apply.
URL:https://lrrc.ca/event/black-powder-rifle-handgun-match/2030-08-24/
CATEGORIES:Matches
ORGANIZER;CN="LRRC":MAILTO:listowelgunclub@gmail.com
END:VEVENT
END:VCALENDAR