BEGIN:VCALENDAR
VERSION:2.0
PRODID:-//Listowel Rifle &amp; Revolver Club - ECPv6.15.20//NONSGML v1.0//EN
CALSCALE:GREGORIAN
METHOD:PUBLISH
X-WR-CALNAME:Listowel Rifle &amp; Revolver Club
X-ORIGINAL-URL:https://lrrc.ca
X-WR-CALDESC:Events for Listowel Rifle &amp; Revolver Club
REFRESH-INTERVAL;VALUE=DURATION:PT1H
X-Robots-Tag:noindex
X-PUBLISHED-TTL:PT1H
BEGIN:VTIMEZONE
TZID:America/Toronto
BEGIN:DAYLIGHT
TZOFFSETFROM:-0500
TZOFFSETTO:-0400
TZNAME:EDT
DTSTART:20250309T070000
END:DAYLIGHT
BEGIN:STANDARD
TZOFFSETFROM:-0400
TZOFFSETTO:-0500
TZNAME:EST
DTSTART:20251102T060000
END:STANDARD
BEGIN:DAYLIGHT
TZOFFSETFROM:-0500
TZOFFSETTO:-0400
TZNAME:EDT
DTSTART:20260308T070000
END:DAYLIGHT
BEGIN:STANDARD
TZOFFSETFROM:-0400
TZOFFSETTO:-0500
TZNAME:EST
DTSTART:20261101T060000
END:STANDARD
BEGIN:DAYLIGHT
TZOFFSETFROM:-0500
TZOFFSETTO:-0400
TZNAME:EDT
DTSTART:20270314T070000
END:DAYLIGHT
BEGIN:STANDARD
TZOFFSETFROM:-0400
TZOFFSETTO:-0500
TZNAME:EST
DTSTART:20271107T060000
END:STANDARD
BEGIN:DAYLIGHT
TZOFFSETFROM:-0500
TZOFFSETTO:-0400
TZNAME:EDT
DTSTART:20280312T070000
END:DAYLIGHT
BEGIN:STANDARD
TZOFFSETFROM:-0400
TZOFFSETTO:-0500
TZNAME:EST
DTSTART:20281105T060000
END:STANDARD
END:VTIMEZONE
BEGIN:VEVENT
DTSTART;TZID=America/Toronto:20260530T090000
DTEND;TZID=America/Toronto:20260530T130000
DTSTAMP:20260420T055713
CREATED:20260113T005933Z
LAST-MODIFIED:20260116T180819Z
UID:10002046-1780131600-1780146000@lrrc.ca
SUMMARY:BLACK POWDER RIFLE MATCH
DESCRIPTION:BLACK POWDER RIFLE MATCH\n\nThis match is open to any muzzle loading rifle.\nApproximately 5-6 targets are used for a steel gong.\nEach target will require 2-5 shots.\nTargets are shot at 50-100 yards with various shooting positions.\nThe match will require approximately 30 rounds.\nFor more details\, please contact the rifle committee chairman.\nThere is a $10.00 match fee which includes a BBQ lunch.
URL:https://lrrc.ca/event/black-powder-rifle-match/2026-05-30/
CATEGORIES:Matches
END:VEVENT
BEGIN:VEVENT
DTSTART;TZID=America/Toronto:20270529T090000
DTEND;TZID=America/Toronto:20270529T130000
DTSTAMP:20260420T055713
CREATED:20260113T005933Z
LAST-MODIFIED:20260116T180819Z
UID:10002047-1811581200-1811595600@lrrc.ca
SUMMARY:BLACK POWDER RIFLE MATCH
DESCRIPTION:BLACK POWDER RIFLE MATCH\n\nThis match is open to any muzzle loading rifle.\nApproximately 5-6 targets are used for a steel gong.\nEach target will require 2-5 shots.\nTargets are shot at 50-100 yards with various shooting positions.\nThe match will require approximately 30 rounds.\nFor more details\, please contact the rifle committee chairman.\nThere is a $10.00 match fee which includes a BBQ lunch.
URL:https://lrrc.ca/event/black-powder-rifle-match/2027-05-29/
CATEGORIES:Matches
END:VEVENT
END:VCALENDAR