BEGIN:VCALENDAR
VERSION:2.0
PRODID:-//Listowel Rifle &amp; Revolver Club - ECPv6.15.20//NONSGML v1.0//EN
CALSCALE:GREGORIAN
METHOD:PUBLISH
X-WR-CALNAME:Listowel Rifle &amp; Revolver Club
X-ORIGINAL-URL:https://lrrc.ca
X-WR-CALDESC:Events for Listowel Rifle &amp; Revolver Club
REFRESH-INTERVAL;VALUE=DURATION:PT1H
X-Robots-Tag:noindex
X-PUBLISHED-TTL:PT1H
BEGIN:VTIMEZONE
TZID:America/Toronto
BEGIN:DAYLIGHT
TZOFFSETFROM:-0500
TZOFFSETTO:-0400
TZNAME:EDT
DTSTART:20240310T070000
END:DAYLIGHT
BEGIN:STANDARD
TZOFFSETFROM:-0400
TZOFFSETTO:-0500
TZNAME:EST
DTSTART:20241103T060000
END:STANDARD
BEGIN:DAYLIGHT
TZOFFSETFROM:-0500
TZOFFSETTO:-0400
TZNAME:EDT
DTSTART:20250309T070000
END:DAYLIGHT
BEGIN:STANDARD
TZOFFSETFROM:-0400
TZOFFSETTO:-0500
TZNAME:EST
DTSTART:20251102T060000
END:STANDARD
BEGIN:DAYLIGHT
TZOFFSETFROM:-0500
TZOFFSETTO:-0400
TZNAME:EDT
DTSTART:20260308T070000
END:DAYLIGHT
BEGIN:STANDARD
TZOFFSETFROM:-0400
TZOFFSETTO:-0500
TZNAME:EST
DTSTART:20261101T060000
END:STANDARD
END:VTIMEZONE
BEGIN:VEVENT
DTSTART;TZID=America/Toronto:20250524T090000
DTEND;TZID=America/Toronto:20250524T130000
DTSTAMP:20260422T204531
CREATED:20240216T223521Z
LAST-MODIFIED:20250413T210653Z
UID:10000688-1748077200-1748091600@lrrc.ca
SUMMARY:Prohibited Handgun Match
DESCRIPTION:Prohibited Handgun Match\nMatch will be shot on the outdoor handgun range starting at 9:00 a.m.A fee of $10.00 is charged with no charge for reshoots. \n\nMatch to be shot with Prohibited Center Fire Handguns.\nEach match requires approximately 30 – 40 rounds.\nTargets are supplied and will be explained the day of the match.\nA fee of $10.00 is charged with no charge for reshoots.\nA BBQ lunch provided after the match is included in the fee.\nMatch winners will be listed in the club newsletter.\nAll LRRC safety and range rules apply.
URL:https://lrrc.ca/event/prohibited-handgun-match/
LOCATION:Listowel Rifle & Revolver Club\, 8310 Rd 165\, Listowel\, Ontario\, N4W 3H2
CATEGORIES:Matches
ATTACH;FMTTYPE=image/jpeg:https://lrrc.ca/wp-content/uploads/2024/01/25-yard-PPC-range-handgun-rifle-800.jpg
ORGANIZER;CN="LRRC":MAILTO:listowelgunclub@gmail.com
END:VEVENT
BEGIN:VEVENT
DTSTART;VALUE=DATE:20250518
DTEND;VALUE=DATE:20250519
DTSTAMP:20260422T204531
CREATED:20240122T172924Z
LAST-MODIFIED:20240123T053658Z
UID:10000169-1747526400-1747609199@lrrc.ca
SUMMARY:Shotgun Sunday - Skeet Shooting
DESCRIPTION:Shotgun Sunday – Skeet Shooting\nStarting at 10am (EST) \nTRAP-SKEET & SPORTING CLAY SAFETY RULES\n\nOutdoor rifle/handgun and/or shotgun ranges cannot be operated at the same time.\nRecommend two persons on the range during shooting.\nRecommend a range officer be appointed for all functions.\nObey all range commands that are given by the range officer.\nAssume every firearm is loaded until you prove it safe.\nThe action of the firearm must remain open at all times until it is your turn to shoot.\nDo not load the firearm until you are on the shooting pad/shooting stall.\nControl the muzzle of the firearm at all times.\nKeep the muzzle of the firearm downrange when loading.\nIn the case of an ammunition malfunction\, control the muzzle downrange and wait 60 seconds prior to removing the shell.\nDo not load any shells larger than 12 GA. 3¼ dram\, or shot size larger than 7½.\nLoad no more than 2 shells for skeet stations 1 through 7\, trap or sporting clay doubles\, load no more than one shell for skeet station 8 or trap and sporting clay singles.\nDo not walk onto the field to retrieve spent hulls while others are preparing to shoot.\nDo not walk in front of the skeet low house chute\, trap house\, or sporting clay target thrower while the release button is in the hands of the thrower operator.\nAlways wear proper eye and ear protection while shooting or acting as a spectator in close proximity to the shooting stations.\nDo not distract others by walking off shooting pad/line while others are shooting or preparing to shoot.
URL:https://lrrc.ca/event/shotgun-sunday-skeet-shooting/2025-05-18/
LOCATION:Listowel Rifle & Revolver Club\, 8310 Rd 165\, Listowel\, Ontario\, N4W 3H2
CATEGORIES:Skeet Shooting
ATTACH;FMTTYPE=image/jpeg:https://lrrc.ca/wp-content/uploads/2024/01/LRRC-img.jpg
ORGANIZER;CN="LRRC":MAILTO:listowelgunclub@gmail.com
END:VEVENT
BEGIN:VEVENT
DTSTART;VALUE=DATE:20250511
DTEND;VALUE=DATE:20250512
DTSTAMP:20260422T204531
CREATED:20240122T032535Z
LAST-MODIFIED:20240123T053829Z
UID:10000299-1746921600-1747007999@lrrc.ca
SUMMARY:Shotgun Sunday - Trap Shooting
DESCRIPTION:Shotgun Sunday – Trap Shooting\nStarting at 10am (EST) \nTRAP-SKEET & SPORTING CLAY SAFETY RULES\n\nOutdoor rifle/handgun and/or shotgun ranges cannot be operated at the same time.\nRecommend two persons on the range during shooting.\nRecommend a range officer be appointed for all functions.\nObey all range commands that are given by the range officer.\nAssume every firearm is loaded until you prove it safe.\nThe action of the firearm must remain open at all times until it is your turn to shoot.\nDo not load the firearm until you are on the shooting pad/shooting stall.\nControl the muzzle of the firearm at all times.\nKeep the muzzle of the firearm downrange when loading.\nIn the case of an ammunition malfunction\, control the muzzle downrange and wait 60 seconds prior to removing the shell.\nDo not load any shells larger than 12 GA. 3¼ dram\, or shot size larger than 7½.\nLoad no more than 2 shells for skeet stations 1 through 7\, trap or sporting clay doubles\, load no more than one shell for skeet station 8 or trap and sporting clay singles.\nDo not walk onto the field to retrieve spent hulls while others are preparing to shoot.\nDo not walk in front of the skeet low house chute\, trap house\, or sporting clay target thrower while the release button is in the hands of the thrower operator.\nAlways wear proper eye and ear protection while shooting or acting as a spectator in close proximity to the shooting stations.\nDo not distract others by walking off shooting pad/line while others are shooting or preparing to shoot.
URL:https://lrrc.ca/event/shotgun-sunday-trap-shooting/2025-05-11/
LOCATION:Listowel Rifle & Revolver Club\, 8310 Rd 165\, Listowel\, Ontario\, N4W 3H2
CATEGORIES:Trap Shooting
ATTACH;FMTTYPE=image/jpeg:https://lrrc.ca/wp-content/uploads/2024/01/skeet-shooting-trap-shooting-800-2.jpg
ORGANIZER;CN="LRRC":MAILTO:listowelgunclub@gmail.com
END:VEVENT
BEGIN:VEVENT
DTSTART;TZID=America/Toronto:20250510T090000
DTEND;TZID=America/Toronto:20250510T130000
DTSTAMP:20260422T204531
CREATED:20240216T213848Z
LAST-MODIFIED:20250413T210527Z
UID:10000683-1746867600-1746882000@lrrc.ca
SUMMARY:Varmint Shoot
DESCRIPTION:Varmint Shoot\nStart Time: 9 AMA fee of $10.00 is charged with no charge for reshoots. \n\nMatches are shot at 9:00 a.m. on the outdoor rifle range at 60 yards in prone position.\nYou may use your own bipod or the club will supply a front rest for your rifle.\nRequires either a 22 rim fire or 22 Mag rim fire rifle with scope.\nRequires 35 – 40 rounds plus sighters for each match.\nTargets are supplied and will be explained the day of the match.\nA BBQ lunch provided after the match is included in the fee.\nMatch winners will be listed in the club newsletter.\nAll LRRC safety and range rules apply.
URL:https://lrrc.ca/event/varmint-shoot/
LOCATION:Listowel Rifle & Revolver Club\, 8310 Rd 165\, Listowel\, Ontario\, N4W 3H2
CATEGORIES:Matches
ATTACH;FMTTYPE=image/jpeg:https://lrrc.ca/wp-content/uploads/2024/01/Rifle-Range-100-200-800-2.jpg
ORGANIZER;CN="LRRC":MAILTO:listowelgunclub@gmail.com
END:VEVENT
BEGIN:VEVENT
DTSTART;VALUE=DATE:20250504
DTEND;VALUE=DATE:20250505
DTSTAMP:20260422T204531
CREATED:20240122T172924Z
LAST-MODIFIED:20240123T053658Z
UID:10000168-1746316800-1746399599@lrrc.ca
SUMMARY:Shotgun Sunday - Skeet Shooting
DESCRIPTION:Shotgun Sunday – Skeet Shooting\nStarting at 10am (EST) \nTRAP-SKEET & SPORTING CLAY SAFETY RULES\n\nOutdoor rifle/handgun and/or shotgun ranges cannot be operated at the same time.\nRecommend two persons on the range during shooting.\nRecommend a range officer be appointed for all functions.\nObey all range commands that are given by the range officer.\nAssume every firearm is loaded until you prove it safe.\nThe action of the firearm must remain open at all times until it is your turn to shoot.\nDo not load the firearm until you are on the shooting pad/shooting stall.\nControl the muzzle of the firearm at all times.\nKeep the muzzle of the firearm downrange when loading.\nIn the case of an ammunition malfunction\, control the muzzle downrange and wait 60 seconds prior to removing the shell.\nDo not load any shells larger than 12 GA. 3¼ dram\, or shot size larger than 7½.\nLoad no more than 2 shells for skeet stations 1 through 7\, trap or sporting clay doubles\, load no more than one shell for skeet station 8 or trap and sporting clay singles.\nDo not walk onto the field to retrieve spent hulls while others are preparing to shoot.\nDo not walk in front of the skeet low house chute\, trap house\, or sporting clay target thrower while the release button is in the hands of the thrower operator.\nAlways wear proper eye and ear protection while shooting or acting as a spectator in close proximity to the shooting stations.\nDo not distract others by walking off shooting pad/line while others are shooting or preparing to shoot.
URL:https://lrrc.ca/event/shotgun-sunday-skeet-shooting/2025-05-04/
LOCATION:Listowel Rifle & Revolver Club\, 8310 Rd 165\, Listowel\, Ontario\, N4W 3H2
CATEGORIES:Skeet Shooting
ATTACH;FMTTYPE=image/jpeg:https://lrrc.ca/wp-content/uploads/2024/01/LRRC-img.jpg
ORGANIZER;CN="LRRC":MAILTO:listowelgunclub@gmail.com
END:VEVENT
BEGIN:VEVENT
DTSTART;VALUE=DATE:20250427
DTEND;VALUE=DATE:20250428
DTSTAMP:20260422T204531
CREATED:20240122T032535Z
LAST-MODIFIED:20240123T053829Z
UID:10000298-1745712000-1745798399@lrrc.ca
SUMMARY:Shotgun Sunday - Trap Shooting
DESCRIPTION:Shotgun Sunday – Trap Shooting\nStarting at 10am (EST) \nTRAP-SKEET & SPORTING CLAY SAFETY RULES\n\nOutdoor rifle/handgun and/or shotgun ranges cannot be operated at the same time.\nRecommend two persons on the range during shooting.\nRecommend a range officer be appointed for all functions.\nObey all range commands that are given by the range officer.\nAssume every firearm is loaded until you prove it safe.\nThe action of the firearm must remain open at all times until it is your turn to shoot.\nDo not load the firearm until you are on the shooting pad/shooting stall.\nControl the muzzle of the firearm at all times.\nKeep the muzzle of the firearm downrange when loading.\nIn the case of an ammunition malfunction\, control the muzzle downrange and wait 60 seconds prior to removing the shell.\nDo not load any shells larger than 12 GA. 3¼ dram\, or shot size larger than 7½.\nLoad no more than 2 shells for skeet stations 1 through 7\, trap or sporting clay doubles\, load no more than one shell for skeet station 8 or trap and sporting clay singles.\nDo not walk onto the field to retrieve spent hulls while others are preparing to shoot.\nDo not walk in front of the skeet low house chute\, trap house\, or sporting clay target thrower while the release button is in the hands of the thrower operator.\nAlways wear proper eye and ear protection while shooting or acting as a spectator in close proximity to the shooting stations.\nDo not distract others by walking off shooting pad/line while others are shooting or preparing to shoot.
URL:https://lrrc.ca/event/shotgun-sunday-trap-shooting/2025-04-27/
LOCATION:Listowel Rifle & Revolver Club\, 8310 Rd 165\, Listowel\, Ontario\, N4W 3H2
CATEGORIES:Trap Shooting
ATTACH;FMTTYPE=image/jpeg:https://lrrc.ca/wp-content/uploads/2024/01/skeet-shooting-trap-shooting-800-2.jpg
ORGANIZER;CN="LRRC":MAILTO:listowelgunclub@gmail.com
END:VEVENT
BEGIN:VEVENT
DTSTART;TZID=America/Toronto:20250426T090000
DTEND;TZID=America/Toronto:20250426T150000
DTSTAMP:20260422T204531
CREATED:20240216T213045Z
LAST-MODIFIED:20240514T182408Z
UID:10000487-1745658000-1745679600@lrrc.ca
SUMMARY:Outdoor Sniper Match
DESCRIPTION:Outdoor Sniper Match\nThis match is held twice per year on the last Saturday of April and September starting at 9:00 a.m. \nFees are $40.00 for first match\, with a $10.00 per reshoot fee and no limit on the number of reshoots. \n\nSniper matches are open to members in good standing from other clubs as guests.\nMatches are shot at 100 & 200 yards with sighter targets available.\nMatches are shot from our benches with front rest as supplied only.\nA time limit applies to each match.\nRequires a 22 cal center fire or larger rifle with scope (suggested minimum 12 power).\nRequires 25 – 30 rounds of ammo per match.\nTargets\, rules and prizes will be explained on the day of the match.\nMatch will break at noon for a BBQ included in fee.\nAll LRRC safety and range rules apply.
URL:https://lrrc.ca/event/outdoor-sniper-match/2025-04-26/
LOCATION:Listowel Rifle & Revolver Club\, 8310 Rd 165\, Listowel\, Ontario\, N4W 3H2
CATEGORIES:Matches
ATTACH;FMTTYPE=image/jpeg:https://lrrc.ca/wp-content/uploads/2024/01/Rifle-Range-100-200-800-2.jpg
ORGANIZER;CN="LRRC":MAILTO:listowelgunclub@gmail.com
END:VEVENT
END:VCALENDAR