BEGIN:VCALENDAR
VERSION:2.0
PRODID:-//Listowel Rifle &amp; Revolver Club - ECPv6.15.20//NONSGML v1.0//EN
CALSCALE:GREGORIAN
METHOD:PUBLISH
X-WR-CALNAME:Listowel Rifle &amp; Revolver Club
X-ORIGINAL-URL:https://lrrc.ca
X-WR-CALDESC:Events for Listowel Rifle &amp; Revolver Club
REFRESH-INTERVAL;VALUE=DURATION:PT1H
X-Robots-Tag:noindex
X-PUBLISHED-TTL:PT1H
BEGIN:VTIMEZONE
TZID:America/Toronto
BEGIN:DAYLIGHT
TZOFFSETFROM:-0500
TZOFFSETTO:-0400
TZNAME:EDT
DTSTART:20250309T070000
END:DAYLIGHT
BEGIN:STANDARD
TZOFFSETFROM:-0400
TZOFFSETTO:-0500
TZNAME:EST
DTSTART:20251102T060000
END:STANDARD
BEGIN:DAYLIGHT
TZOFFSETFROM:-0500
TZOFFSETTO:-0400
TZNAME:EDT
DTSTART:20260308T070000
END:DAYLIGHT
BEGIN:STANDARD
TZOFFSETFROM:-0400
TZOFFSETTO:-0500
TZNAME:EST
DTSTART:20261101T060000
END:STANDARD
BEGIN:DAYLIGHT
TZOFFSETFROM:-0500
TZOFFSETTO:-0400
TZNAME:EDT
DTSTART:20270314T070000
END:DAYLIGHT
BEGIN:STANDARD
TZOFFSETFROM:-0400
TZOFFSETTO:-0500
TZNAME:EST
DTSTART:20271107T060000
END:STANDARD
END:VTIMEZONE
BEGIN:VEVENT
DTSTART;TZID=America/Toronto:20260426T100000
DTEND;TZID=America/Toronto:20260426T130000
DTSTAMP:20260420T014743
CREATED:20260112T213443Z
LAST-MODIFIED:20260112T213635Z
UID:10000938-1777197600-1777208400@lrrc.ca
SUMMARY:Shotgun Sunday - Trap Shooting
DESCRIPTION:Shotgun Sunday – Trap Shooting\n10am – 1pm (EST) \nRIFLE RANGE IS CLOSED WHILE THIS MATCH IS ON! \nSUMMER – ALTERNATING WEEKS FOR TRAP AND SKEET\nWINTER – FUR AND FEATHER – WEATHER PERMITTING \nCONTACT BILL HARPER 705-527-3227 OR SCOTT REA 519-215-0693 \nTRAP-SKEET & SPORTING CLAY SAFETY RULES\n\nOutdoor rifle/handgun and/or shotgun ranges cannot be operated at the same time.\nRecommend two persons on the range during shooting.\nRecommend a range officer be appointed for all functions.\nObey all range commands that are given by the range officer.\nAssume every firearm is loaded until you prove it safe.\nThe action of the firearm must remain open at all times until it is your turn to shoot.\nDo not load the firearm until you are on the shooting pad/shooting stall.\nControl the muzzle of the firearm at all times.\nKeep the muzzle of the firearm downrange when loading.\nIn the case of an ammunition malfunction\, control the muzzle downrange and wait 60 seconds prior to removing the shell.\nDo not load any shells larger than 12 GA. 3¼ dram\, or shot size larger than 7½.\nLoad no more than 2 shells for skeet stations 1 through 7\, trap or sporting clay doubles\, load no more than one shell for skeet station 8 or trap and sporting clay singles.\nDo not walk onto the field to retrieve spent hulls while others are preparing to shoot.\nDo not walk in front of the skeet low house chute\, trap house\, or sporting clay target thrower while the release button is in the hands of the thrower operator.\nAlways wear proper eye and ear protection while shooting or acting as a spectator in close proximity to the shooting stations.\nDo not distract others by walking off shooting pad/line while others are shooting or preparing to shoot.
URL:https://lrrc.ca/event/shotgun-sunday-trap-shooting-2/2026-04-26/
LOCATION:Listowel Rifle & Revolver Club\, 8310 Rd 165\, Listowel\, Ontario\, N4W 3H2
CATEGORIES:Trap Shooting
ATTACH;FMTTYPE=image/jpeg:https://lrrc.ca/wp-content/uploads/2024/01/skeet-shooting-trap-shooting-800-2.jpg
ORGANIZER;CN="LRRC":MAILTO:listowelgunclub@gmail.com
END:VEVENT
END:VCALENDAR