BEGIN:VCALENDAR
VERSION:2.0
PRODID:-//Listowel Rifle &amp; Revolver Club - ECPv6.15.20//NONSGML v1.0//EN
CALSCALE:GREGORIAN
METHOD:PUBLISH
X-WR-CALNAME:Listowel Rifle &amp; Revolver Club
X-ORIGINAL-URL:https://lrrc.ca
X-WR-CALDESC:Events for Listowel Rifle &amp; Revolver Club
REFRESH-INTERVAL;VALUE=DURATION:PT1H
X-Robots-Tag:noindex
X-PUBLISHED-TTL:PT1H
BEGIN:VTIMEZONE
TZID:America/Toronto
BEGIN:DAYLIGHT
TZOFFSETFROM:-0500
TZOFFSETTO:-0400
TZNAME:EDT
DTSTART:20260308T070000
END:DAYLIGHT
BEGIN:STANDARD
TZOFFSETFROM:-0400
TZOFFSETTO:-0500
TZNAME:EST
DTSTART:20261101T060000
END:STANDARD
BEGIN:DAYLIGHT
TZOFFSETFROM:-0500
TZOFFSETTO:-0400
TZNAME:EDT
DTSTART:20270314T070000
END:DAYLIGHT
BEGIN:STANDARD
TZOFFSETFROM:-0400
TZOFFSETTO:-0500
TZNAME:EST
DTSTART:20271107T060000
END:STANDARD
BEGIN:DAYLIGHT
TZOFFSETFROM:-0500
TZOFFSETTO:-0400
TZNAME:EDT
DTSTART:20280312T070000
END:DAYLIGHT
BEGIN:STANDARD
TZOFFSETFROM:-0400
TZOFFSETTO:-0500
TZNAME:EST
DTSTART:20281105T060000
END:STANDARD
BEGIN:DAYLIGHT
TZOFFSETFROM:-0500
TZOFFSETTO:-0400
TZNAME:EDT
DTSTART:20290311T070000
END:DAYLIGHT
BEGIN:STANDARD
TZOFFSETFROM:-0400
TZOFFSETTO:-0500
TZNAME:EST
DTSTART:20291104T060000
END:STANDARD
END:VTIMEZONE
BEGIN:VEVENT
DTSTART;TZID=America/Toronto:20271003T130000
DTEND;TZID=America/Toronto:20271003T160000
DTSTAMP:20260422T175215
CREATED:20260112T214148Z
LAST-MODIFIED:20260112T220220Z
UID:10001152-1822568400-1822579200@lrrc.ca
SUMMARY:Rifle Range Open
DESCRIPTION:RIFLE RANGE OPEN FROM 1 – 4 P.M.
URL:https://lrrc.ca/event/rifle-range-open/2027-10-03/
LOCATION:Listowel Rifle & Revolver Club\, 8310 Rd 165\, Listowel\, Ontario\, N4W 3H2
CATEGORIES:Rifle Range
ORGANIZER;CN="LRRC":MAILTO:listowelgunclub@gmail.com
END:VEVENT
BEGIN:VEVENT
DTSTART;TZID=America/Toronto:20271010T130000
DTEND;TZID=America/Toronto:20271010T160000
DTSTAMP:20260422T175215
CREATED:20260112T214148Z
LAST-MODIFIED:20260112T220220Z
UID:10001153-1823173200-1823184000@lrrc.ca
SUMMARY:Rifle Range Open
DESCRIPTION:RIFLE RANGE OPEN FROM 1 – 4 P.M.
URL:https://lrrc.ca/event/rifle-range-open/2027-10-10/
LOCATION:Listowel Rifle & Revolver Club\, 8310 Rd 165\, Listowel\, Ontario\, N4W 3H2
CATEGORIES:Rifle Range
ORGANIZER;CN="LRRC":MAILTO:listowelgunclub@gmail.com
END:VEVENT
BEGIN:VEVENT
DTSTART;TZID=America/Toronto:20271017T130000
DTEND;TZID=America/Toronto:20271017T160000
DTSTAMP:20260422T175215
CREATED:20260112T214148Z
LAST-MODIFIED:20260112T220220Z
UID:10001154-1823778000-1823788800@lrrc.ca
SUMMARY:Rifle Range Open
DESCRIPTION:RIFLE RANGE OPEN FROM 1 – 4 P.M.
URL:https://lrrc.ca/event/rifle-range-open/2027-10-17/
LOCATION:Listowel Rifle & Revolver Club\, 8310 Rd 165\, Listowel\, Ontario\, N4W 3H2
CATEGORIES:Rifle Range
ORGANIZER;CN="LRRC":MAILTO:listowelgunclub@gmail.com
END:VEVENT
BEGIN:VEVENT
DTSTART;TZID=America/Toronto:20271024T130000
DTEND;TZID=America/Toronto:20271024T160000
DTSTAMP:20260422T175215
CREATED:20260112T214148Z
LAST-MODIFIED:20260112T220220Z
UID:10001155-1824382800-1824393600@lrrc.ca
SUMMARY:Rifle Range Open
DESCRIPTION:RIFLE RANGE OPEN FROM 1 – 4 P.M.
URL:https://lrrc.ca/event/rifle-range-open/2027-10-24/
LOCATION:Listowel Rifle & Revolver Club\, 8310 Rd 165\, Listowel\, Ontario\, N4W 3H2
CATEGORIES:Rifle Range
ORGANIZER;CN="LRRC":MAILTO:listowelgunclub@gmail.com
END:VEVENT
BEGIN:VEVENT
DTSTART;TZID=America/Toronto:20271031T130000
DTEND;TZID=America/Toronto:20271031T160000
DTSTAMP:20260422T175215
CREATED:20260112T214148Z
LAST-MODIFIED:20260112T220220Z
UID:10001156-1824987600-1824998400@lrrc.ca
SUMMARY:Rifle Range Open
DESCRIPTION:RIFLE RANGE OPEN FROM 1 – 4 P.M.
URL:https://lrrc.ca/event/rifle-range-open/2027-10-31/
LOCATION:Listowel Rifle & Revolver Club\, 8310 Rd 165\, Listowel\, Ontario\, N4W 3H2
CATEGORIES:Rifle Range
ORGANIZER;CN="LRRC":MAILTO:listowelgunclub@gmail.com
END:VEVENT
BEGIN:VEVENT
DTSTART;TZID=America/Toronto:20271107T130000
DTEND;TZID=America/Toronto:20271107T160000
DTSTAMP:20260422T175215
CREATED:20260112T214148Z
LAST-MODIFIED:20260112T220220Z
UID:10001157-1825592400-1825603200@lrrc.ca
SUMMARY:Rifle Range Open
DESCRIPTION:RIFLE RANGE OPEN FROM 1 – 4 P.M.
URL:https://lrrc.ca/event/rifle-range-open/2027-11-07/
LOCATION:Listowel Rifle & Revolver Club\, 8310 Rd 165\, Listowel\, Ontario\, N4W 3H2
CATEGORIES:Rifle Range
ORGANIZER;CN="LRRC":MAILTO:listowelgunclub@gmail.com
END:VEVENT
BEGIN:VEVENT
DTSTART;TZID=America/Toronto:20271114T130000
DTEND;TZID=America/Toronto:20271114T160000
DTSTAMP:20260422T175215
CREATED:20260112T214148Z
LAST-MODIFIED:20260112T220220Z
UID:10001158-1826197200-1826208000@lrrc.ca
SUMMARY:Rifle Range Open
DESCRIPTION:RIFLE RANGE OPEN FROM 1 – 4 P.M.
URL:https://lrrc.ca/event/rifle-range-open/2027-11-14/
LOCATION:Listowel Rifle & Revolver Club\, 8310 Rd 165\, Listowel\, Ontario\, N4W 3H2
CATEGORIES:Rifle Range
ORGANIZER;CN="LRRC":MAILTO:listowelgunclub@gmail.com
END:VEVENT
BEGIN:VEVENT
DTSTART;TZID=America/Toronto:20271121T130000
DTEND;TZID=America/Toronto:20271121T160000
DTSTAMP:20260422T175215
CREATED:20260112T214148Z
LAST-MODIFIED:20260112T220220Z
UID:10001159-1826802000-1826812800@lrrc.ca
SUMMARY:Rifle Range Open
DESCRIPTION:RIFLE RANGE OPEN FROM 1 – 4 P.M.
URL:https://lrrc.ca/event/rifle-range-open/2027-11-21/
LOCATION:Listowel Rifle & Revolver Club\, 8310 Rd 165\, Listowel\, Ontario\, N4W 3H2
CATEGORIES:Rifle Range
ORGANIZER;CN="LRRC":MAILTO:listowelgunclub@gmail.com
END:VEVENT
BEGIN:VEVENT
DTSTART;TZID=America/Toronto:20271128T130000
DTEND;TZID=America/Toronto:20271128T160000
DTSTAMP:20260422T175215
CREATED:20260112T214148Z
LAST-MODIFIED:20260112T220220Z
UID:10001160-1827406800-1827417600@lrrc.ca
SUMMARY:Rifle Range Open
DESCRIPTION:RIFLE RANGE OPEN FROM 1 – 4 P.M.
URL:https://lrrc.ca/event/rifle-range-open/2027-11-28/
LOCATION:Listowel Rifle & Revolver Club\, 8310 Rd 165\, Listowel\, Ontario\, N4W 3H2
CATEGORIES:Rifle Range
ORGANIZER;CN="LRRC":MAILTO:listowelgunclub@gmail.com
END:VEVENT
BEGIN:VEVENT
DTSTART;TZID=America/Toronto:20271205T130000
DTEND;TZID=America/Toronto:20271205T160000
DTSTAMP:20260422T175215
CREATED:20260112T214148Z
LAST-MODIFIED:20260112T220220Z
UID:10001161-1828011600-1828022400@lrrc.ca
SUMMARY:Rifle Range Open
DESCRIPTION:RIFLE RANGE OPEN FROM 1 – 4 P.M.
URL:https://lrrc.ca/event/rifle-range-open/2027-12-05/
LOCATION:Listowel Rifle & Revolver Club\, 8310 Rd 165\, Listowel\, Ontario\, N4W 3H2
CATEGORIES:Rifle Range
ORGANIZER;CN="LRRC":MAILTO:listowelgunclub@gmail.com
END:VEVENT
BEGIN:VEVENT
DTSTART;TZID=America/Toronto:20271212T130000
DTEND;TZID=America/Toronto:20271212T160000
DTSTAMP:20260422T175215
CREATED:20260112T214148Z
LAST-MODIFIED:20260112T220220Z
UID:10001162-1828616400-1828627200@lrrc.ca
SUMMARY:Rifle Range Open
DESCRIPTION:RIFLE RANGE OPEN FROM 1 – 4 P.M.
URL:https://lrrc.ca/event/rifle-range-open/2027-12-12/
LOCATION:Listowel Rifle & Revolver Club\, 8310 Rd 165\, Listowel\, Ontario\, N4W 3H2
CATEGORIES:Rifle Range
ORGANIZER;CN="LRRC":MAILTO:listowelgunclub@gmail.com
END:VEVENT
BEGIN:VEVENT
DTSTART;TZID=America/Toronto:20271219T130000
DTEND;TZID=America/Toronto:20271219T160000
DTSTAMP:20260422T175215
CREATED:20260112T214148Z
LAST-MODIFIED:20260112T220220Z
UID:10001163-1829221200-1829232000@lrrc.ca
SUMMARY:Rifle Range Open
DESCRIPTION:RIFLE RANGE OPEN FROM 1 – 4 P.M.
URL:https://lrrc.ca/event/rifle-range-open/2027-12-19/
LOCATION:Listowel Rifle & Revolver Club\, 8310 Rd 165\, Listowel\, Ontario\, N4W 3H2
CATEGORIES:Rifle Range
ORGANIZER;CN="LRRC":MAILTO:listowelgunclub@gmail.com
END:VEVENT
BEGIN:VEVENT
DTSTART;TZID=America/Toronto:20271226T130000
DTEND;TZID=America/Toronto:20271226T160000
DTSTAMP:20260422T175215
CREATED:20260112T214148Z
LAST-MODIFIED:20260112T220220Z
UID:10001164-1829826000-1829836800@lrrc.ca
SUMMARY:Rifle Range Open
DESCRIPTION:RIFLE RANGE OPEN FROM 1 – 4 P.M.
URL:https://lrrc.ca/event/rifle-range-open/2027-12-26/
LOCATION:Listowel Rifle & Revolver Club\, 8310 Rd 165\, Listowel\, Ontario\, N4W 3H2
CATEGORIES:Rifle Range
ORGANIZER;CN="LRRC":MAILTO:listowelgunclub@gmail.com
END:VEVENT
BEGIN:VEVENT
DTSTART;TZID=America/Toronto:20280102T130000
DTEND;TZID=America/Toronto:20280102T160000
DTSTAMP:20260422T175215
CREATED:20260112T214148Z
LAST-MODIFIED:20260112T220220Z
UID:10001165-1830430800-1830441600@lrrc.ca
SUMMARY:Rifle Range Open
DESCRIPTION:RIFLE RANGE OPEN FROM 1 – 4 P.M.
URL:https://lrrc.ca/event/rifle-range-open/2028-01-02/
LOCATION:Listowel Rifle & Revolver Club\, 8310 Rd 165\, Listowel\, Ontario\, N4W 3H2
CATEGORIES:Rifle Range
ORGANIZER;CN="LRRC":MAILTO:listowelgunclub@gmail.com
END:VEVENT
BEGIN:VEVENT
DTSTART;TZID=America/Toronto:20280109T130000
DTEND;TZID=America/Toronto:20280109T160000
DTSTAMP:20260422T175215
CREATED:20260112T214148Z
LAST-MODIFIED:20260112T220220Z
UID:10001166-1831035600-1831046400@lrrc.ca
SUMMARY:Rifle Range Open
DESCRIPTION:RIFLE RANGE OPEN FROM 1 – 4 P.M.
URL:https://lrrc.ca/event/rifle-range-open/2028-01-09/
LOCATION:Listowel Rifle & Revolver Club\, 8310 Rd 165\, Listowel\, Ontario\, N4W 3H2
CATEGORIES:Rifle Range
ORGANIZER;CN="LRRC":MAILTO:listowelgunclub@gmail.com
END:VEVENT
BEGIN:VEVENT
DTSTART;TZID=America/Toronto:20280116T130000
DTEND;TZID=America/Toronto:20280116T160000
DTSTAMP:20260422T175215
CREATED:20260112T214148Z
LAST-MODIFIED:20260112T220220Z
UID:10001167-1831640400-1831651200@lrrc.ca
SUMMARY:Rifle Range Open
DESCRIPTION:RIFLE RANGE OPEN FROM 1 – 4 P.M.
URL:https://lrrc.ca/event/rifle-range-open/2028-01-16/
LOCATION:Listowel Rifle & Revolver Club\, 8310 Rd 165\, Listowel\, Ontario\, N4W 3H2
CATEGORIES:Rifle Range
ORGANIZER;CN="LRRC":MAILTO:listowelgunclub@gmail.com
END:VEVENT
BEGIN:VEVENT
DTSTART;TZID=America/Toronto:20280123T130000
DTEND;TZID=America/Toronto:20280123T160000
DTSTAMP:20260422T175215
CREATED:20260112T214148Z
LAST-MODIFIED:20260112T220220Z
UID:10001168-1832245200-1832256000@lrrc.ca
SUMMARY:Rifle Range Open
DESCRIPTION:RIFLE RANGE OPEN FROM 1 – 4 P.M.
URL:https://lrrc.ca/event/rifle-range-open/2028-01-23/
LOCATION:Listowel Rifle & Revolver Club\, 8310 Rd 165\, Listowel\, Ontario\, N4W 3H2
CATEGORIES:Rifle Range
ORGANIZER;CN="LRRC":MAILTO:listowelgunclub@gmail.com
END:VEVENT
BEGIN:VEVENT
DTSTART;TZID=America/Toronto:20280130T130000
DTEND;TZID=America/Toronto:20280130T160000
DTSTAMP:20260422T175215
CREATED:20260112T214148Z
LAST-MODIFIED:20260112T220220Z
UID:10001169-1832850000-1832860800@lrrc.ca
SUMMARY:Rifle Range Open
DESCRIPTION:RIFLE RANGE OPEN FROM 1 – 4 P.M.
URL:https://lrrc.ca/event/rifle-range-open/2028-01-30/
LOCATION:Listowel Rifle & Revolver Club\, 8310 Rd 165\, Listowel\, Ontario\, N4W 3H2
CATEGORIES:Rifle Range
ORGANIZER;CN="LRRC":MAILTO:listowelgunclub@gmail.com
END:VEVENT
BEGIN:VEVENT
DTSTART;TZID=America/Toronto:20280206T130000
DTEND;TZID=America/Toronto:20280206T160000
DTSTAMP:20260422T175215
CREATED:20260112T214148Z
LAST-MODIFIED:20260112T220220Z
UID:10001170-1833454800-1833465600@lrrc.ca
SUMMARY:Rifle Range Open
DESCRIPTION:RIFLE RANGE OPEN FROM 1 – 4 P.M.
URL:https://lrrc.ca/event/rifle-range-open/2028-02-06/
LOCATION:Listowel Rifle & Revolver Club\, 8310 Rd 165\, Listowel\, Ontario\, N4W 3H2
CATEGORIES:Rifle Range
ORGANIZER;CN="LRRC":MAILTO:listowelgunclub@gmail.com
END:VEVENT
BEGIN:VEVENT
DTSTART;TZID=America/Toronto:20280213T130000
DTEND;TZID=America/Toronto:20280213T160000
DTSTAMP:20260422T175215
CREATED:20260112T214148Z
LAST-MODIFIED:20260112T220220Z
UID:10001171-1834059600-1834070400@lrrc.ca
SUMMARY:Rifle Range Open
DESCRIPTION:RIFLE RANGE OPEN FROM 1 – 4 P.M.
URL:https://lrrc.ca/event/rifle-range-open/2028-02-13/
LOCATION:Listowel Rifle & Revolver Club\, 8310 Rd 165\, Listowel\, Ontario\, N4W 3H2
CATEGORIES:Rifle Range
ORGANIZER;CN="LRRC":MAILTO:listowelgunclub@gmail.com
END:VEVENT
BEGIN:VEVENT
DTSTART;TZID=America/Toronto:20280220T130000
DTEND;TZID=America/Toronto:20280220T160000
DTSTAMP:20260422T175215
CREATED:20260112T214148Z
LAST-MODIFIED:20260112T220220Z
UID:10001172-1834664400-1834675200@lrrc.ca
SUMMARY:Rifle Range Open
DESCRIPTION:RIFLE RANGE OPEN FROM 1 – 4 P.M.
URL:https://lrrc.ca/event/rifle-range-open/2028-02-20/
LOCATION:Listowel Rifle & Revolver Club\, 8310 Rd 165\, Listowel\, Ontario\, N4W 3H2
CATEGORIES:Rifle Range
ORGANIZER;CN="LRRC":MAILTO:listowelgunclub@gmail.com
END:VEVENT
BEGIN:VEVENT
DTSTART;TZID=America/Toronto:20280227T130000
DTEND;TZID=America/Toronto:20280227T160000
DTSTAMP:20260422T175215
CREATED:20260112T214148Z
LAST-MODIFIED:20260112T220220Z
UID:10001173-1835269200-1835280000@lrrc.ca
SUMMARY:Rifle Range Open
DESCRIPTION:RIFLE RANGE OPEN FROM 1 – 4 P.M.
URL:https://lrrc.ca/event/rifle-range-open/2028-02-27/
LOCATION:Listowel Rifle & Revolver Club\, 8310 Rd 165\, Listowel\, Ontario\, N4W 3H2
CATEGORIES:Rifle Range
ORGANIZER;CN="LRRC":MAILTO:listowelgunclub@gmail.com
END:VEVENT
BEGIN:VEVENT
DTSTART;TZID=America/Toronto:20280305T130000
DTEND;TZID=America/Toronto:20280305T160000
DTSTAMP:20260422T175215
CREATED:20260112T214148Z
LAST-MODIFIED:20260112T220220Z
UID:10001174-1835874000-1835884800@lrrc.ca
SUMMARY:Rifle Range Open
DESCRIPTION:RIFLE RANGE OPEN FROM 1 – 4 P.M.
URL:https://lrrc.ca/event/rifle-range-open/2028-03-05/
LOCATION:Listowel Rifle & Revolver Club\, 8310 Rd 165\, Listowel\, Ontario\, N4W 3H2
CATEGORIES:Rifle Range
ORGANIZER;CN="LRRC":MAILTO:listowelgunclub@gmail.com
END:VEVENT
BEGIN:VEVENT
DTSTART;TZID=America/Toronto:20280312T130000
DTEND;TZID=America/Toronto:20280312T160000
DTSTAMP:20260422T175215
CREATED:20260112T214148Z
LAST-MODIFIED:20260112T220220Z
UID:10001175-1836478800-1836489600@lrrc.ca
SUMMARY:Rifle Range Open
DESCRIPTION:RIFLE RANGE OPEN FROM 1 – 4 P.M.
URL:https://lrrc.ca/event/rifle-range-open/2028-03-12/
LOCATION:Listowel Rifle & Revolver Club\, 8310 Rd 165\, Listowel\, Ontario\, N4W 3H2
CATEGORIES:Rifle Range
ORGANIZER;CN="LRRC":MAILTO:listowelgunclub@gmail.com
END:VEVENT
BEGIN:VEVENT
DTSTART;TZID=America/Toronto:20280319T130000
DTEND;TZID=America/Toronto:20280319T160000
DTSTAMP:20260422T175215
CREATED:20260112T214148Z
LAST-MODIFIED:20260112T220220Z
UID:10001176-1837083600-1837094400@lrrc.ca
SUMMARY:Rifle Range Open
DESCRIPTION:RIFLE RANGE OPEN FROM 1 – 4 P.M.
URL:https://lrrc.ca/event/rifle-range-open/2028-03-19/
LOCATION:Listowel Rifle & Revolver Club\, 8310 Rd 165\, Listowel\, Ontario\, N4W 3H2
CATEGORIES:Rifle Range
ORGANIZER;CN="LRRC":MAILTO:listowelgunclub@gmail.com
END:VEVENT
BEGIN:VEVENT
DTSTART;TZID=America/Toronto:20280326T130000
DTEND;TZID=America/Toronto:20280326T160000
DTSTAMP:20260422T175215
CREATED:20260112T214148Z
LAST-MODIFIED:20260112T220220Z
UID:10001177-1837688400-1837699200@lrrc.ca
SUMMARY:Rifle Range Open
DESCRIPTION:RIFLE RANGE OPEN FROM 1 – 4 P.M.
URL:https://lrrc.ca/event/rifle-range-open/2028-03-26/
LOCATION:Listowel Rifle & Revolver Club\, 8310 Rd 165\, Listowel\, Ontario\, N4W 3H2
CATEGORIES:Rifle Range
ORGANIZER;CN="LRRC":MAILTO:listowelgunclub@gmail.com
END:VEVENT
BEGIN:VEVENT
DTSTART;TZID=America/Toronto:20280402T130000
DTEND;TZID=America/Toronto:20280402T160000
DTSTAMP:20260422T175215
CREATED:20260112T214148Z
LAST-MODIFIED:20260112T220220Z
UID:10001178-1838293200-1838304000@lrrc.ca
SUMMARY:Rifle Range Open
DESCRIPTION:RIFLE RANGE OPEN FROM 1 – 4 P.M.
URL:https://lrrc.ca/event/rifle-range-open/2028-04-02/
LOCATION:Listowel Rifle & Revolver Club\, 8310 Rd 165\, Listowel\, Ontario\, N4W 3H2
CATEGORIES:Rifle Range
ORGANIZER;CN="LRRC":MAILTO:listowelgunclub@gmail.com
END:VEVENT
BEGIN:VEVENT
DTSTART;TZID=America/Toronto:20280409T130000
DTEND;TZID=America/Toronto:20280409T160000
DTSTAMP:20260422T175215
CREATED:20260112T214148Z
LAST-MODIFIED:20260112T220220Z
UID:10001179-1838898000-1838908800@lrrc.ca
SUMMARY:Rifle Range Open
DESCRIPTION:RIFLE RANGE OPEN FROM 1 – 4 P.M.
URL:https://lrrc.ca/event/rifle-range-open/2028-04-09/
LOCATION:Listowel Rifle & Revolver Club\, 8310 Rd 165\, Listowel\, Ontario\, N4W 3H2
CATEGORIES:Rifle Range
ORGANIZER;CN="LRRC":MAILTO:listowelgunclub@gmail.com
END:VEVENT
BEGIN:VEVENT
DTSTART;TZID=America/Toronto:20280416T130000
DTEND;TZID=America/Toronto:20280416T160000
DTSTAMP:20260422T175215
CREATED:20260112T214148Z
LAST-MODIFIED:20260112T220220Z
UID:10001180-1839502800-1839513600@lrrc.ca
SUMMARY:Rifle Range Open
DESCRIPTION:RIFLE RANGE OPEN FROM 1 – 4 P.M.
URL:https://lrrc.ca/event/rifle-range-open/2028-04-16/
LOCATION:Listowel Rifle & Revolver Club\, 8310 Rd 165\, Listowel\, Ontario\, N4W 3H2
CATEGORIES:Rifle Range
ORGANIZER;CN="LRRC":MAILTO:listowelgunclub@gmail.com
END:VEVENT
BEGIN:VEVENT
DTSTART;TZID=America/Toronto:20280423T130000
DTEND;TZID=America/Toronto:20280423T160000
DTSTAMP:20260422T175215
CREATED:20260112T214148Z
LAST-MODIFIED:20260112T220220Z
UID:10001181-1840107600-1840118400@lrrc.ca
SUMMARY:Rifle Range Open
DESCRIPTION:RIFLE RANGE OPEN FROM 1 – 4 P.M.
URL:https://lrrc.ca/event/rifle-range-open/2028-04-23/
LOCATION:Listowel Rifle & Revolver Club\, 8310 Rd 165\, Listowel\, Ontario\, N4W 3H2
CATEGORIES:Rifle Range
ORGANIZER;CN="LRRC":MAILTO:listowelgunclub@gmail.com
END:VEVENT
END:VCALENDAR