BEGIN:VCALENDAR
VERSION:2.0
PRODID:-//Listowel Rifle &amp; Revolver Club - ECPv6.15.20//NONSGML v1.0//EN
CALSCALE:GREGORIAN
METHOD:PUBLISH
X-WR-CALNAME:Listowel Rifle &amp; Revolver Club
X-ORIGINAL-URL:https://lrrc.ca
X-WR-CALDESC:Events for Listowel Rifle &amp; Revolver Club
REFRESH-INTERVAL;VALUE=DURATION:PT1H
X-Robots-Tag:noindex
X-PUBLISHED-TTL:PT1H
BEGIN:VTIMEZONE
TZID:America/Toronto
BEGIN:DAYLIGHT
TZOFFSETFROM:-0500
TZOFFSETTO:-0400
TZNAME:EDT
DTSTART:20260308T070000
END:DAYLIGHT
BEGIN:STANDARD
TZOFFSETFROM:-0400
TZOFFSETTO:-0500
TZNAME:EST
DTSTART:20261101T060000
END:STANDARD
BEGIN:DAYLIGHT
TZOFFSETFROM:-0500
TZOFFSETTO:-0400
TZNAME:EDT
DTSTART:20270314T070000
END:DAYLIGHT
BEGIN:STANDARD
TZOFFSETFROM:-0400
TZOFFSETTO:-0500
TZNAME:EST
DTSTART:20271107T060000
END:STANDARD
BEGIN:DAYLIGHT
TZOFFSETFROM:-0500
TZOFFSETTO:-0400
TZNAME:EDT
DTSTART:20280312T070000
END:DAYLIGHT
BEGIN:STANDARD
TZOFFSETFROM:-0400
TZOFFSETTO:-0500
TZNAME:EST
DTSTART:20281105T060000
END:STANDARD
BEGIN:DAYLIGHT
TZOFFSETFROM:-0500
TZOFFSETTO:-0400
TZNAME:EDT
DTSTART:20290311T070000
END:DAYLIGHT
BEGIN:STANDARD
TZOFFSETFROM:-0400
TZOFFSETTO:-0500
TZNAME:EST
DTSTART:20291104T060000
END:STANDARD
END:VTIMEZONE
BEGIN:VEVENT
DTSTART;TZID=America/Toronto:20270613T130000
DTEND;TZID=America/Toronto:20270613T160000
DTSTAMP:20260421T185900
CREATED:20260112T214148Z
LAST-MODIFIED:20260112T220220Z
UID:10001136-1812891600-1812902400@lrrc.ca
SUMMARY:Rifle Range Open
DESCRIPTION:RIFLE RANGE OPEN FROM 1 – 4 P.M.
URL:https://lrrc.ca/event/rifle-range-open/2027-06-13/
LOCATION:Listowel Rifle & Revolver Club\, 8310 Rd 165\, Listowel\, Ontario\, N4W 3H2
CATEGORIES:Rifle Range
ORGANIZER;CN="LRRC":MAILTO:listowelgunclub@gmail.com
END:VEVENT
BEGIN:VEVENT
DTSTART;TZID=America/Toronto:20270620T130000
DTEND;TZID=America/Toronto:20270620T160000
DTSTAMP:20260421T185900
CREATED:20260112T214148Z
LAST-MODIFIED:20260112T220220Z
UID:10001137-1813496400-1813507200@lrrc.ca
SUMMARY:Rifle Range Open
DESCRIPTION:RIFLE RANGE OPEN FROM 1 – 4 P.M.
URL:https://lrrc.ca/event/rifle-range-open/2027-06-20/
LOCATION:Listowel Rifle & Revolver Club\, 8310 Rd 165\, Listowel\, Ontario\, N4W 3H2
CATEGORIES:Rifle Range
ORGANIZER;CN="LRRC":MAILTO:listowelgunclub@gmail.com
END:VEVENT
BEGIN:VEVENT
DTSTART;TZID=America/Toronto:20270627T130000
DTEND;TZID=America/Toronto:20270627T160000
DTSTAMP:20260421T185900
CREATED:20260112T214148Z
LAST-MODIFIED:20260112T220220Z
UID:10001138-1814101200-1814112000@lrrc.ca
SUMMARY:Rifle Range Open
DESCRIPTION:RIFLE RANGE OPEN FROM 1 – 4 P.M.
URL:https://lrrc.ca/event/rifle-range-open/2027-06-27/
LOCATION:Listowel Rifle & Revolver Club\, 8310 Rd 165\, Listowel\, Ontario\, N4W 3H2
CATEGORIES:Rifle Range
ORGANIZER;CN="LRRC":MAILTO:listowelgunclub@gmail.com
END:VEVENT
BEGIN:VEVENT
DTSTART;TZID=America/Toronto:20270704T130000
DTEND;TZID=America/Toronto:20270704T160000
DTSTAMP:20260421T185900
CREATED:20260112T214148Z
LAST-MODIFIED:20260112T220220Z
UID:10001139-1814706000-1814716800@lrrc.ca
SUMMARY:Rifle Range Open
DESCRIPTION:RIFLE RANGE OPEN FROM 1 – 4 P.M.
URL:https://lrrc.ca/event/rifle-range-open/2027-07-04/
LOCATION:Listowel Rifle & Revolver Club\, 8310 Rd 165\, Listowel\, Ontario\, N4W 3H2
CATEGORIES:Rifle Range
ORGANIZER;CN="LRRC":MAILTO:listowelgunclub@gmail.com
END:VEVENT
BEGIN:VEVENT
DTSTART;TZID=America/Toronto:20270711T130000
DTEND;TZID=America/Toronto:20270711T160000
DTSTAMP:20260421T185900
CREATED:20260112T214148Z
LAST-MODIFIED:20260112T220220Z
UID:10001140-1815310800-1815321600@lrrc.ca
SUMMARY:Rifle Range Open
DESCRIPTION:RIFLE RANGE OPEN FROM 1 – 4 P.M.
URL:https://lrrc.ca/event/rifle-range-open/2027-07-11/
LOCATION:Listowel Rifle & Revolver Club\, 8310 Rd 165\, Listowel\, Ontario\, N4W 3H2
CATEGORIES:Rifle Range
ORGANIZER;CN="LRRC":MAILTO:listowelgunclub@gmail.com
END:VEVENT
BEGIN:VEVENT
DTSTART;TZID=America/Toronto:20270718T130000
DTEND;TZID=America/Toronto:20270718T160000
DTSTAMP:20260421T185900
CREATED:20260112T214148Z
LAST-MODIFIED:20260112T220220Z
UID:10001141-1815915600-1815926400@lrrc.ca
SUMMARY:Rifle Range Open
DESCRIPTION:RIFLE RANGE OPEN FROM 1 – 4 P.M.
URL:https://lrrc.ca/event/rifle-range-open/2027-07-18/
LOCATION:Listowel Rifle & Revolver Club\, 8310 Rd 165\, Listowel\, Ontario\, N4W 3H2
CATEGORIES:Rifle Range
ORGANIZER;CN="LRRC":MAILTO:listowelgunclub@gmail.com
END:VEVENT
BEGIN:VEVENT
DTSTART;TZID=America/Toronto:20270725T130000
DTEND;TZID=America/Toronto:20270725T160000
DTSTAMP:20260421T185900
CREATED:20260112T214148Z
LAST-MODIFIED:20260112T220220Z
UID:10001142-1816520400-1816531200@lrrc.ca
SUMMARY:Rifle Range Open
DESCRIPTION:RIFLE RANGE OPEN FROM 1 – 4 P.M.
URL:https://lrrc.ca/event/rifle-range-open/2027-07-25/
LOCATION:Listowel Rifle & Revolver Club\, 8310 Rd 165\, Listowel\, Ontario\, N4W 3H2
CATEGORIES:Rifle Range
ORGANIZER;CN="LRRC":MAILTO:listowelgunclub@gmail.com
END:VEVENT
BEGIN:VEVENT
DTSTART;TZID=America/Toronto:20270801T130000
DTEND;TZID=America/Toronto:20270801T160000
DTSTAMP:20260421T185900
CREATED:20260112T214148Z
LAST-MODIFIED:20260112T220220Z
UID:10001143-1817125200-1817136000@lrrc.ca
SUMMARY:Rifle Range Open
DESCRIPTION:RIFLE RANGE OPEN FROM 1 – 4 P.M.
URL:https://lrrc.ca/event/rifle-range-open/2027-08-01/
LOCATION:Listowel Rifle & Revolver Club\, 8310 Rd 165\, Listowel\, Ontario\, N4W 3H2
CATEGORIES:Rifle Range
ORGANIZER;CN="LRRC":MAILTO:listowelgunclub@gmail.com
END:VEVENT
BEGIN:VEVENT
DTSTART;TZID=America/Toronto:20270808T130000
DTEND;TZID=America/Toronto:20270808T160000
DTSTAMP:20260421T185900
CREATED:20260112T214148Z
LAST-MODIFIED:20260112T220220Z
UID:10001144-1817730000-1817740800@lrrc.ca
SUMMARY:Rifle Range Open
DESCRIPTION:RIFLE RANGE OPEN FROM 1 – 4 P.M.
URL:https://lrrc.ca/event/rifle-range-open/2027-08-08/
LOCATION:Listowel Rifle & Revolver Club\, 8310 Rd 165\, Listowel\, Ontario\, N4W 3H2
CATEGORIES:Rifle Range
ORGANIZER;CN="LRRC":MAILTO:listowelgunclub@gmail.com
END:VEVENT
BEGIN:VEVENT
DTSTART;TZID=America/Toronto:20270815T130000
DTEND;TZID=America/Toronto:20270815T160000
DTSTAMP:20260421T185900
CREATED:20260112T214148Z
LAST-MODIFIED:20260112T220220Z
UID:10001145-1818334800-1818345600@lrrc.ca
SUMMARY:Rifle Range Open
DESCRIPTION:RIFLE RANGE OPEN FROM 1 – 4 P.M.
URL:https://lrrc.ca/event/rifle-range-open/2027-08-15/
LOCATION:Listowel Rifle & Revolver Club\, 8310 Rd 165\, Listowel\, Ontario\, N4W 3H2
CATEGORIES:Rifle Range
ORGANIZER;CN="LRRC":MAILTO:listowelgunclub@gmail.com
END:VEVENT
BEGIN:VEVENT
DTSTART;TZID=America/Toronto:20270822T130000
DTEND;TZID=America/Toronto:20270822T160000
DTSTAMP:20260421T185900
CREATED:20260112T214148Z
LAST-MODIFIED:20260112T220220Z
UID:10001146-1818939600-1818950400@lrrc.ca
SUMMARY:Rifle Range Open
DESCRIPTION:RIFLE RANGE OPEN FROM 1 – 4 P.M.
URL:https://lrrc.ca/event/rifle-range-open/2027-08-22/
LOCATION:Listowel Rifle & Revolver Club\, 8310 Rd 165\, Listowel\, Ontario\, N4W 3H2
CATEGORIES:Rifle Range
ORGANIZER;CN="LRRC":MAILTO:listowelgunclub@gmail.com
END:VEVENT
BEGIN:VEVENT
DTSTART;TZID=America/Toronto:20270829T130000
DTEND;TZID=America/Toronto:20270829T160000
DTSTAMP:20260421T185900
CREATED:20260112T214148Z
LAST-MODIFIED:20260112T220220Z
UID:10001147-1819544400-1819555200@lrrc.ca
SUMMARY:Rifle Range Open
DESCRIPTION:RIFLE RANGE OPEN FROM 1 – 4 P.M.
URL:https://lrrc.ca/event/rifle-range-open/2027-08-29/
LOCATION:Listowel Rifle & Revolver Club\, 8310 Rd 165\, Listowel\, Ontario\, N4W 3H2
CATEGORIES:Rifle Range
ORGANIZER;CN="LRRC":MAILTO:listowelgunclub@gmail.com
END:VEVENT
BEGIN:VEVENT
DTSTART;TZID=America/Toronto:20270905T130000
DTEND;TZID=America/Toronto:20270905T160000
DTSTAMP:20260421T185900
CREATED:20260112T214148Z
LAST-MODIFIED:20260112T220220Z
UID:10001148-1820149200-1820160000@lrrc.ca
SUMMARY:Rifle Range Open
DESCRIPTION:RIFLE RANGE OPEN FROM 1 – 4 P.M.
URL:https://lrrc.ca/event/rifle-range-open/2027-09-05/
LOCATION:Listowel Rifle & Revolver Club\, 8310 Rd 165\, Listowel\, Ontario\, N4W 3H2
CATEGORIES:Rifle Range
ORGANIZER;CN="LRRC":MAILTO:listowelgunclub@gmail.com
END:VEVENT
BEGIN:VEVENT
DTSTART;TZID=America/Toronto:20270912T130000
DTEND;TZID=America/Toronto:20270912T160000
DTSTAMP:20260421T185900
CREATED:20260112T214148Z
LAST-MODIFIED:20260112T220220Z
UID:10001149-1820754000-1820764800@lrrc.ca
SUMMARY:Rifle Range Open
DESCRIPTION:RIFLE RANGE OPEN FROM 1 – 4 P.M.
URL:https://lrrc.ca/event/rifle-range-open/2027-09-12/
LOCATION:Listowel Rifle & Revolver Club\, 8310 Rd 165\, Listowel\, Ontario\, N4W 3H2
CATEGORIES:Rifle Range
ORGANIZER;CN="LRRC":MAILTO:listowelgunclub@gmail.com
END:VEVENT
BEGIN:VEVENT
DTSTART;TZID=America/Toronto:20270919T130000
DTEND;TZID=America/Toronto:20270919T160000
DTSTAMP:20260421T185900
CREATED:20260112T214148Z
LAST-MODIFIED:20260112T220220Z
UID:10001150-1821358800-1821369600@lrrc.ca
SUMMARY:Rifle Range Open
DESCRIPTION:RIFLE RANGE OPEN FROM 1 – 4 P.M.
URL:https://lrrc.ca/event/rifle-range-open/2027-09-19/
LOCATION:Listowel Rifle & Revolver Club\, 8310 Rd 165\, Listowel\, Ontario\, N4W 3H2
CATEGORIES:Rifle Range
ORGANIZER;CN="LRRC":MAILTO:listowelgunclub@gmail.com
END:VEVENT
BEGIN:VEVENT
DTSTART;TZID=America/Toronto:20270926T130000
DTEND;TZID=America/Toronto:20270926T160000
DTSTAMP:20260421T185900
CREATED:20260112T214148Z
LAST-MODIFIED:20260112T220220Z
UID:10001151-1821963600-1821974400@lrrc.ca
SUMMARY:Rifle Range Open
DESCRIPTION:RIFLE RANGE OPEN FROM 1 – 4 P.M.
URL:https://lrrc.ca/event/rifle-range-open/2027-09-26/
LOCATION:Listowel Rifle & Revolver Club\, 8310 Rd 165\, Listowel\, Ontario\, N4W 3H2
CATEGORIES:Rifle Range
ORGANIZER;CN="LRRC":MAILTO:listowelgunclub@gmail.com
END:VEVENT
BEGIN:VEVENT
DTSTART;TZID=America/Toronto:20271003T130000
DTEND;TZID=America/Toronto:20271003T160000
DTSTAMP:20260421T185900
CREATED:20260112T214148Z
LAST-MODIFIED:20260112T220220Z
UID:10001152-1822568400-1822579200@lrrc.ca
SUMMARY:Rifle Range Open
DESCRIPTION:RIFLE RANGE OPEN FROM 1 – 4 P.M.
URL:https://lrrc.ca/event/rifle-range-open/2027-10-03/
LOCATION:Listowel Rifle & Revolver Club\, 8310 Rd 165\, Listowel\, Ontario\, N4W 3H2
CATEGORIES:Rifle Range
ORGANIZER;CN="LRRC":MAILTO:listowelgunclub@gmail.com
END:VEVENT
BEGIN:VEVENT
DTSTART;TZID=America/Toronto:20271010T130000
DTEND;TZID=America/Toronto:20271010T160000
DTSTAMP:20260421T185900
CREATED:20260112T214148Z
LAST-MODIFIED:20260112T220220Z
UID:10001153-1823173200-1823184000@lrrc.ca
SUMMARY:Rifle Range Open
DESCRIPTION:RIFLE RANGE OPEN FROM 1 – 4 P.M.
URL:https://lrrc.ca/event/rifle-range-open/2027-10-10/
LOCATION:Listowel Rifle & Revolver Club\, 8310 Rd 165\, Listowel\, Ontario\, N4W 3H2
CATEGORIES:Rifle Range
ORGANIZER;CN="LRRC":MAILTO:listowelgunclub@gmail.com
END:VEVENT
BEGIN:VEVENT
DTSTART;TZID=America/Toronto:20271017T130000
DTEND;TZID=America/Toronto:20271017T160000
DTSTAMP:20260421T185900
CREATED:20260112T214148Z
LAST-MODIFIED:20260112T220220Z
UID:10001154-1823778000-1823788800@lrrc.ca
SUMMARY:Rifle Range Open
DESCRIPTION:RIFLE RANGE OPEN FROM 1 – 4 P.M.
URL:https://lrrc.ca/event/rifle-range-open/2027-10-17/
LOCATION:Listowel Rifle & Revolver Club\, 8310 Rd 165\, Listowel\, Ontario\, N4W 3H2
CATEGORIES:Rifle Range
ORGANIZER;CN="LRRC":MAILTO:listowelgunclub@gmail.com
END:VEVENT
BEGIN:VEVENT
DTSTART;TZID=America/Toronto:20271024T130000
DTEND;TZID=America/Toronto:20271024T160000
DTSTAMP:20260421T185900
CREATED:20260112T214148Z
LAST-MODIFIED:20260112T220220Z
UID:10001155-1824382800-1824393600@lrrc.ca
SUMMARY:Rifle Range Open
DESCRIPTION:RIFLE RANGE OPEN FROM 1 – 4 P.M.
URL:https://lrrc.ca/event/rifle-range-open/2027-10-24/
LOCATION:Listowel Rifle & Revolver Club\, 8310 Rd 165\, Listowel\, Ontario\, N4W 3H2
CATEGORIES:Rifle Range
ORGANIZER;CN="LRRC":MAILTO:listowelgunclub@gmail.com
END:VEVENT
BEGIN:VEVENT
DTSTART;TZID=America/Toronto:20271031T130000
DTEND;TZID=America/Toronto:20271031T160000
DTSTAMP:20260421T185900
CREATED:20260112T214148Z
LAST-MODIFIED:20260112T220220Z
UID:10001156-1824987600-1824998400@lrrc.ca
SUMMARY:Rifle Range Open
DESCRIPTION:RIFLE RANGE OPEN FROM 1 – 4 P.M.
URL:https://lrrc.ca/event/rifle-range-open/2027-10-31/
LOCATION:Listowel Rifle & Revolver Club\, 8310 Rd 165\, Listowel\, Ontario\, N4W 3H2
CATEGORIES:Rifle Range
ORGANIZER;CN="LRRC":MAILTO:listowelgunclub@gmail.com
END:VEVENT
BEGIN:VEVENT
DTSTART;TZID=America/Toronto:20271107T130000
DTEND;TZID=America/Toronto:20271107T160000
DTSTAMP:20260421T185900
CREATED:20260112T214148Z
LAST-MODIFIED:20260112T220220Z
UID:10001157-1825592400-1825603200@lrrc.ca
SUMMARY:Rifle Range Open
DESCRIPTION:RIFLE RANGE OPEN FROM 1 – 4 P.M.
URL:https://lrrc.ca/event/rifle-range-open/2027-11-07/
LOCATION:Listowel Rifle & Revolver Club\, 8310 Rd 165\, Listowel\, Ontario\, N4W 3H2
CATEGORIES:Rifle Range
ORGANIZER;CN="LRRC":MAILTO:listowelgunclub@gmail.com
END:VEVENT
BEGIN:VEVENT
DTSTART;TZID=America/Toronto:20271114T130000
DTEND;TZID=America/Toronto:20271114T160000
DTSTAMP:20260421T185901
CREATED:20260112T214148Z
LAST-MODIFIED:20260112T220220Z
UID:10001158-1826197200-1826208000@lrrc.ca
SUMMARY:Rifle Range Open
DESCRIPTION:RIFLE RANGE OPEN FROM 1 – 4 P.M.
URL:https://lrrc.ca/event/rifle-range-open/2027-11-14/
LOCATION:Listowel Rifle & Revolver Club\, 8310 Rd 165\, Listowel\, Ontario\, N4W 3H2
CATEGORIES:Rifle Range
ORGANIZER;CN="LRRC":MAILTO:listowelgunclub@gmail.com
END:VEVENT
BEGIN:VEVENT
DTSTART;TZID=America/Toronto:20271121T130000
DTEND;TZID=America/Toronto:20271121T160000
DTSTAMP:20260421T185901
CREATED:20260112T214148Z
LAST-MODIFIED:20260112T220220Z
UID:10001159-1826802000-1826812800@lrrc.ca
SUMMARY:Rifle Range Open
DESCRIPTION:RIFLE RANGE OPEN FROM 1 – 4 P.M.
URL:https://lrrc.ca/event/rifle-range-open/2027-11-21/
LOCATION:Listowel Rifle & Revolver Club\, 8310 Rd 165\, Listowel\, Ontario\, N4W 3H2
CATEGORIES:Rifle Range
ORGANIZER;CN="LRRC":MAILTO:listowelgunclub@gmail.com
END:VEVENT
BEGIN:VEVENT
DTSTART;TZID=America/Toronto:20271128T130000
DTEND;TZID=America/Toronto:20271128T160000
DTSTAMP:20260421T185901
CREATED:20260112T214148Z
LAST-MODIFIED:20260112T220220Z
UID:10001160-1827406800-1827417600@lrrc.ca
SUMMARY:Rifle Range Open
DESCRIPTION:RIFLE RANGE OPEN FROM 1 – 4 P.M.
URL:https://lrrc.ca/event/rifle-range-open/2027-11-28/
LOCATION:Listowel Rifle & Revolver Club\, 8310 Rd 165\, Listowel\, Ontario\, N4W 3H2
CATEGORIES:Rifle Range
ORGANIZER;CN="LRRC":MAILTO:listowelgunclub@gmail.com
END:VEVENT
BEGIN:VEVENT
DTSTART;TZID=America/Toronto:20271205T130000
DTEND;TZID=America/Toronto:20271205T160000
DTSTAMP:20260421T185901
CREATED:20260112T214148Z
LAST-MODIFIED:20260112T220220Z
UID:10001161-1828011600-1828022400@lrrc.ca
SUMMARY:Rifle Range Open
DESCRIPTION:RIFLE RANGE OPEN FROM 1 – 4 P.M.
URL:https://lrrc.ca/event/rifle-range-open/2027-12-05/
LOCATION:Listowel Rifle & Revolver Club\, 8310 Rd 165\, Listowel\, Ontario\, N4W 3H2
CATEGORIES:Rifle Range
ORGANIZER;CN="LRRC":MAILTO:listowelgunclub@gmail.com
END:VEVENT
BEGIN:VEVENT
DTSTART;TZID=America/Toronto:20271212T130000
DTEND;TZID=America/Toronto:20271212T160000
DTSTAMP:20260421T185901
CREATED:20260112T214148Z
LAST-MODIFIED:20260112T220220Z
UID:10001162-1828616400-1828627200@lrrc.ca
SUMMARY:Rifle Range Open
DESCRIPTION:RIFLE RANGE OPEN FROM 1 – 4 P.M.
URL:https://lrrc.ca/event/rifle-range-open/2027-12-12/
LOCATION:Listowel Rifle & Revolver Club\, 8310 Rd 165\, Listowel\, Ontario\, N4W 3H2
CATEGORIES:Rifle Range
ORGANIZER;CN="LRRC":MAILTO:listowelgunclub@gmail.com
END:VEVENT
BEGIN:VEVENT
DTSTART;TZID=America/Toronto:20271219T130000
DTEND;TZID=America/Toronto:20271219T160000
DTSTAMP:20260421T185901
CREATED:20260112T214148Z
LAST-MODIFIED:20260112T220220Z
UID:10001163-1829221200-1829232000@lrrc.ca
SUMMARY:Rifle Range Open
DESCRIPTION:RIFLE RANGE OPEN FROM 1 – 4 P.M.
URL:https://lrrc.ca/event/rifle-range-open/2027-12-19/
LOCATION:Listowel Rifle & Revolver Club\, 8310 Rd 165\, Listowel\, Ontario\, N4W 3H2
CATEGORIES:Rifle Range
ORGANIZER;CN="LRRC":MAILTO:listowelgunclub@gmail.com
END:VEVENT
BEGIN:VEVENT
DTSTART;TZID=America/Toronto:20271226T130000
DTEND;TZID=America/Toronto:20271226T160000
DTSTAMP:20260421T185901
CREATED:20260112T214148Z
LAST-MODIFIED:20260112T220220Z
UID:10001164-1829826000-1829836800@lrrc.ca
SUMMARY:Rifle Range Open
DESCRIPTION:RIFLE RANGE OPEN FROM 1 – 4 P.M.
URL:https://lrrc.ca/event/rifle-range-open/2027-12-26/
LOCATION:Listowel Rifle & Revolver Club\, 8310 Rd 165\, Listowel\, Ontario\, N4W 3H2
CATEGORIES:Rifle Range
ORGANIZER;CN="LRRC":MAILTO:listowelgunclub@gmail.com
END:VEVENT
BEGIN:VEVENT
DTSTART;TZID=America/Toronto:20280102T130000
DTEND;TZID=America/Toronto:20280102T160000
DTSTAMP:20260421T185901
CREATED:20260112T214148Z
LAST-MODIFIED:20260112T220220Z
UID:10001165-1830430800-1830441600@lrrc.ca
SUMMARY:Rifle Range Open
DESCRIPTION:RIFLE RANGE OPEN FROM 1 – 4 P.M.
URL:https://lrrc.ca/event/rifle-range-open/2028-01-02/
LOCATION:Listowel Rifle & Revolver Club\, 8310 Rd 165\, Listowel\, Ontario\, N4W 3H2
CATEGORIES:Rifle Range
ORGANIZER;CN="LRRC":MAILTO:listowelgunclub@gmail.com
END:VEVENT
END:VCALENDAR