BEGIN:VCALENDAR
VERSION:2.0
PRODID:-//Listowel Rifle &amp; Revolver Club - ECPv6.15.20//NONSGML v1.0//EN
CALSCALE:GREGORIAN
METHOD:PUBLISH
X-WR-CALNAME:Listowel Rifle &amp; Revolver Club
X-ORIGINAL-URL:https://lrrc.ca
X-WR-CALDESC:Events for Listowel Rifle &amp; Revolver Club
REFRESH-INTERVAL;VALUE=DURATION:PT1H
X-Robots-Tag:noindex
X-PUBLISHED-TTL:PT1H
BEGIN:VTIMEZONE
TZID:America/Toronto
BEGIN:DAYLIGHT
TZOFFSETFROM:-0500
TZOFFSETTO:-0400
TZNAME:EDT
DTSTART:20250309T070000
END:DAYLIGHT
BEGIN:STANDARD
TZOFFSETFROM:-0400
TZOFFSETTO:-0500
TZNAME:EST
DTSTART:20251102T060000
END:STANDARD
BEGIN:DAYLIGHT
TZOFFSETFROM:-0500
TZOFFSETTO:-0400
TZNAME:EDT
DTSTART:20260308T070000
END:DAYLIGHT
BEGIN:STANDARD
TZOFFSETFROM:-0400
TZOFFSETTO:-0500
TZNAME:EST
DTSTART:20261101T060000
END:STANDARD
BEGIN:DAYLIGHT
TZOFFSETFROM:-0500
TZOFFSETTO:-0400
TZNAME:EDT
DTSTART:20270314T070000
END:DAYLIGHT
BEGIN:STANDARD
TZOFFSETFROM:-0400
TZOFFSETTO:-0500
TZNAME:EST
DTSTART:20271107T060000
END:STANDARD
BEGIN:DAYLIGHT
TZOFFSETFROM:-0500
TZOFFSETTO:-0400
TZNAME:EDT
DTSTART:20280312T070000
END:DAYLIGHT
BEGIN:STANDARD
TZOFFSETFROM:-0400
TZOFFSETTO:-0500
TZNAME:EST
DTSTART:20281105T060000
END:STANDARD
END:VTIMEZONE
BEGIN:VEVENT
DTSTART;TZID=America/Toronto:20261011T130000
DTEND;TZID=America/Toronto:20261011T160000
DTSTAMP:20260420T163958
CREATED:20260112T214148Z
LAST-MODIFIED:20260112T220220Z
UID:10001101-1791723600-1791734400@lrrc.ca
SUMMARY:Rifle Range Open
DESCRIPTION:RIFLE RANGE OPEN FROM 1 – 4 P.M.
URL:https://lrrc.ca/event/rifle-range-open/2026-10-11/
LOCATION:Listowel Rifle & Revolver Club\, 8310 Rd 165\, Listowel\, Ontario\, N4W 3H2
CATEGORIES:Rifle Range
ORGANIZER;CN="LRRC":MAILTO:listowelgunclub@gmail.com
END:VEVENT
BEGIN:VEVENT
DTSTART;TZID=America/Toronto:20261018T130000
DTEND;TZID=America/Toronto:20261018T160000
DTSTAMP:20260420T163958
CREATED:20260112T214148Z
LAST-MODIFIED:20260112T220220Z
UID:10001102-1792328400-1792339200@lrrc.ca
SUMMARY:Rifle Range Open
DESCRIPTION:RIFLE RANGE OPEN FROM 1 – 4 P.M.
URL:https://lrrc.ca/event/rifle-range-open/2026-10-18/
LOCATION:Listowel Rifle & Revolver Club\, 8310 Rd 165\, Listowel\, Ontario\, N4W 3H2
CATEGORIES:Rifle Range
ORGANIZER;CN="LRRC":MAILTO:listowelgunclub@gmail.com
END:VEVENT
BEGIN:VEVENT
DTSTART;TZID=America/Toronto:20261025T130000
DTEND;TZID=America/Toronto:20261025T160000
DTSTAMP:20260420T163958
CREATED:20260112T214148Z
LAST-MODIFIED:20260112T220220Z
UID:10001103-1792933200-1792944000@lrrc.ca
SUMMARY:Rifle Range Open
DESCRIPTION:RIFLE RANGE OPEN FROM 1 – 4 P.M.
URL:https://lrrc.ca/event/rifle-range-open/2026-10-25/
LOCATION:Listowel Rifle & Revolver Club\, 8310 Rd 165\, Listowel\, Ontario\, N4W 3H2
CATEGORIES:Rifle Range
ORGANIZER;CN="LRRC":MAILTO:listowelgunclub@gmail.com
END:VEVENT
BEGIN:VEVENT
DTSTART;TZID=America/Toronto:20261101T130000
DTEND;TZID=America/Toronto:20261101T160000
DTSTAMP:20260420T163958
CREATED:20260112T214148Z
LAST-MODIFIED:20260112T220220Z
UID:10001104-1793538000-1793548800@lrrc.ca
SUMMARY:Rifle Range Open
DESCRIPTION:RIFLE RANGE OPEN FROM 1 – 4 P.M.
URL:https://lrrc.ca/event/rifle-range-open/2026-11-01/
LOCATION:Listowel Rifle & Revolver Club\, 8310 Rd 165\, Listowel\, Ontario\, N4W 3H2
CATEGORIES:Rifle Range
ORGANIZER;CN="LRRC":MAILTO:listowelgunclub@gmail.com
END:VEVENT
BEGIN:VEVENT
DTSTART;TZID=America/Toronto:20261108T130000
DTEND;TZID=America/Toronto:20261108T160000
DTSTAMP:20260420T163958
CREATED:20260112T214148Z
LAST-MODIFIED:20260112T220220Z
UID:10001105-1794142800-1794153600@lrrc.ca
SUMMARY:Rifle Range Open
DESCRIPTION:RIFLE RANGE OPEN FROM 1 – 4 P.M.
URL:https://lrrc.ca/event/rifle-range-open/2026-11-08/
LOCATION:Listowel Rifle & Revolver Club\, 8310 Rd 165\, Listowel\, Ontario\, N4W 3H2
CATEGORIES:Rifle Range
ORGANIZER;CN="LRRC":MAILTO:listowelgunclub@gmail.com
END:VEVENT
BEGIN:VEVENT
DTSTART;TZID=America/Toronto:20261115T130000
DTEND;TZID=America/Toronto:20261115T160000
DTSTAMP:20260420T163958
CREATED:20260112T214148Z
LAST-MODIFIED:20260112T220220Z
UID:10001106-1794747600-1794758400@lrrc.ca
SUMMARY:Rifle Range Open
DESCRIPTION:RIFLE RANGE OPEN FROM 1 – 4 P.M.
URL:https://lrrc.ca/event/rifle-range-open/2026-11-15/
LOCATION:Listowel Rifle & Revolver Club\, 8310 Rd 165\, Listowel\, Ontario\, N4W 3H2
CATEGORIES:Rifle Range
ORGANIZER;CN="LRRC":MAILTO:listowelgunclub@gmail.com
END:VEVENT
BEGIN:VEVENT
DTSTART;TZID=America/Toronto:20261122T130000
DTEND;TZID=America/Toronto:20261122T160000
DTSTAMP:20260420T163958
CREATED:20260112T214148Z
LAST-MODIFIED:20260112T220220Z
UID:10001107-1795352400-1795363200@lrrc.ca
SUMMARY:Rifle Range Open
DESCRIPTION:RIFLE RANGE OPEN FROM 1 – 4 P.M.
URL:https://lrrc.ca/event/rifle-range-open/2026-11-22/
LOCATION:Listowel Rifle & Revolver Club\, 8310 Rd 165\, Listowel\, Ontario\, N4W 3H2
CATEGORIES:Rifle Range
ORGANIZER;CN="LRRC":MAILTO:listowelgunclub@gmail.com
END:VEVENT
BEGIN:VEVENT
DTSTART;TZID=America/Toronto:20261129T130000
DTEND;TZID=America/Toronto:20261129T160000
DTSTAMP:20260420T163958
CREATED:20260112T214148Z
LAST-MODIFIED:20260112T220220Z
UID:10001108-1795957200-1795968000@lrrc.ca
SUMMARY:Rifle Range Open
DESCRIPTION:RIFLE RANGE OPEN FROM 1 – 4 P.M.
URL:https://lrrc.ca/event/rifle-range-open/2026-11-29/
LOCATION:Listowel Rifle & Revolver Club\, 8310 Rd 165\, Listowel\, Ontario\, N4W 3H2
CATEGORIES:Rifle Range
ORGANIZER;CN="LRRC":MAILTO:listowelgunclub@gmail.com
END:VEVENT
BEGIN:VEVENT
DTSTART;TZID=America/Toronto:20261206T130000
DTEND;TZID=America/Toronto:20261206T160000
DTSTAMP:20260420T163958
CREATED:20260112T214148Z
LAST-MODIFIED:20260112T220220Z
UID:10001109-1796562000-1796572800@lrrc.ca
SUMMARY:Rifle Range Open
DESCRIPTION:RIFLE RANGE OPEN FROM 1 – 4 P.M.
URL:https://lrrc.ca/event/rifle-range-open/2026-12-06/
LOCATION:Listowel Rifle & Revolver Club\, 8310 Rd 165\, Listowel\, Ontario\, N4W 3H2
CATEGORIES:Rifle Range
ORGANIZER;CN="LRRC":MAILTO:listowelgunclub@gmail.com
END:VEVENT
BEGIN:VEVENT
DTSTART;TZID=America/Toronto:20261213T130000
DTEND;TZID=America/Toronto:20261213T160000
DTSTAMP:20260420T163958
CREATED:20260112T214148Z
LAST-MODIFIED:20260112T220220Z
UID:10001110-1797166800-1797177600@lrrc.ca
SUMMARY:Rifle Range Open
DESCRIPTION:RIFLE RANGE OPEN FROM 1 – 4 P.M.
URL:https://lrrc.ca/event/rifle-range-open/2026-12-13/
LOCATION:Listowel Rifle & Revolver Club\, 8310 Rd 165\, Listowel\, Ontario\, N4W 3H2
CATEGORIES:Rifle Range
ORGANIZER;CN="LRRC":MAILTO:listowelgunclub@gmail.com
END:VEVENT
BEGIN:VEVENT
DTSTART;TZID=America/Toronto:20261220T130000
DTEND;TZID=America/Toronto:20261220T160000
DTSTAMP:20260420T163958
CREATED:20260112T214148Z
LAST-MODIFIED:20260112T220220Z
UID:10001111-1797771600-1797782400@lrrc.ca
SUMMARY:Rifle Range Open
DESCRIPTION:RIFLE RANGE OPEN FROM 1 – 4 P.M.
URL:https://lrrc.ca/event/rifle-range-open/2026-12-20/
LOCATION:Listowel Rifle & Revolver Club\, 8310 Rd 165\, Listowel\, Ontario\, N4W 3H2
CATEGORIES:Rifle Range
ORGANIZER;CN="LRRC":MAILTO:listowelgunclub@gmail.com
END:VEVENT
BEGIN:VEVENT
DTSTART;TZID=America/Toronto:20261227T130000
DTEND;TZID=America/Toronto:20261227T160000
DTSTAMP:20260420T163958
CREATED:20260112T214148Z
LAST-MODIFIED:20260112T220220Z
UID:10001112-1798376400-1798387200@lrrc.ca
SUMMARY:Rifle Range Open
DESCRIPTION:RIFLE RANGE OPEN FROM 1 – 4 P.M.
URL:https://lrrc.ca/event/rifle-range-open/2026-12-27/
LOCATION:Listowel Rifle & Revolver Club\, 8310 Rd 165\, Listowel\, Ontario\, N4W 3H2
CATEGORIES:Rifle Range
ORGANIZER;CN="LRRC":MAILTO:listowelgunclub@gmail.com
END:VEVENT
BEGIN:VEVENT
DTSTART;TZID=America/Toronto:20270103T130000
DTEND;TZID=America/Toronto:20270103T160000
DTSTAMP:20260420T163958
CREATED:20260112T214148Z
LAST-MODIFIED:20260112T220220Z
UID:10001113-1798981200-1798992000@lrrc.ca
SUMMARY:Rifle Range Open
DESCRIPTION:RIFLE RANGE OPEN FROM 1 – 4 P.M.
URL:https://lrrc.ca/event/rifle-range-open/2027-01-03/
LOCATION:Listowel Rifle & Revolver Club\, 8310 Rd 165\, Listowel\, Ontario\, N4W 3H2
CATEGORIES:Rifle Range
ORGANIZER;CN="LRRC":MAILTO:listowelgunclub@gmail.com
END:VEVENT
BEGIN:VEVENT
DTSTART;TZID=America/Toronto:20270110T130000
DTEND;TZID=America/Toronto:20270110T160000
DTSTAMP:20260420T163958
CREATED:20260112T214148Z
LAST-MODIFIED:20260112T220220Z
UID:10001114-1799586000-1799596800@lrrc.ca
SUMMARY:Rifle Range Open
DESCRIPTION:RIFLE RANGE OPEN FROM 1 – 4 P.M.
URL:https://lrrc.ca/event/rifle-range-open/2027-01-10/
LOCATION:Listowel Rifle & Revolver Club\, 8310 Rd 165\, Listowel\, Ontario\, N4W 3H2
CATEGORIES:Rifle Range
ORGANIZER;CN="LRRC":MAILTO:listowelgunclub@gmail.com
END:VEVENT
BEGIN:VEVENT
DTSTART;TZID=America/Toronto:20270117T130000
DTEND;TZID=America/Toronto:20270117T160000
DTSTAMP:20260420T163958
CREATED:20260112T214148Z
LAST-MODIFIED:20260112T220220Z
UID:10001115-1800190800-1800201600@lrrc.ca
SUMMARY:Rifle Range Open
DESCRIPTION:RIFLE RANGE OPEN FROM 1 – 4 P.M.
URL:https://lrrc.ca/event/rifle-range-open/2027-01-17/
LOCATION:Listowel Rifle & Revolver Club\, 8310 Rd 165\, Listowel\, Ontario\, N4W 3H2
CATEGORIES:Rifle Range
ORGANIZER;CN="LRRC":MAILTO:listowelgunclub@gmail.com
END:VEVENT
BEGIN:VEVENT
DTSTART;TZID=America/Toronto:20270124T130000
DTEND;TZID=America/Toronto:20270124T160000
DTSTAMP:20260420T163958
CREATED:20260112T214148Z
LAST-MODIFIED:20260112T220220Z
UID:10001116-1800795600-1800806400@lrrc.ca
SUMMARY:Rifle Range Open
DESCRIPTION:RIFLE RANGE OPEN FROM 1 – 4 P.M.
URL:https://lrrc.ca/event/rifle-range-open/2027-01-24/
LOCATION:Listowel Rifle & Revolver Club\, 8310 Rd 165\, Listowel\, Ontario\, N4W 3H2
CATEGORIES:Rifle Range
ORGANIZER;CN="LRRC":MAILTO:listowelgunclub@gmail.com
END:VEVENT
BEGIN:VEVENT
DTSTART;TZID=America/Toronto:20270131T130000
DTEND;TZID=America/Toronto:20270131T160000
DTSTAMP:20260420T163958
CREATED:20260112T214148Z
LAST-MODIFIED:20260112T220220Z
UID:10001117-1801400400-1801411200@lrrc.ca
SUMMARY:Rifle Range Open
DESCRIPTION:RIFLE RANGE OPEN FROM 1 – 4 P.M.
URL:https://lrrc.ca/event/rifle-range-open/2027-01-31/
LOCATION:Listowel Rifle & Revolver Club\, 8310 Rd 165\, Listowel\, Ontario\, N4W 3H2
CATEGORIES:Rifle Range
ORGANIZER;CN="LRRC":MAILTO:listowelgunclub@gmail.com
END:VEVENT
BEGIN:VEVENT
DTSTART;TZID=America/Toronto:20270207T130000
DTEND;TZID=America/Toronto:20270207T160000
DTSTAMP:20260420T163958
CREATED:20260112T214148Z
LAST-MODIFIED:20260112T220220Z
UID:10001118-1802005200-1802016000@lrrc.ca
SUMMARY:Rifle Range Open
DESCRIPTION:RIFLE RANGE OPEN FROM 1 – 4 P.M.
URL:https://lrrc.ca/event/rifle-range-open/2027-02-07/
LOCATION:Listowel Rifle & Revolver Club\, 8310 Rd 165\, Listowel\, Ontario\, N4W 3H2
CATEGORIES:Rifle Range
ORGANIZER;CN="LRRC":MAILTO:listowelgunclub@gmail.com
END:VEVENT
BEGIN:VEVENT
DTSTART;TZID=America/Toronto:20270214T130000
DTEND;TZID=America/Toronto:20270214T160000
DTSTAMP:20260420T163958
CREATED:20260112T214148Z
LAST-MODIFIED:20260112T220220Z
UID:10001119-1802610000-1802620800@lrrc.ca
SUMMARY:Rifle Range Open
DESCRIPTION:RIFLE RANGE OPEN FROM 1 – 4 P.M.
URL:https://lrrc.ca/event/rifle-range-open/2027-02-14/
LOCATION:Listowel Rifle & Revolver Club\, 8310 Rd 165\, Listowel\, Ontario\, N4W 3H2
CATEGORIES:Rifle Range
ORGANIZER;CN="LRRC":MAILTO:listowelgunclub@gmail.com
END:VEVENT
BEGIN:VEVENT
DTSTART;TZID=America/Toronto:20270221T130000
DTEND;TZID=America/Toronto:20270221T160000
DTSTAMP:20260420T163958
CREATED:20260112T214148Z
LAST-MODIFIED:20260112T220220Z
UID:10001120-1803214800-1803225600@lrrc.ca
SUMMARY:Rifle Range Open
DESCRIPTION:RIFLE RANGE OPEN FROM 1 – 4 P.M.
URL:https://lrrc.ca/event/rifle-range-open/2027-02-21/
LOCATION:Listowel Rifle & Revolver Club\, 8310 Rd 165\, Listowel\, Ontario\, N4W 3H2
CATEGORIES:Rifle Range
ORGANIZER;CN="LRRC":MAILTO:listowelgunclub@gmail.com
END:VEVENT
BEGIN:VEVENT
DTSTART;TZID=America/Toronto:20270228T130000
DTEND;TZID=America/Toronto:20270228T160000
DTSTAMP:20260420T163958
CREATED:20260112T214148Z
LAST-MODIFIED:20260112T220220Z
UID:10001121-1803819600-1803830400@lrrc.ca
SUMMARY:Rifle Range Open
DESCRIPTION:RIFLE RANGE OPEN FROM 1 – 4 P.M.
URL:https://lrrc.ca/event/rifle-range-open/2027-02-28/
LOCATION:Listowel Rifle & Revolver Club\, 8310 Rd 165\, Listowel\, Ontario\, N4W 3H2
CATEGORIES:Rifle Range
ORGANIZER;CN="LRRC":MAILTO:listowelgunclub@gmail.com
END:VEVENT
BEGIN:VEVENT
DTSTART;TZID=America/Toronto:20270307T130000
DTEND;TZID=America/Toronto:20270307T160000
DTSTAMP:20260420T163958
CREATED:20260112T214148Z
LAST-MODIFIED:20260112T220220Z
UID:10001122-1804424400-1804435200@lrrc.ca
SUMMARY:Rifle Range Open
DESCRIPTION:RIFLE RANGE OPEN FROM 1 – 4 P.M.
URL:https://lrrc.ca/event/rifle-range-open/2027-03-07/
LOCATION:Listowel Rifle & Revolver Club\, 8310 Rd 165\, Listowel\, Ontario\, N4W 3H2
CATEGORIES:Rifle Range
ORGANIZER;CN="LRRC":MAILTO:listowelgunclub@gmail.com
END:VEVENT
BEGIN:VEVENT
DTSTART;TZID=America/Toronto:20270314T130000
DTEND;TZID=America/Toronto:20270314T160000
DTSTAMP:20260420T163958
CREATED:20260112T214148Z
LAST-MODIFIED:20260112T220220Z
UID:10001123-1805029200-1805040000@lrrc.ca
SUMMARY:Rifle Range Open
DESCRIPTION:RIFLE RANGE OPEN FROM 1 – 4 P.M.
URL:https://lrrc.ca/event/rifle-range-open/2027-03-14/
LOCATION:Listowel Rifle & Revolver Club\, 8310 Rd 165\, Listowel\, Ontario\, N4W 3H2
CATEGORIES:Rifle Range
ORGANIZER;CN="LRRC":MAILTO:listowelgunclub@gmail.com
END:VEVENT
BEGIN:VEVENT
DTSTART;TZID=America/Toronto:20270321T130000
DTEND;TZID=America/Toronto:20270321T160000
DTSTAMP:20260420T163958
CREATED:20260112T214148Z
LAST-MODIFIED:20260112T220220Z
UID:10001124-1805634000-1805644800@lrrc.ca
SUMMARY:Rifle Range Open
DESCRIPTION:RIFLE RANGE OPEN FROM 1 – 4 P.M.
URL:https://lrrc.ca/event/rifle-range-open/2027-03-21/
LOCATION:Listowel Rifle & Revolver Club\, 8310 Rd 165\, Listowel\, Ontario\, N4W 3H2
CATEGORIES:Rifle Range
ORGANIZER;CN="LRRC":MAILTO:listowelgunclub@gmail.com
END:VEVENT
BEGIN:VEVENT
DTSTART;TZID=America/Toronto:20270328T130000
DTEND;TZID=America/Toronto:20270328T160000
DTSTAMP:20260420T163958
CREATED:20260112T214148Z
LAST-MODIFIED:20260112T220220Z
UID:10001125-1806238800-1806249600@lrrc.ca
SUMMARY:Rifle Range Open
DESCRIPTION:RIFLE RANGE OPEN FROM 1 – 4 P.M.
URL:https://lrrc.ca/event/rifle-range-open/2027-03-28/
LOCATION:Listowel Rifle & Revolver Club\, 8310 Rd 165\, Listowel\, Ontario\, N4W 3H2
CATEGORIES:Rifle Range
ORGANIZER;CN="LRRC":MAILTO:listowelgunclub@gmail.com
END:VEVENT
BEGIN:VEVENT
DTSTART;TZID=America/Toronto:20270404T130000
DTEND;TZID=America/Toronto:20270404T160000
DTSTAMP:20260420T163958
CREATED:20260112T214148Z
LAST-MODIFIED:20260112T220220Z
UID:10001126-1806843600-1806854400@lrrc.ca
SUMMARY:Rifle Range Open
DESCRIPTION:RIFLE RANGE OPEN FROM 1 – 4 P.M.
URL:https://lrrc.ca/event/rifle-range-open/2027-04-04/
LOCATION:Listowel Rifle & Revolver Club\, 8310 Rd 165\, Listowel\, Ontario\, N4W 3H2
CATEGORIES:Rifle Range
ORGANIZER;CN="LRRC":MAILTO:listowelgunclub@gmail.com
END:VEVENT
BEGIN:VEVENT
DTSTART;TZID=America/Toronto:20270411T130000
DTEND;TZID=America/Toronto:20270411T160000
DTSTAMP:20260420T163958
CREATED:20260112T214148Z
LAST-MODIFIED:20260112T220220Z
UID:10001127-1807448400-1807459200@lrrc.ca
SUMMARY:Rifle Range Open
DESCRIPTION:RIFLE RANGE OPEN FROM 1 – 4 P.M.
URL:https://lrrc.ca/event/rifle-range-open/2027-04-11/
LOCATION:Listowel Rifle & Revolver Club\, 8310 Rd 165\, Listowel\, Ontario\, N4W 3H2
CATEGORIES:Rifle Range
ORGANIZER;CN="LRRC":MAILTO:listowelgunclub@gmail.com
END:VEVENT
BEGIN:VEVENT
DTSTART;TZID=America/Toronto:20270418T130000
DTEND;TZID=America/Toronto:20270418T160000
DTSTAMP:20260420T163958
CREATED:20260112T214148Z
LAST-MODIFIED:20260112T220220Z
UID:10001128-1808053200-1808064000@lrrc.ca
SUMMARY:Rifle Range Open
DESCRIPTION:RIFLE RANGE OPEN FROM 1 – 4 P.M.
URL:https://lrrc.ca/event/rifle-range-open/2027-04-18/
LOCATION:Listowel Rifle & Revolver Club\, 8310 Rd 165\, Listowel\, Ontario\, N4W 3H2
CATEGORIES:Rifle Range
ORGANIZER;CN="LRRC":MAILTO:listowelgunclub@gmail.com
END:VEVENT
BEGIN:VEVENT
DTSTART;TZID=America/Toronto:20270425T130000
DTEND;TZID=America/Toronto:20270425T160000
DTSTAMP:20260420T163958
CREATED:20260112T214148Z
LAST-MODIFIED:20260112T220220Z
UID:10001129-1808658000-1808668800@lrrc.ca
SUMMARY:Rifle Range Open
DESCRIPTION:RIFLE RANGE OPEN FROM 1 – 4 P.M.
URL:https://lrrc.ca/event/rifle-range-open/2027-04-25/
LOCATION:Listowel Rifle & Revolver Club\, 8310 Rd 165\, Listowel\, Ontario\, N4W 3H2
CATEGORIES:Rifle Range
ORGANIZER;CN="LRRC":MAILTO:listowelgunclub@gmail.com
END:VEVENT
BEGIN:VEVENT
DTSTART;TZID=America/Toronto:20270502T130000
DTEND;TZID=America/Toronto:20270502T160000
DTSTAMP:20260420T163958
CREATED:20260112T214148Z
LAST-MODIFIED:20260112T220220Z
UID:10001130-1809262800-1809273600@lrrc.ca
SUMMARY:Rifle Range Open
DESCRIPTION:RIFLE RANGE OPEN FROM 1 – 4 P.M.
URL:https://lrrc.ca/event/rifle-range-open/2027-05-02/
LOCATION:Listowel Rifle & Revolver Club\, 8310 Rd 165\, Listowel\, Ontario\, N4W 3H2
CATEGORIES:Rifle Range
ORGANIZER;CN="LRRC":MAILTO:listowelgunclub@gmail.com
END:VEVENT
END:VCALENDAR