BEGIN:VCALENDAR
VERSION:2.0
PRODID:-//Listowel Rifle &amp; Revolver Club - ECPv6.15.20//NONSGML v1.0//EN
CALSCALE:GREGORIAN
METHOD:PUBLISH
X-WR-CALNAME:Listowel Rifle &amp; Revolver Club
X-ORIGINAL-URL:https://lrrc.ca
X-WR-CALDESC:Events for Listowel Rifle &amp; Revolver Club
REFRESH-INTERVAL;VALUE=DURATION:PT1H
X-Robots-Tag:noindex
X-PUBLISHED-TTL:PT1H
BEGIN:VTIMEZONE
TZID:America/Toronto
BEGIN:DAYLIGHT
TZOFFSETFROM:-0500
TZOFFSETTO:-0400
TZNAME:EDT
DTSTART:20290311T070000
END:DAYLIGHT
BEGIN:STANDARD
TZOFFSETFROM:-0400
TZOFFSETTO:-0500
TZNAME:EST
DTSTART:20291104T060000
END:STANDARD
BEGIN:DAYLIGHT
TZOFFSETFROM:-0500
TZOFFSETTO:-0400
TZNAME:EDT
DTSTART:20300310T070000
END:DAYLIGHT
BEGIN:STANDARD
TZOFFSETFROM:-0400
TZOFFSETTO:-0500
TZNAME:EST
DTSTART:20301103T060000
END:STANDARD
BEGIN:DAYLIGHT
TZOFFSETFROM:-0500
TZOFFSETTO:-0400
TZNAME:EDT
DTSTART:20310309T070000
END:DAYLIGHT
BEGIN:STANDARD
TZOFFSETFROM:-0400
TZOFFSETTO:-0500
TZNAME:EST
DTSTART:20311102T060000
END:STANDARD
END:VTIMEZONE
BEGIN:VEVENT
DTSTART;TZID=America/Toronto:20300324T130000
DTEND;TZID=America/Toronto:20300324T160000
DTSTAMP:20260423T174146
CREATED:20260112T214148Z
LAST-MODIFIED:20260112T220220Z
UID:10001281-1900587600-1900598400@lrrc.ca
SUMMARY:Rifle Range Open
DESCRIPTION:RIFLE RANGE OPEN FROM 1 – 4 P.M.
URL:https://lrrc.ca/event/rifle-range-open/2030-03-24/
LOCATION:Listowel Rifle & Revolver Club\, 8310 Rd 165\, Listowel\, Ontario\, N4W 3H2
CATEGORIES:Rifle Range
ORGANIZER;CN="LRRC":MAILTO:listowelgunclub@gmail.com
END:VEVENT
BEGIN:VEVENT
DTSTART;TZID=America/Toronto:20300331T130000
DTEND;TZID=America/Toronto:20300331T160000
DTSTAMP:20260423T174146
CREATED:20260112T214148Z
LAST-MODIFIED:20260112T220220Z
UID:10001282-1901192400-1901203200@lrrc.ca
SUMMARY:Rifle Range Open
DESCRIPTION:RIFLE RANGE OPEN FROM 1 – 4 P.M.
URL:https://lrrc.ca/event/rifle-range-open/2030-03-31/
LOCATION:Listowel Rifle & Revolver Club\, 8310 Rd 165\, Listowel\, Ontario\, N4W 3H2
CATEGORIES:Rifle Range
ORGANIZER;CN="LRRC":MAILTO:listowelgunclub@gmail.com
END:VEVENT
BEGIN:VEVENT
DTSTART;TZID=America/Toronto:20300407T130000
DTEND;TZID=America/Toronto:20300407T160000
DTSTAMP:20260423T174146
CREATED:20260112T214148Z
LAST-MODIFIED:20260112T220220Z
UID:10001283-1901797200-1901808000@lrrc.ca
SUMMARY:Rifle Range Open
DESCRIPTION:RIFLE RANGE OPEN FROM 1 – 4 P.M.
URL:https://lrrc.ca/event/rifle-range-open/2030-04-07/
LOCATION:Listowel Rifle & Revolver Club\, 8310 Rd 165\, Listowel\, Ontario\, N4W 3H2
CATEGORIES:Rifle Range
ORGANIZER;CN="LRRC":MAILTO:listowelgunclub@gmail.com
END:VEVENT
BEGIN:VEVENT
DTSTART;TZID=America/Toronto:20300414T130000
DTEND;TZID=America/Toronto:20300414T160000
DTSTAMP:20260423T174146
CREATED:20260112T214148Z
LAST-MODIFIED:20260112T220220Z
UID:10001284-1902402000-1902412800@lrrc.ca
SUMMARY:Rifle Range Open
DESCRIPTION:RIFLE RANGE OPEN FROM 1 – 4 P.M.
URL:https://lrrc.ca/event/rifle-range-open/2030-04-14/
LOCATION:Listowel Rifle & Revolver Club\, 8310 Rd 165\, Listowel\, Ontario\, N4W 3H2
CATEGORIES:Rifle Range
ORGANIZER;CN="LRRC":MAILTO:listowelgunclub@gmail.com
END:VEVENT
BEGIN:VEVENT
DTSTART;TZID=America/Toronto:20300421T130000
DTEND;TZID=America/Toronto:20300421T160000
DTSTAMP:20260423T174146
CREATED:20260112T214148Z
LAST-MODIFIED:20260112T220220Z
UID:10001285-1903006800-1903017600@lrrc.ca
SUMMARY:Rifle Range Open
DESCRIPTION:RIFLE RANGE OPEN FROM 1 – 4 P.M.
URL:https://lrrc.ca/event/rifle-range-open/2030-04-21/
LOCATION:Listowel Rifle & Revolver Club\, 8310 Rd 165\, Listowel\, Ontario\, N4W 3H2
CATEGORIES:Rifle Range
ORGANIZER;CN="LRRC":MAILTO:listowelgunclub@gmail.com
END:VEVENT
BEGIN:VEVENT
DTSTART;TZID=America/Toronto:20300428T130000
DTEND;TZID=America/Toronto:20300428T160000
DTSTAMP:20260423T174146
CREATED:20260112T214148Z
LAST-MODIFIED:20260112T220220Z
UID:10001286-1903611600-1903622400@lrrc.ca
SUMMARY:Rifle Range Open
DESCRIPTION:RIFLE RANGE OPEN FROM 1 – 4 P.M.
URL:https://lrrc.ca/event/rifle-range-open/2030-04-28/
LOCATION:Listowel Rifle & Revolver Club\, 8310 Rd 165\, Listowel\, Ontario\, N4W 3H2
CATEGORIES:Rifle Range
ORGANIZER;CN="LRRC":MAILTO:listowelgunclub@gmail.com
END:VEVENT
BEGIN:VEVENT
DTSTART;TZID=America/Toronto:20300505T130000
DTEND;TZID=America/Toronto:20300505T160000
DTSTAMP:20260423T174146
CREATED:20260112T214148Z
LAST-MODIFIED:20260112T220220Z
UID:10001287-1904216400-1904227200@lrrc.ca
SUMMARY:Rifle Range Open
DESCRIPTION:RIFLE RANGE OPEN FROM 1 – 4 P.M.
URL:https://lrrc.ca/event/rifle-range-open/2030-05-05/
LOCATION:Listowel Rifle & Revolver Club\, 8310 Rd 165\, Listowel\, Ontario\, N4W 3H2
CATEGORIES:Rifle Range
ORGANIZER;CN="LRRC":MAILTO:listowelgunclub@gmail.com
END:VEVENT
BEGIN:VEVENT
DTSTART;TZID=America/Toronto:20300512T130000
DTEND;TZID=America/Toronto:20300512T160000
DTSTAMP:20260423T174146
CREATED:20260112T214148Z
LAST-MODIFIED:20260112T220220Z
UID:10001288-1904821200-1904832000@lrrc.ca
SUMMARY:Rifle Range Open
DESCRIPTION:RIFLE RANGE OPEN FROM 1 – 4 P.M.
URL:https://lrrc.ca/event/rifle-range-open/2030-05-12/
LOCATION:Listowel Rifle & Revolver Club\, 8310 Rd 165\, Listowel\, Ontario\, N4W 3H2
CATEGORIES:Rifle Range
ORGANIZER;CN="LRRC":MAILTO:listowelgunclub@gmail.com
END:VEVENT
BEGIN:VEVENT
DTSTART;TZID=America/Toronto:20300519T130000
DTEND;TZID=America/Toronto:20300519T160000
DTSTAMP:20260423T174146
CREATED:20260112T214148Z
LAST-MODIFIED:20260112T220220Z
UID:10001289-1905426000-1905436800@lrrc.ca
SUMMARY:Rifle Range Open
DESCRIPTION:RIFLE RANGE OPEN FROM 1 – 4 P.M.
URL:https://lrrc.ca/event/rifle-range-open/2030-05-19/
LOCATION:Listowel Rifle & Revolver Club\, 8310 Rd 165\, Listowel\, Ontario\, N4W 3H2
CATEGORIES:Rifle Range
ORGANIZER;CN="LRRC":MAILTO:listowelgunclub@gmail.com
END:VEVENT
BEGIN:VEVENT
DTSTART;TZID=America/Toronto:20300526T130000
DTEND;TZID=America/Toronto:20300526T160000
DTSTAMP:20260423T174146
CREATED:20260112T214148Z
LAST-MODIFIED:20260112T220220Z
UID:10001290-1906030800-1906041600@lrrc.ca
SUMMARY:Rifle Range Open
DESCRIPTION:RIFLE RANGE OPEN FROM 1 – 4 P.M.
URL:https://lrrc.ca/event/rifle-range-open/2030-05-26/
LOCATION:Listowel Rifle & Revolver Club\, 8310 Rd 165\, Listowel\, Ontario\, N4W 3H2
CATEGORIES:Rifle Range
ORGANIZER;CN="LRRC":MAILTO:listowelgunclub@gmail.com
END:VEVENT
BEGIN:VEVENT
DTSTART;TZID=America/Toronto:20300602T130000
DTEND;TZID=America/Toronto:20300602T160000
DTSTAMP:20260423T174146
CREATED:20260112T214148Z
LAST-MODIFIED:20260112T220220Z
UID:10001291-1906635600-1906646400@lrrc.ca
SUMMARY:Rifle Range Open
DESCRIPTION:RIFLE RANGE OPEN FROM 1 – 4 P.M.
URL:https://lrrc.ca/event/rifle-range-open/2030-06-02/
LOCATION:Listowel Rifle & Revolver Club\, 8310 Rd 165\, Listowel\, Ontario\, N4W 3H2
CATEGORIES:Rifle Range
ORGANIZER;CN="LRRC":MAILTO:listowelgunclub@gmail.com
END:VEVENT
BEGIN:VEVENT
DTSTART;TZID=America/Toronto:20300609T130000
DTEND;TZID=America/Toronto:20300609T160000
DTSTAMP:20260423T174146
CREATED:20260112T214148Z
LAST-MODIFIED:20260112T220220Z
UID:10001292-1907240400-1907251200@lrrc.ca
SUMMARY:Rifle Range Open
DESCRIPTION:RIFLE RANGE OPEN FROM 1 – 4 P.M.
URL:https://lrrc.ca/event/rifle-range-open/2030-06-09/
LOCATION:Listowel Rifle & Revolver Club\, 8310 Rd 165\, Listowel\, Ontario\, N4W 3H2
CATEGORIES:Rifle Range
ORGANIZER;CN="LRRC":MAILTO:listowelgunclub@gmail.com
END:VEVENT
BEGIN:VEVENT
DTSTART;TZID=America/Toronto:20300616T130000
DTEND;TZID=America/Toronto:20300616T160000
DTSTAMP:20260423T174146
CREATED:20260112T214148Z
LAST-MODIFIED:20260112T220220Z
UID:10001293-1907845200-1907856000@lrrc.ca
SUMMARY:Rifle Range Open
DESCRIPTION:RIFLE RANGE OPEN FROM 1 – 4 P.M.
URL:https://lrrc.ca/event/rifle-range-open/2030-06-16/
LOCATION:Listowel Rifle & Revolver Club\, 8310 Rd 165\, Listowel\, Ontario\, N4W 3H2
CATEGORIES:Rifle Range
ORGANIZER;CN="LRRC":MAILTO:listowelgunclub@gmail.com
END:VEVENT
BEGIN:VEVENT
DTSTART;TZID=America/Toronto:20300623T130000
DTEND;TZID=America/Toronto:20300623T160000
DTSTAMP:20260423T174146
CREATED:20260112T214148Z
LAST-MODIFIED:20260112T220220Z
UID:10001294-1908450000-1908460800@lrrc.ca
SUMMARY:Rifle Range Open
DESCRIPTION:RIFLE RANGE OPEN FROM 1 – 4 P.M.
URL:https://lrrc.ca/event/rifle-range-open/2030-06-23/
LOCATION:Listowel Rifle & Revolver Club\, 8310 Rd 165\, Listowel\, Ontario\, N4W 3H2
CATEGORIES:Rifle Range
ORGANIZER;CN="LRRC":MAILTO:listowelgunclub@gmail.com
END:VEVENT
BEGIN:VEVENT
DTSTART;TZID=America/Toronto:20300630T130000
DTEND;TZID=America/Toronto:20300630T160000
DTSTAMP:20260423T174146
CREATED:20260112T214148Z
LAST-MODIFIED:20260112T220220Z
UID:10001295-1909054800-1909065600@lrrc.ca
SUMMARY:Rifle Range Open
DESCRIPTION:RIFLE RANGE OPEN FROM 1 – 4 P.M.
URL:https://lrrc.ca/event/rifle-range-open/2030-06-30/
LOCATION:Listowel Rifle & Revolver Club\, 8310 Rd 165\, Listowel\, Ontario\, N4W 3H2
CATEGORIES:Rifle Range
ORGANIZER;CN="LRRC":MAILTO:listowelgunclub@gmail.com
END:VEVENT
BEGIN:VEVENT
DTSTART;TZID=America/Toronto:20300707T130000
DTEND;TZID=America/Toronto:20300707T160000
DTSTAMP:20260423T174146
CREATED:20260112T214148Z
LAST-MODIFIED:20260112T220220Z
UID:10001296-1909659600-1909670400@lrrc.ca
SUMMARY:Rifle Range Open
DESCRIPTION:RIFLE RANGE OPEN FROM 1 – 4 P.M.
URL:https://lrrc.ca/event/rifle-range-open/2030-07-07/
LOCATION:Listowel Rifle & Revolver Club\, 8310 Rd 165\, Listowel\, Ontario\, N4W 3H2
CATEGORIES:Rifle Range
ORGANIZER;CN="LRRC":MAILTO:listowelgunclub@gmail.com
END:VEVENT
BEGIN:VEVENT
DTSTART;TZID=America/Toronto:20300714T130000
DTEND;TZID=America/Toronto:20300714T160000
DTSTAMP:20260423T174146
CREATED:20260112T214148Z
LAST-MODIFIED:20260112T220220Z
UID:10001297-1910264400-1910275200@lrrc.ca
SUMMARY:Rifle Range Open
DESCRIPTION:RIFLE RANGE OPEN FROM 1 – 4 P.M.
URL:https://lrrc.ca/event/rifle-range-open/2030-07-14/
LOCATION:Listowel Rifle & Revolver Club\, 8310 Rd 165\, Listowel\, Ontario\, N4W 3H2
CATEGORIES:Rifle Range
ORGANIZER;CN="LRRC":MAILTO:listowelgunclub@gmail.com
END:VEVENT
BEGIN:VEVENT
DTSTART;TZID=America/Toronto:20300721T130000
DTEND;TZID=America/Toronto:20300721T160000
DTSTAMP:20260423T174146
CREATED:20260112T214148Z
LAST-MODIFIED:20260112T220220Z
UID:10001298-1910869200-1910880000@lrrc.ca
SUMMARY:Rifle Range Open
DESCRIPTION:RIFLE RANGE OPEN FROM 1 – 4 P.M.
URL:https://lrrc.ca/event/rifle-range-open/2030-07-21/
LOCATION:Listowel Rifle & Revolver Club\, 8310 Rd 165\, Listowel\, Ontario\, N4W 3H2
CATEGORIES:Rifle Range
ORGANIZER;CN="LRRC":MAILTO:listowelgunclub@gmail.com
END:VEVENT
BEGIN:VEVENT
DTSTART;TZID=America/Toronto:20300728T130000
DTEND;TZID=America/Toronto:20300728T160000
DTSTAMP:20260423T174146
CREATED:20260112T214148Z
LAST-MODIFIED:20260112T220220Z
UID:10001299-1911474000-1911484800@lrrc.ca
SUMMARY:Rifle Range Open
DESCRIPTION:RIFLE RANGE OPEN FROM 1 – 4 P.M.
URL:https://lrrc.ca/event/rifle-range-open/2030-07-28/
LOCATION:Listowel Rifle & Revolver Club\, 8310 Rd 165\, Listowel\, Ontario\, N4W 3H2
CATEGORIES:Rifle Range
ORGANIZER;CN="LRRC":MAILTO:listowelgunclub@gmail.com
END:VEVENT
BEGIN:VEVENT
DTSTART;TZID=America/Toronto:20300804T130000
DTEND;TZID=America/Toronto:20300804T160000
DTSTAMP:20260423T174146
CREATED:20260112T214148Z
LAST-MODIFIED:20260112T220220Z
UID:10001300-1912078800-1912089600@lrrc.ca
SUMMARY:Rifle Range Open
DESCRIPTION:RIFLE RANGE OPEN FROM 1 – 4 P.M.
URL:https://lrrc.ca/event/rifle-range-open/2030-08-04/
LOCATION:Listowel Rifle & Revolver Club\, 8310 Rd 165\, Listowel\, Ontario\, N4W 3H2
CATEGORIES:Rifle Range
ORGANIZER;CN="LRRC":MAILTO:listowelgunclub@gmail.com
END:VEVENT
BEGIN:VEVENT
DTSTART;TZID=America/Toronto:20300811T130000
DTEND;TZID=America/Toronto:20300811T160000
DTSTAMP:20260423T174146
CREATED:20260112T214148Z
LAST-MODIFIED:20260112T220220Z
UID:10001301-1912683600-1912694400@lrrc.ca
SUMMARY:Rifle Range Open
DESCRIPTION:RIFLE RANGE OPEN FROM 1 – 4 P.M.
URL:https://lrrc.ca/event/rifle-range-open/2030-08-11/
LOCATION:Listowel Rifle & Revolver Club\, 8310 Rd 165\, Listowel\, Ontario\, N4W 3H2
CATEGORIES:Rifle Range
ORGANIZER;CN="LRRC":MAILTO:listowelgunclub@gmail.com
END:VEVENT
BEGIN:VEVENT
DTSTART;TZID=America/Toronto:20300818T130000
DTEND;TZID=America/Toronto:20300818T160000
DTSTAMP:20260423T174146
CREATED:20260112T214148Z
LAST-MODIFIED:20260112T220220Z
UID:10001302-1913288400-1913299200@lrrc.ca
SUMMARY:Rifle Range Open
DESCRIPTION:RIFLE RANGE OPEN FROM 1 – 4 P.M.
URL:https://lrrc.ca/event/rifle-range-open/2030-08-18/
LOCATION:Listowel Rifle & Revolver Club\, 8310 Rd 165\, Listowel\, Ontario\, N4W 3H2
CATEGORIES:Rifle Range
ORGANIZER;CN="LRRC":MAILTO:listowelgunclub@gmail.com
END:VEVENT
BEGIN:VEVENT
DTSTART;TZID=America/Toronto:20300825T130000
DTEND;TZID=America/Toronto:20300825T160000
DTSTAMP:20260423T174146
CREATED:20260112T214148Z
LAST-MODIFIED:20260112T220220Z
UID:10001303-1913893200-1913904000@lrrc.ca
SUMMARY:Rifle Range Open
DESCRIPTION:RIFLE RANGE OPEN FROM 1 – 4 P.M.
URL:https://lrrc.ca/event/rifle-range-open/2030-08-25/
LOCATION:Listowel Rifle & Revolver Club\, 8310 Rd 165\, Listowel\, Ontario\, N4W 3H2
CATEGORIES:Rifle Range
ORGANIZER;CN="LRRC":MAILTO:listowelgunclub@gmail.com
END:VEVENT
BEGIN:VEVENT
DTSTART;TZID=America/Toronto:20300901T130000
DTEND;TZID=America/Toronto:20300901T160000
DTSTAMP:20260423T174146
CREATED:20260112T214148Z
LAST-MODIFIED:20260112T220220Z
UID:10001304-1914498000-1914508800@lrrc.ca
SUMMARY:Rifle Range Open
DESCRIPTION:RIFLE RANGE OPEN FROM 1 – 4 P.M.
URL:https://lrrc.ca/event/rifle-range-open/2030-09-01/
LOCATION:Listowel Rifle & Revolver Club\, 8310 Rd 165\, Listowel\, Ontario\, N4W 3H2
CATEGORIES:Rifle Range
ORGANIZER;CN="LRRC":MAILTO:listowelgunclub@gmail.com
END:VEVENT
BEGIN:VEVENT
DTSTART;TZID=America/Toronto:20300908T130000
DTEND;TZID=America/Toronto:20300908T160000
DTSTAMP:20260423T174146
CREATED:20260112T214148Z
LAST-MODIFIED:20260112T220220Z
UID:10001305-1915102800-1915113600@lrrc.ca
SUMMARY:Rifle Range Open
DESCRIPTION:RIFLE RANGE OPEN FROM 1 – 4 P.M.
URL:https://lrrc.ca/event/rifle-range-open/2030-09-08/
LOCATION:Listowel Rifle & Revolver Club\, 8310 Rd 165\, Listowel\, Ontario\, N4W 3H2
CATEGORIES:Rifle Range
ORGANIZER;CN="LRRC":MAILTO:listowelgunclub@gmail.com
END:VEVENT
BEGIN:VEVENT
DTSTART;TZID=America/Toronto:20300915T130000
DTEND;TZID=America/Toronto:20300915T160000
DTSTAMP:20260423T174146
CREATED:20260112T214148Z
LAST-MODIFIED:20260112T220220Z
UID:10001306-1915707600-1915718400@lrrc.ca
SUMMARY:Rifle Range Open
DESCRIPTION:RIFLE RANGE OPEN FROM 1 – 4 P.M.
URL:https://lrrc.ca/event/rifle-range-open/2030-09-15/
LOCATION:Listowel Rifle & Revolver Club\, 8310 Rd 165\, Listowel\, Ontario\, N4W 3H2
CATEGORIES:Rifle Range
ORGANIZER;CN="LRRC":MAILTO:listowelgunclub@gmail.com
END:VEVENT
BEGIN:VEVENT
DTSTART;TZID=America/Toronto:20300922T130000
DTEND;TZID=America/Toronto:20300922T160000
DTSTAMP:20260423T174146
CREATED:20260112T214148Z
LAST-MODIFIED:20260112T220220Z
UID:10001307-1916312400-1916323200@lrrc.ca
SUMMARY:Rifle Range Open
DESCRIPTION:RIFLE RANGE OPEN FROM 1 – 4 P.M.
URL:https://lrrc.ca/event/rifle-range-open/2030-09-22/
LOCATION:Listowel Rifle & Revolver Club\, 8310 Rd 165\, Listowel\, Ontario\, N4W 3H2
CATEGORIES:Rifle Range
ORGANIZER;CN="LRRC":MAILTO:listowelgunclub@gmail.com
END:VEVENT
BEGIN:VEVENT
DTSTART;TZID=America/Toronto:20300929T130000
DTEND;TZID=America/Toronto:20300929T160000
DTSTAMP:20260423T174146
CREATED:20260112T214148Z
LAST-MODIFIED:20260112T220220Z
UID:10001308-1916917200-1916928000@lrrc.ca
SUMMARY:Rifle Range Open
DESCRIPTION:RIFLE RANGE OPEN FROM 1 – 4 P.M.
URL:https://lrrc.ca/event/rifle-range-open/2030-09-29/
LOCATION:Listowel Rifle & Revolver Club\, 8310 Rd 165\, Listowel\, Ontario\, N4W 3H2
CATEGORIES:Rifle Range
ORGANIZER;CN="LRRC":MAILTO:listowelgunclub@gmail.com
END:VEVENT
BEGIN:VEVENT
DTSTART;TZID=America/Toronto:20301006T130000
DTEND;TZID=America/Toronto:20301006T160000
DTSTAMP:20260423T174146
CREATED:20260112T214148Z
LAST-MODIFIED:20260112T220220Z
UID:10001309-1917522000-1917532800@lrrc.ca
SUMMARY:Rifle Range Open
DESCRIPTION:RIFLE RANGE OPEN FROM 1 – 4 P.M.
URL:https://lrrc.ca/event/rifle-range-open/2030-10-06/
LOCATION:Listowel Rifle & Revolver Club\, 8310 Rd 165\, Listowel\, Ontario\, N4W 3H2
CATEGORIES:Rifle Range
ORGANIZER;CN="LRRC":MAILTO:listowelgunclub@gmail.com
END:VEVENT
BEGIN:VEVENT
DTSTART;TZID=America/Toronto:20301013T130000
DTEND;TZID=America/Toronto:20301013T160000
DTSTAMP:20260423T174146
CREATED:20260112T214148Z
LAST-MODIFIED:20260112T220220Z
UID:10001310-1918126800-1918137600@lrrc.ca
SUMMARY:Rifle Range Open
DESCRIPTION:RIFLE RANGE OPEN FROM 1 – 4 P.M.
URL:https://lrrc.ca/event/rifle-range-open/2030-10-13/
LOCATION:Listowel Rifle & Revolver Club\, 8310 Rd 165\, Listowel\, Ontario\, N4W 3H2
CATEGORIES:Rifle Range
ORGANIZER;CN="LRRC":MAILTO:listowelgunclub@gmail.com
END:VEVENT
END:VCALENDAR