BEGIN:VCALENDAR
VERSION:2.0
PRODID:-//Listowel Rifle &amp; Revolver Club - ECPv6.15.20//NONSGML v1.0//EN
CALSCALE:GREGORIAN
METHOD:PUBLISH
X-ORIGINAL-URL:https://lrrc.ca
X-WR-CALDESC:Events for Listowel Rifle &amp; Revolver Club
REFRESH-INTERVAL;VALUE=DURATION:PT1H
X-Robots-Tag:noindex
X-PUBLISHED-TTL:PT1H
BEGIN:VTIMEZONE
TZID:America/Toronto
BEGIN:DAYLIGHT
TZOFFSETFROM:-0500
TZOFFSETTO:-0400
TZNAME:EDT
DTSTART:20280312T070000
END:DAYLIGHT
BEGIN:STANDARD
TZOFFSETFROM:-0400
TZOFFSETTO:-0500
TZNAME:EST
DTSTART:20281105T060000
END:STANDARD
BEGIN:DAYLIGHT
TZOFFSETFROM:-0500
TZOFFSETTO:-0400
TZNAME:EDT
DTSTART:20290311T070000
END:DAYLIGHT
BEGIN:STANDARD
TZOFFSETFROM:-0400
TZOFFSETTO:-0500
TZNAME:EST
DTSTART:20291104T060000
END:STANDARD
BEGIN:DAYLIGHT
TZOFFSETFROM:-0500
TZOFFSETTO:-0400
TZNAME:EDT
DTSTART:20300310T070000
END:DAYLIGHT
BEGIN:STANDARD
TZOFFSETFROM:-0400
TZOFFSETTO:-0500
TZNAME:EST
DTSTART:20301103T060000
END:STANDARD
END:VTIMEZONE
BEGIN:VEVENT
DTSTART;TZID=America/Toronto:20290415T130000
DTEND;TZID=America/Toronto:20290415T160000
DTSTAMP:20260423T071559
CREATED:20260112T214148Z
LAST-MODIFIED:20260112T220220Z
UID:10001232-1870952400-1870963200@lrrc.ca
SUMMARY:Rifle Range Open
DESCRIPTION:RIFLE RANGE OPEN FROM 1 – 4 P.M.
URL:https://lrrc.ca/event/rifle-range-open/2029-04-15/
LOCATION:Listowel Rifle & Revolver Club\, 8310 Rd 165\, Listowel\, Ontario\, N4W 3H2
CATEGORIES:Rifle Range
ORGANIZER;CN="LRRC":MAILTO:listowelgunclub@gmail.com
END:VEVENT
BEGIN:VEVENT
DTSTART;TZID=America/Toronto:20290422T130000
DTEND;TZID=America/Toronto:20290422T160000
DTSTAMP:20260423T071559
CREATED:20260112T214148Z
LAST-MODIFIED:20260112T220220Z
UID:10001233-1871557200-1871568000@lrrc.ca
SUMMARY:Rifle Range Open
DESCRIPTION:RIFLE RANGE OPEN FROM 1 – 4 P.M.
URL:https://lrrc.ca/event/rifle-range-open/2029-04-22/
LOCATION:Listowel Rifle & Revolver Club\, 8310 Rd 165\, Listowel\, Ontario\, N4W 3H2
CATEGORIES:Rifle Range
ORGANIZER;CN="LRRC":MAILTO:listowelgunclub@gmail.com
END:VEVENT
BEGIN:VEVENT
DTSTART;TZID=America/Toronto:20290429T130000
DTEND;TZID=America/Toronto:20290429T160000
DTSTAMP:20260423T071559
CREATED:20260112T214148Z
LAST-MODIFIED:20260112T220220Z
UID:10001234-1872162000-1872172800@lrrc.ca
SUMMARY:Rifle Range Open
DESCRIPTION:RIFLE RANGE OPEN FROM 1 – 4 P.M.
URL:https://lrrc.ca/event/rifle-range-open/2029-04-29/
LOCATION:Listowel Rifle & Revolver Club\, 8310 Rd 165\, Listowel\, Ontario\, N4W 3H2
CATEGORIES:Rifle Range
ORGANIZER;CN="LRRC":MAILTO:listowelgunclub@gmail.com
END:VEVENT
BEGIN:VEVENT
DTSTART;TZID=America/Toronto:20290506T130000
DTEND;TZID=America/Toronto:20290506T160000
DTSTAMP:20260423T071559
CREATED:20260112T214148Z
LAST-MODIFIED:20260112T220220Z
UID:10001235-1872766800-1872777600@lrrc.ca
SUMMARY:Rifle Range Open
DESCRIPTION:RIFLE RANGE OPEN FROM 1 – 4 P.M.
URL:https://lrrc.ca/event/rifle-range-open/2029-05-06/
LOCATION:Listowel Rifle & Revolver Club\, 8310 Rd 165\, Listowel\, Ontario\, N4W 3H2
CATEGORIES:Rifle Range
ORGANIZER;CN="LRRC":MAILTO:listowelgunclub@gmail.com
END:VEVENT
BEGIN:VEVENT
DTSTART;TZID=America/Toronto:20290513T130000
DTEND;TZID=America/Toronto:20290513T160000
DTSTAMP:20260423T071559
CREATED:20260112T214148Z
LAST-MODIFIED:20260112T220220Z
UID:10001236-1873371600-1873382400@lrrc.ca
SUMMARY:Rifle Range Open
DESCRIPTION:RIFLE RANGE OPEN FROM 1 – 4 P.M.
URL:https://lrrc.ca/event/rifle-range-open/2029-05-13/
LOCATION:Listowel Rifle & Revolver Club\, 8310 Rd 165\, Listowel\, Ontario\, N4W 3H2
CATEGORIES:Rifle Range
ORGANIZER;CN="LRRC":MAILTO:listowelgunclub@gmail.com
END:VEVENT
BEGIN:VEVENT
DTSTART;TZID=America/Toronto:20290520T130000
DTEND;TZID=America/Toronto:20290520T160000
DTSTAMP:20260423T071559
CREATED:20260112T214148Z
LAST-MODIFIED:20260112T220220Z
UID:10001237-1873976400-1873987200@lrrc.ca
SUMMARY:Rifle Range Open
DESCRIPTION:RIFLE RANGE OPEN FROM 1 – 4 P.M.
URL:https://lrrc.ca/event/rifle-range-open/2029-05-20/
LOCATION:Listowel Rifle & Revolver Club\, 8310 Rd 165\, Listowel\, Ontario\, N4W 3H2
CATEGORIES:Rifle Range
ORGANIZER;CN="LRRC":MAILTO:listowelgunclub@gmail.com
END:VEVENT
BEGIN:VEVENT
DTSTART;TZID=America/Toronto:20290527T130000
DTEND;TZID=America/Toronto:20290527T160000
DTSTAMP:20260423T071559
CREATED:20260112T214148Z
LAST-MODIFIED:20260112T220220Z
UID:10001238-1874581200-1874592000@lrrc.ca
SUMMARY:Rifle Range Open
DESCRIPTION:RIFLE RANGE OPEN FROM 1 – 4 P.M.
URL:https://lrrc.ca/event/rifle-range-open/2029-05-27/
LOCATION:Listowel Rifle & Revolver Club\, 8310 Rd 165\, Listowel\, Ontario\, N4W 3H2
CATEGORIES:Rifle Range
ORGANIZER;CN="LRRC":MAILTO:listowelgunclub@gmail.com
END:VEVENT
BEGIN:VEVENT
DTSTART;TZID=America/Toronto:20290603T130000
DTEND;TZID=America/Toronto:20290603T160000
DTSTAMP:20260423T071559
CREATED:20260112T214148Z
LAST-MODIFIED:20260112T220220Z
UID:10001239-1875186000-1875196800@lrrc.ca
SUMMARY:Rifle Range Open
DESCRIPTION:RIFLE RANGE OPEN FROM 1 – 4 P.M.
URL:https://lrrc.ca/event/rifle-range-open/2029-06-03/
LOCATION:Listowel Rifle & Revolver Club\, 8310 Rd 165\, Listowel\, Ontario\, N4W 3H2
CATEGORIES:Rifle Range
ORGANIZER;CN="LRRC":MAILTO:listowelgunclub@gmail.com
END:VEVENT
BEGIN:VEVENT
DTSTART;TZID=America/Toronto:20290610T130000
DTEND;TZID=America/Toronto:20290610T160000
DTSTAMP:20260423T071559
CREATED:20260112T214148Z
LAST-MODIFIED:20260112T220220Z
UID:10001240-1875790800-1875801600@lrrc.ca
SUMMARY:Rifle Range Open
DESCRIPTION:RIFLE RANGE OPEN FROM 1 – 4 P.M.
URL:https://lrrc.ca/event/rifle-range-open/2029-06-10/
LOCATION:Listowel Rifle & Revolver Club\, 8310 Rd 165\, Listowel\, Ontario\, N4W 3H2
CATEGORIES:Rifle Range
ORGANIZER;CN="LRRC":MAILTO:listowelgunclub@gmail.com
END:VEVENT
BEGIN:VEVENT
DTSTART;TZID=America/Toronto:20290617T130000
DTEND;TZID=America/Toronto:20290617T160000
DTSTAMP:20260423T071559
CREATED:20260112T214148Z
LAST-MODIFIED:20260112T220220Z
UID:10001241-1876395600-1876406400@lrrc.ca
SUMMARY:Rifle Range Open
DESCRIPTION:RIFLE RANGE OPEN FROM 1 – 4 P.M.
URL:https://lrrc.ca/event/rifle-range-open/2029-06-17/
LOCATION:Listowel Rifle & Revolver Club\, 8310 Rd 165\, Listowel\, Ontario\, N4W 3H2
CATEGORIES:Rifle Range
ORGANIZER;CN="LRRC":MAILTO:listowelgunclub@gmail.com
END:VEVENT
BEGIN:VEVENT
DTSTART;TZID=America/Toronto:20290624T130000
DTEND;TZID=America/Toronto:20290624T160000
DTSTAMP:20260423T071559
CREATED:20260112T214148Z
LAST-MODIFIED:20260112T220220Z
UID:10001242-1877000400-1877011200@lrrc.ca
SUMMARY:Rifle Range Open
DESCRIPTION:RIFLE RANGE OPEN FROM 1 – 4 P.M.
URL:https://lrrc.ca/event/rifle-range-open/2029-06-24/
LOCATION:Listowel Rifle & Revolver Club\, 8310 Rd 165\, Listowel\, Ontario\, N4W 3H2
CATEGORIES:Rifle Range
ORGANIZER;CN="LRRC":MAILTO:listowelgunclub@gmail.com
END:VEVENT
BEGIN:VEVENT
DTSTART;TZID=America/Toronto:20290701T130000
DTEND;TZID=America/Toronto:20290701T160000
DTSTAMP:20260423T071559
CREATED:20260112T214148Z
LAST-MODIFIED:20260112T220220Z
UID:10001243-1877605200-1877616000@lrrc.ca
SUMMARY:Rifle Range Open
DESCRIPTION:RIFLE RANGE OPEN FROM 1 – 4 P.M.
URL:https://lrrc.ca/event/rifle-range-open/2029-07-01/
LOCATION:Listowel Rifle & Revolver Club\, 8310 Rd 165\, Listowel\, Ontario\, N4W 3H2
CATEGORIES:Rifle Range
ORGANIZER;CN="LRRC":MAILTO:listowelgunclub@gmail.com
END:VEVENT
BEGIN:VEVENT
DTSTART;TZID=America/Toronto:20290708T130000
DTEND;TZID=America/Toronto:20290708T160000
DTSTAMP:20260423T071559
CREATED:20260112T214148Z
LAST-MODIFIED:20260112T220220Z
UID:10001244-1878210000-1878220800@lrrc.ca
SUMMARY:Rifle Range Open
DESCRIPTION:RIFLE RANGE OPEN FROM 1 – 4 P.M.
URL:https://lrrc.ca/event/rifle-range-open/2029-07-08/
LOCATION:Listowel Rifle & Revolver Club\, 8310 Rd 165\, Listowel\, Ontario\, N4W 3H2
CATEGORIES:Rifle Range
ORGANIZER;CN="LRRC":MAILTO:listowelgunclub@gmail.com
END:VEVENT
BEGIN:VEVENT
DTSTART;TZID=America/Toronto:20290715T130000
DTEND;TZID=America/Toronto:20290715T160000
DTSTAMP:20260423T071559
CREATED:20260112T214148Z
LAST-MODIFIED:20260112T220220Z
UID:10001245-1878814800-1878825600@lrrc.ca
SUMMARY:Rifle Range Open
DESCRIPTION:RIFLE RANGE OPEN FROM 1 – 4 P.M.
URL:https://lrrc.ca/event/rifle-range-open/2029-07-15/
LOCATION:Listowel Rifle & Revolver Club\, 8310 Rd 165\, Listowel\, Ontario\, N4W 3H2
CATEGORIES:Rifle Range
ORGANIZER;CN="LRRC":MAILTO:listowelgunclub@gmail.com
END:VEVENT
BEGIN:VEVENT
DTSTART;TZID=America/Toronto:20290722T130000
DTEND;TZID=America/Toronto:20290722T160000
DTSTAMP:20260423T071559
CREATED:20260112T214148Z
LAST-MODIFIED:20260112T220220Z
UID:10001246-1879419600-1879430400@lrrc.ca
SUMMARY:Rifle Range Open
DESCRIPTION:RIFLE RANGE OPEN FROM 1 – 4 P.M.
URL:https://lrrc.ca/event/rifle-range-open/2029-07-22/
LOCATION:Listowel Rifle & Revolver Club\, 8310 Rd 165\, Listowel\, Ontario\, N4W 3H2
CATEGORIES:Rifle Range
ORGANIZER;CN="LRRC":MAILTO:listowelgunclub@gmail.com
END:VEVENT
BEGIN:VEVENT
DTSTART;TZID=America/Toronto:20290729T130000
DTEND;TZID=America/Toronto:20290729T160000
DTSTAMP:20260423T071559
CREATED:20260112T214148Z
LAST-MODIFIED:20260112T220220Z
UID:10001247-1880024400-1880035200@lrrc.ca
SUMMARY:Rifle Range Open
DESCRIPTION:RIFLE RANGE OPEN FROM 1 – 4 P.M.
URL:https://lrrc.ca/event/rifle-range-open/2029-07-29/
LOCATION:Listowel Rifle & Revolver Club\, 8310 Rd 165\, Listowel\, Ontario\, N4W 3H2
CATEGORIES:Rifle Range
ORGANIZER;CN="LRRC":MAILTO:listowelgunclub@gmail.com
END:VEVENT
BEGIN:VEVENT
DTSTART;TZID=America/Toronto:20290805T130000
DTEND;TZID=America/Toronto:20290805T160000
DTSTAMP:20260423T071559
CREATED:20260112T214148Z
LAST-MODIFIED:20260112T220220Z
UID:10001248-1880629200-1880640000@lrrc.ca
SUMMARY:Rifle Range Open
DESCRIPTION:RIFLE RANGE OPEN FROM 1 – 4 P.M.
URL:https://lrrc.ca/event/rifle-range-open/2029-08-05/
LOCATION:Listowel Rifle & Revolver Club\, 8310 Rd 165\, Listowel\, Ontario\, N4W 3H2
CATEGORIES:Rifle Range
ORGANIZER;CN="LRRC":MAILTO:listowelgunclub@gmail.com
END:VEVENT
BEGIN:VEVENT
DTSTART;TZID=America/Toronto:20290812T130000
DTEND;TZID=America/Toronto:20290812T160000
DTSTAMP:20260423T071559
CREATED:20260112T214148Z
LAST-MODIFIED:20260112T220220Z
UID:10001249-1881234000-1881244800@lrrc.ca
SUMMARY:Rifle Range Open
DESCRIPTION:RIFLE RANGE OPEN FROM 1 – 4 P.M.
URL:https://lrrc.ca/event/rifle-range-open/2029-08-12/
LOCATION:Listowel Rifle & Revolver Club\, 8310 Rd 165\, Listowel\, Ontario\, N4W 3H2
CATEGORIES:Rifle Range
ORGANIZER;CN="LRRC":MAILTO:listowelgunclub@gmail.com
END:VEVENT
BEGIN:VEVENT
DTSTART;TZID=America/Toronto:20290819T130000
DTEND;TZID=America/Toronto:20290819T160000
DTSTAMP:20260423T071559
CREATED:20260112T214148Z
LAST-MODIFIED:20260112T220220Z
UID:10001250-1881838800-1881849600@lrrc.ca
SUMMARY:Rifle Range Open
DESCRIPTION:RIFLE RANGE OPEN FROM 1 – 4 P.M.
URL:https://lrrc.ca/event/rifle-range-open/2029-08-19/
LOCATION:Listowel Rifle & Revolver Club\, 8310 Rd 165\, Listowel\, Ontario\, N4W 3H2
CATEGORIES:Rifle Range
ORGANIZER;CN="LRRC":MAILTO:listowelgunclub@gmail.com
END:VEVENT
BEGIN:VEVENT
DTSTART;TZID=America/Toronto:20290826T130000
DTEND;TZID=America/Toronto:20290826T160000
DTSTAMP:20260423T071559
CREATED:20260112T214148Z
LAST-MODIFIED:20260112T220220Z
UID:10001251-1882443600-1882454400@lrrc.ca
SUMMARY:Rifle Range Open
DESCRIPTION:RIFLE RANGE OPEN FROM 1 – 4 P.M.
URL:https://lrrc.ca/event/rifle-range-open/2029-08-26/
LOCATION:Listowel Rifle & Revolver Club\, 8310 Rd 165\, Listowel\, Ontario\, N4W 3H2
CATEGORIES:Rifle Range
ORGANIZER;CN="LRRC":MAILTO:listowelgunclub@gmail.com
END:VEVENT
BEGIN:VEVENT
DTSTART;TZID=America/Toronto:20290902T130000
DTEND;TZID=America/Toronto:20290902T160000
DTSTAMP:20260423T071559
CREATED:20260112T214148Z
LAST-MODIFIED:20260112T220220Z
UID:10001252-1883048400-1883059200@lrrc.ca
SUMMARY:Rifle Range Open
DESCRIPTION:RIFLE RANGE OPEN FROM 1 – 4 P.M.
URL:https://lrrc.ca/event/rifle-range-open/2029-09-02/
LOCATION:Listowel Rifle & Revolver Club\, 8310 Rd 165\, Listowel\, Ontario\, N4W 3H2
CATEGORIES:Rifle Range
ORGANIZER;CN="LRRC":MAILTO:listowelgunclub@gmail.com
END:VEVENT
BEGIN:VEVENT
DTSTART;TZID=America/Toronto:20290909T130000
DTEND;TZID=America/Toronto:20290909T160000
DTSTAMP:20260423T071559
CREATED:20260112T214148Z
LAST-MODIFIED:20260112T220220Z
UID:10001253-1883653200-1883664000@lrrc.ca
SUMMARY:Rifle Range Open
DESCRIPTION:RIFLE RANGE OPEN FROM 1 – 4 P.M.
URL:https://lrrc.ca/event/rifle-range-open/2029-09-09/
LOCATION:Listowel Rifle & Revolver Club\, 8310 Rd 165\, Listowel\, Ontario\, N4W 3H2
CATEGORIES:Rifle Range
ORGANIZER;CN="LRRC":MAILTO:listowelgunclub@gmail.com
END:VEVENT
BEGIN:VEVENT
DTSTART;TZID=America/Toronto:20290916T130000
DTEND;TZID=America/Toronto:20290916T160000
DTSTAMP:20260423T071559
CREATED:20260112T214148Z
LAST-MODIFIED:20260112T220220Z
UID:10001254-1884258000-1884268800@lrrc.ca
SUMMARY:Rifle Range Open
DESCRIPTION:RIFLE RANGE OPEN FROM 1 – 4 P.M.
URL:https://lrrc.ca/event/rifle-range-open/2029-09-16/
LOCATION:Listowel Rifle & Revolver Club\, 8310 Rd 165\, Listowel\, Ontario\, N4W 3H2
CATEGORIES:Rifle Range
ORGANIZER;CN="LRRC":MAILTO:listowelgunclub@gmail.com
END:VEVENT
BEGIN:VEVENT
DTSTART;TZID=America/Toronto:20290923T130000
DTEND;TZID=America/Toronto:20290923T160000
DTSTAMP:20260423T071559
CREATED:20260112T214148Z
LAST-MODIFIED:20260112T220220Z
UID:10001255-1884862800-1884873600@lrrc.ca
SUMMARY:Rifle Range Open
DESCRIPTION:RIFLE RANGE OPEN FROM 1 – 4 P.M.
URL:https://lrrc.ca/event/rifle-range-open/2029-09-23/
LOCATION:Listowel Rifle & Revolver Club\, 8310 Rd 165\, Listowel\, Ontario\, N4W 3H2
CATEGORIES:Rifle Range
ORGANIZER;CN="LRRC":MAILTO:listowelgunclub@gmail.com
END:VEVENT
BEGIN:VEVENT
DTSTART;TZID=America/Toronto:20290930T130000
DTEND;TZID=America/Toronto:20290930T160000
DTSTAMP:20260423T071559
CREATED:20260112T214148Z
LAST-MODIFIED:20260112T220220Z
UID:10001256-1885467600-1885478400@lrrc.ca
SUMMARY:Rifle Range Open
DESCRIPTION:RIFLE RANGE OPEN FROM 1 – 4 P.M.
URL:https://lrrc.ca/event/rifle-range-open/2029-09-30/
LOCATION:Listowel Rifle & Revolver Club\, 8310 Rd 165\, Listowel\, Ontario\, N4W 3H2
CATEGORIES:Rifle Range
ORGANIZER;CN="LRRC":MAILTO:listowelgunclub@gmail.com
END:VEVENT
BEGIN:VEVENT
DTSTART;TZID=America/Toronto:20291007T130000
DTEND;TZID=America/Toronto:20291007T160000
DTSTAMP:20260423T071559
CREATED:20260112T214148Z
LAST-MODIFIED:20260112T220220Z
UID:10001257-1886072400-1886083200@lrrc.ca
SUMMARY:Rifle Range Open
DESCRIPTION:RIFLE RANGE OPEN FROM 1 – 4 P.M.
URL:https://lrrc.ca/event/rifle-range-open/2029-10-07/
LOCATION:Listowel Rifle & Revolver Club\, 8310 Rd 165\, Listowel\, Ontario\, N4W 3H2
CATEGORIES:Rifle Range
ORGANIZER;CN="LRRC":MAILTO:listowelgunclub@gmail.com
END:VEVENT
BEGIN:VEVENT
DTSTART;TZID=America/Toronto:20291014T130000
DTEND;TZID=America/Toronto:20291014T160000
DTSTAMP:20260423T071559
CREATED:20260112T214148Z
LAST-MODIFIED:20260112T220220Z
UID:10001258-1886677200-1886688000@lrrc.ca
SUMMARY:Rifle Range Open
DESCRIPTION:RIFLE RANGE OPEN FROM 1 – 4 P.M.
URL:https://lrrc.ca/event/rifle-range-open/2029-10-14/
LOCATION:Listowel Rifle & Revolver Club\, 8310 Rd 165\, Listowel\, Ontario\, N4W 3H2
CATEGORIES:Rifle Range
ORGANIZER;CN="LRRC":MAILTO:listowelgunclub@gmail.com
END:VEVENT
BEGIN:VEVENT
DTSTART;TZID=America/Toronto:20291021T130000
DTEND;TZID=America/Toronto:20291021T160000
DTSTAMP:20260423T071559
CREATED:20260112T214148Z
LAST-MODIFIED:20260112T220220Z
UID:10001259-1887282000-1887292800@lrrc.ca
SUMMARY:Rifle Range Open
DESCRIPTION:RIFLE RANGE OPEN FROM 1 – 4 P.M.
URL:https://lrrc.ca/event/rifle-range-open/2029-10-21/
LOCATION:Listowel Rifle & Revolver Club\, 8310 Rd 165\, Listowel\, Ontario\, N4W 3H2
CATEGORIES:Rifle Range
ORGANIZER;CN="LRRC":MAILTO:listowelgunclub@gmail.com
END:VEVENT
BEGIN:VEVENT
DTSTART;TZID=America/Toronto:20291028T130000
DTEND;TZID=America/Toronto:20291028T160000
DTSTAMP:20260423T071559
CREATED:20260112T214148Z
LAST-MODIFIED:20260112T220220Z
UID:10001260-1887886800-1887897600@lrrc.ca
SUMMARY:Rifle Range Open
DESCRIPTION:RIFLE RANGE OPEN FROM 1 – 4 P.M.
URL:https://lrrc.ca/event/rifle-range-open/2029-10-28/
LOCATION:Listowel Rifle & Revolver Club\, 8310 Rd 165\, Listowel\, Ontario\, N4W 3H2
CATEGORIES:Rifle Range
ORGANIZER;CN="LRRC":MAILTO:listowelgunclub@gmail.com
END:VEVENT
BEGIN:VEVENT
DTSTART;TZID=America/Toronto:20291104T130000
DTEND;TZID=America/Toronto:20291104T160000
DTSTAMP:20260423T071559
CREATED:20260112T214148Z
LAST-MODIFIED:20260112T220220Z
UID:10001261-1888491600-1888502400@lrrc.ca
SUMMARY:Rifle Range Open
DESCRIPTION:RIFLE RANGE OPEN FROM 1 – 4 P.M.
URL:https://lrrc.ca/event/rifle-range-open/2029-11-04/
LOCATION:Listowel Rifle & Revolver Club\, 8310 Rd 165\, Listowel\, Ontario\, N4W 3H2
CATEGORIES:Rifle Range
ORGANIZER;CN="LRRC":MAILTO:listowelgunclub@gmail.com
END:VEVENT
END:VCALENDAR