BEGIN:VCALENDAR
VERSION:2.0
PRODID:-//Listowel Rifle &amp; Revolver Club - ECPv6.15.20//NONSGML v1.0//EN
CALSCALE:GREGORIAN
METHOD:PUBLISH
X-ORIGINAL-URL:https://lrrc.ca
X-WR-CALDESC:Events for Listowel Rifle &amp; Revolver Club
REFRESH-INTERVAL;VALUE=DURATION:PT1H
X-Robots-Tag:noindex
X-PUBLISHED-TTL:PT1H
BEGIN:VTIMEZONE
TZID:America/Toronto
BEGIN:DAYLIGHT
TZOFFSETFROM:-0500
TZOFFSETTO:-0400
TZNAME:EDT
DTSTART:20260308T070000
END:DAYLIGHT
BEGIN:STANDARD
TZOFFSETFROM:-0400
TZOFFSETTO:-0500
TZNAME:EST
DTSTART:20261101T060000
END:STANDARD
BEGIN:DAYLIGHT
TZOFFSETFROM:-0500
TZOFFSETTO:-0400
TZNAME:EDT
DTSTART:20270314T070000
END:DAYLIGHT
BEGIN:STANDARD
TZOFFSETFROM:-0400
TZOFFSETTO:-0500
TZNAME:EST
DTSTART:20271107T060000
END:STANDARD
BEGIN:DAYLIGHT
TZOFFSETFROM:-0500
TZOFFSETTO:-0400
TZNAME:EDT
DTSTART:20280312T070000
END:DAYLIGHT
BEGIN:STANDARD
TZOFFSETFROM:-0400
TZOFFSETTO:-0500
TZNAME:EST
DTSTART:20281105T060000
END:STANDARD
END:VTIMEZONE
BEGIN:VEVENT
DTSTART;TZID=America/Toronto:20270309T160000
DTEND;TZID=America/Toronto:20270309T180000
DTSTAMP:20260421T181757
CREATED:20260113T004005Z
LAST-MODIFIED:20260113T004005Z
UID:10001965-1804608000-1804615200@lrrc.ca
SUMMARY:22 RIMFIRE OR AIR RIFLE CHALLENGE - SCORED MATCH
DESCRIPTION:22 RIMFIRE OR AIR RIFLE CHALLENGE – SCORED MATCH\nCALL PETER SEDMAN FOR INFO 519-327-9798 \n\nLAKESHORE SMALLBORE LEAGUE SILHOUETTE STANDARD STANDING OFFHAND\nSILHOUETTE HUNTING STANDING OFFHAND\nHUNTING RIFLE STANDING OFFHAND\n\nAPPROXIMATLY 100 ROUNDS \nPRACTICE MATCHES MAY TIL OCTOBER WEEKLY\nSCORED MATCHES NOVEMBER TIL APRIL WEEKLY
URL:https://lrrc.ca/event/22-rimfire-or-air-rifle-challenge-scored-match/2027-03-09/
CATEGORIES:Matches,Practice Matches
END:VEVENT
BEGIN:VEVENT
DTSTART;TZID=America/Toronto:20270316T160000
DTEND;TZID=America/Toronto:20270316T180000
DTSTAMP:20260421T181757
CREATED:20260113T004005Z
LAST-MODIFIED:20260113T004005Z
UID:10001966-1805212800-1805220000@lrrc.ca
SUMMARY:22 RIMFIRE OR AIR RIFLE CHALLENGE - SCORED MATCH
DESCRIPTION:22 RIMFIRE OR AIR RIFLE CHALLENGE – SCORED MATCH\nCALL PETER SEDMAN FOR INFO 519-327-9798 \n\nLAKESHORE SMALLBORE LEAGUE SILHOUETTE STANDARD STANDING OFFHAND\nSILHOUETTE HUNTING STANDING OFFHAND\nHUNTING RIFLE STANDING OFFHAND\n\nAPPROXIMATLY 100 ROUNDS \nPRACTICE MATCHES MAY TIL OCTOBER WEEKLY\nSCORED MATCHES NOVEMBER TIL APRIL WEEKLY
URL:https://lrrc.ca/event/22-rimfire-or-air-rifle-challenge-scored-match/2027-03-16/
CATEGORIES:Matches,Practice Matches
END:VEVENT
BEGIN:VEVENT
DTSTART;TZID=America/Toronto:20270323T160000
DTEND;TZID=America/Toronto:20270323T180000
DTSTAMP:20260421T181757
CREATED:20260113T004005Z
LAST-MODIFIED:20260113T004005Z
UID:10001967-1805817600-1805824800@lrrc.ca
SUMMARY:22 RIMFIRE OR AIR RIFLE CHALLENGE - SCORED MATCH
DESCRIPTION:22 RIMFIRE OR AIR RIFLE CHALLENGE – SCORED MATCH\nCALL PETER SEDMAN FOR INFO 519-327-9798 \n\nLAKESHORE SMALLBORE LEAGUE SILHOUETTE STANDARD STANDING OFFHAND\nSILHOUETTE HUNTING STANDING OFFHAND\nHUNTING RIFLE STANDING OFFHAND\n\nAPPROXIMATLY 100 ROUNDS \nPRACTICE MATCHES MAY TIL OCTOBER WEEKLY\nSCORED MATCHES NOVEMBER TIL APRIL WEEKLY
URL:https://lrrc.ca/event/22-rimfire-or-air-rifle-challenge-scored-match/2027-03-23/
CATEGORIES:Matches,Practice Matches
END:VEVENT
BEGIN:VEVENT
DTSTART;TZID=America/Toronto:20270330T160000
DTEND;TZID=America/Toronto:20270330T180000
DTSTAMP:20260421T181757
CREATED:20260113T004005Z
LAST-MODIFIED:20260113T004005Z
UID:10001968-1806422400-1806429600@lrrc.ca
SUMMARY:22 RIMFIRE OR AIR RIFLE CHALLENGE - SCORED MATCH
DESCRIPTION:22 RIMFIRE OR AIR RIFLE CHALLENGE – SCORED MATCH\nCALL PETER SEDMAN FOR INFO 519-327-9798 \n\nLAKESHORE SMALLBORE LEAGUE SILHOUETTE STANDARD STANDING OFFHAND\nSILHOUETTE HUNTING STANDING OFFHAND\nHUNTING RIFLE STANDING OFFHAND\n\nAPPROXIMATLY 100 ROUNDS \nPRACTICE MATCHES MAY TIL OCTOBER WEEKLY\nSCORED MATCHES NOVEMBER TIL APRIL WEEKLY
URL:https://lrrc.ca/event/22-rimfire-or-air-rifle-challenge-scored-match/2027-03-30/
CATEGORIES:Matches,Practice Matches
END:VEVENT
BEGIN:VEVENT
DTSTART;TZID=America/Toronto:20270406T160000
DTEND;TZID=America/Toronto:20270406T180000
DTSTAMP:20260421T181757
CREATED:20260113T004005Z
LAST-MODIFIED:20260113T004005Z
UID:10001969-1807027200-1807034400@lrrc.ca
SUMMARY:22 RIMFIRE OR AIR RIFLE CHALLENGE - SCORED MATCH
DESCRIPTION:22 RIMFIRE OR AIR RIFLE CHALLENGE – SCORED MATCH\nCALL PETER SEDMAN FOR INFO 519-327-9798 \n\nLAKESHORE SMALLBORE LEAGUE SILHOUETTE STANDARD STANDING OFFHAND\nSILHOUETTE HUNTING STANDING OFFHAND\nHUNTING RIFLE STANDING OFFHAND\n\nAPPROXIMATLY 100 ROUNDS \nPRACTICE MATCHES MAY TIL OCTOBER WEEKLY\nSCORED MATCHES NOVEMBER TIL APRIL WEEKLY
URL:https://lrrc.ca/event/22-rimfire-or-air-rifle-challenge-scored-match/2027-04-06/
CATEGORIES:Matches,Practice Matches
END:VEVENT
BEGIN:VEVENT
DTSTART;TZID=America/Toronto:20270413T160000
DTEND;TZID=America/Toronto:20270413T180000
DTSTAMP:20260421T181757
CREATED:20260113T004005Z
LAST-MODIFIED:20260113T004005Z
UID:10001970-1807632000-1807639200@lrrc.ca
SUMMARY:22 RIMFIRE OR AIR RIFLE CHALLENGE - SCORED MATCH
DESCRIPTION:22 RIMFIRE OR AIR RIFLE CHALLENGE – SCORED MATCH\nCALL PETER SEDMAN FOR INFO 519-327-9798 \n\nLAKESHORE SMALLBORE LEAGUE SILHOUETTE STANDARD STANDING OFFHAND\nSILHOUETTE HUNTING STANDING OFFHAND\nHUNTING RIFLE STANDING OFFHAND\n\nAPPROXIMATLY 100 ROUNDS \nPRACTICE MATCHES MAY TIL OCTOBER WEEKLY\nSCORED MATCHES NOVEMBER TIL APRIL WEEKLY
URL:https://lrrc.ca/event/22-rimfire-or-air-rifle-challenge-scored-match/2027-04-13/
CATEGORIES:Matches,Practice Matches
END:VEVENT
BEGIN:VEVENT
DTSTART;TZID=America/Toronto:20270420T160000
DTEND;TZID=America/Toronto:20270420T180000
DTSTAMP:20260421T181757
CREATED:20260113T004005Z
LAST-MODIFIED:20260113T004005Z
UID:10001971-1808236800-1808244000@lrrc.ca
SUMMARY:22 RIMFIRE OR AIR RIFLE CHALLENGE - SCORED MATCH
DESCRIPTION:22 RIMFIRE OR AIR RIFLE CHALLENGE – SCORED MATCH\nCALL PETER SEDMAN FOR INFO 519-327-9798 \n\nLAKESHORE SMALLBORE LEAGUE SILHOUETTE STANDARD STANDING OFFHAND\nSILHOUETTE HUNTING STANDING OFFHAND\nHUNTING RIFLE STANDING OFFHAND\n\nAPPROXIMATLY 100 ROUNDS \nPRACTICE MATCHES MAY TIL OCTOBER WEEKLY\nSCORED MATCHES NOVEMBER TIL APRIL WEEKLY
URL:https://lrrc.ca/event/22-rimfire-or-air-rifle-challenge-scored-match/2027-04-20/
CATEGORIES:Matches,Practice Matches
END:VEVENT
BEGIN:VEVENT
DTSTART;TZID=America/Toronto:20270427T160000
DTEND;TZID=America/Toronto:20270427T180000
DTSTAMP:20260421T181757
CREATED:20260113T004005Z
LAST-MODIFIED:20260113T004005Z
UID:10001972-1808841600-1808848800@lrrc.ca
SUMMARY:22 RIMFIRE OR AIR RIFLE CHALLENGE - SCORED MATCH
DESCRIPTION:22 RIMFIRE OR AIR RIFLE CHALLENGE – SCORED MATCH\nCALL PETER SEDMAN FOR INFO 519-327-9798 \n\nLAKESHORE SMALLBORE LEAGUE SILHOUETTE STANDARD STANDING OFFHAND\nSILHOUETTE HUNTING STANDING OFFHAND\nHUNTING RIFLE STANDING OFFHAND\n\nAPPROXIMATLY 100 ROUNDS \nPRACTICE MATCHES MAY TIL OCTOBER WEEKLY\nSCORED MATCHES NOVEMBER TIL APRIL WEEKLY
URL:https://lrrc.ca/event/22-rimfire-or-air-rifle-challenge-scored-match/2027-04-27/
CATEGORIES:Matches,Practice Matches
END:VEVENT
END:VCALENDAR