BEGIN:VCALENDAR
VERSION:2.0
PRODID:-//Listowel Rifle &amp; Revolver Club - ECPv6.15.20//NONSGML v1.0//EN
CALSCALE:GREGORIAN
METHOD:PUBLISH
X-WR-CALNAME:Listowel Rifle &amp; Revolver Club
X-ORIGINAL-URL:https://lrrc.ca
X-WR-CALDESC:Events for Listowel Rifle &amp; Revolver Club
REFRESH-INTERVAL;VALUE=DURATION:PT1H
X-Robots-Tag:noindex
X-PUBLISHED-TTL:PT1H
BEGIN:VTIMEZONE
TZID:America/Toronto
BEGIN:DAYLIGHT
TZOFFSETFROM:-0500
TZOFFSETTO:-0400
TZNAME:EDT
DTSTART:20250309T070000
END:DAYLIGHT
BEGIN:STANDARD
TZOFFSETFROM:-0400
TZOFFSETTO:-0500
TZNAME:EST
DTSTART:20251102T060000
END:STANDARD
BEGIN:DAYLIGHT
TZOFFSETFROM:-0500
TZOFFSETTO:-0400
TZNAME:EDT
DTSTART:20260308T070000
END:DAYLIGHT
BEGIN:STANDARD
TZOFFSETFROM:-0400
TZOFFSETTO:-0500
TZNAME:EST
DTSTART:20261101T060000
END:STANDARD
BEGIN:DAYLIGHT
TZOFFSETFROM:-0500
TZOFFSETTO:-0400
TZNAME:EDT
DTSTART:20270314T070000
END:DAYLIGHT
BEGIN:STANDARD
TZOFFSETFROM:-0400
TZOFFSETTO:-0500
TZNAME:EST
DTSTART:20271107T060000
END:STANDARD
BEGIN:DAYLIGHT
TZOFFSETFROM:-0500
TZOFFSETTO:-0400
TZNAME:EDT
DTSTART:20280312T070000
END:DAYLIGHT
BEGIN:STANDARD
TZOFFSETFROM:-0400
TZOFFSETTO:-0500
TZNAME:EST
DTSTART:20281105T060000
END:STANDARD
END:VTIMEZONE
BEGIN:VEVENT
DTSTART;TZID=America/Toronto:20260714T160000
DTEND;TZID=America/Toronto:20260714T180000
DTSTAMP:20260420T111922
CREATED:20260113T003713Z
LAST-MODIFIED:20260113T003713Z
UID:10001931-1784044800-1784052000@lrrc.ca
SUMMARY:22 RIMFIRE OR AIR RIFLE CHALLENGE - PRACTICE MATCH
DESCRIPTION:22 RIMFIRE OR AIR RIFLE CHALLENGE\nCALL PETER SEDMAN FOR INFO 519-327-9798 \n\nLAKESHORE SMALLBORE LEAGUE SILHOUETTE STANDARD STANDING OFFHAND\nSILHOUETTE HUNTING STANDING OFFHAND\nHUNTING RIFLE  STANDING OFFHAND\n\nAPPROXIMATLY 100 ROUNDS \nPRACTICE MATCHES MAY TIL OCTOBER WEEKLY\nSCORED MATCHES NOVEMBER TIL APRIL WEEKLY
URL:https://lrrc.ca/event/22-rimfire-or-air-rifle-challenge-practice-match/2026-07-14/
CATEGORIES:Matches,Practice Matches
END:VEVENT
BEGIN:VEVENT
DTSTART;TZID=America/Toronto:20260721T160000
DTEND;TZID=America/Toronto:20260721T180000
DTSTAMP:20260420T111922
CREATED:20260113T003713Z
LAST-MODIFIED:20260113T003713Z
UID:10001932-1784649600-1784656800@lrrc.ca
SUMMARY:22 RIMFIRE OR AIR RIFLE CHALLENGE - PRACTICE MATCH
DESCRIPTION:22 RIMFIRE OR AIR RIFLE CHALLENGE\nCALL PETER SEDMAN FOR INFO 519-327-9798 \n\nLAKESHORE SMALLBORE LEAGUE SILHOUETTE STANDARD STANDING OFFHAND\nSILHOUETTE HUNTING STANDING OFFHAND\nHUNTING RIFLE  STANDING OFFHAND\n\nAPPROXIMATLY 100 ROUNDS \nPRACTICE MATCHES MAY TIL OCTOBER WEEKLY\nSCORED MATCHES NOVEMBER TIL APRIL WEEKLY
URL:https://lrrc.ca/event/22-rimfire-or-air-rifle-challenge-practice-match/2026-07-21/
CATEGORIES:Matches,Practice Matches
END:VEVENT
BEGIN:VEVENT
DTSTART;TZID=America/Toronto:20260728T160000
DTEND;TZID=America/Toronto:20260728T180000
DTSTAMP:20260420T111922
CREATED:20260113T003713Z
LAST-MODIFIED:20260113T003713Z
UID:10001933-1785254400-1785261600@lrrc.ca
SUMMARY:22 RIMFIRE OR AIR RIFLE CHALLENGE - PRACTICE MATCH
DESCRIPTION:22 RIMFIRE OR AIR RIFLE CHALLENGE\nCALL PETER SEDMAN FOR INFO 519-327-9798 \n\nLAKESHORE SMALLBORE LEAGUE SILHOUETTE STANDARD STANDING OFFHAND\nSILHOUETTE HUNTING STANDING OFFHAND\nHUNTING RIFLE  STANDING OFFHAND\n\nAPPROXIMATLY 100 ROUNDS \nPRACTICE MATCHES MAY TIL OCTOBER WEEKLY\nSCORED MATCHES NOVEMBER TIL APRIL WEEKLY
URL:https://lrrc.ca/event/22-rimfire-or-air-rifle-challenge-practice-match/2026-07-28/
CATEGORIES:Matches,Practice Matches
END:VEVENT
BEGIN:VEVENT
DTSTART;TZID=America/Toronto:20260804T160000
DTEND;TZID=America/Toronto:20260804T180000
DTSTAMP:20260420T111922
CREATED:20260113T003713Z
LAST-MODIFIED:20260113T003713Z
UID:10001934-1785859200-1785866400@lrrc.ca
SUMMARY:22 RIMFIRE OR AIR RIFLE CHALLENGE - PRACTICE MATCH
DESCRIPTION:22 RIMFIRE OR AIR RIFLE CHALLENGE\nCALL PETER SEDMAN FOR INFO 519-327-9798 \n\nLAKESHORE SMALLBORE LEAGUE SILHOUETTE STANDARD STANDING OFFHAND\nSILHOUETTE HUNTING STANDING OFFHAND\nHUNTING RIFLE  STANDING OFFHAND\n\nAPPROXIMATLY 100 ROUNDS \nPRACTICE MATCHES MAY TIL OCTOBER WEEKLY\nSCORED MATCHES NOVEMBER TIL APRIL WEEKLY
URL:https://lrrc.ca/event/22-rimfire-or-air-rifle-challenge-practice-match/2026-08-04/
CATEGORIES:Matches,Practice Matches
END:VEVENT
BEGIN:VEVENT
DTSTART;TZID=America/Toronto:20260811T160000
DTEND;TZID=America/Toronto:20260811T180000
DTSTAMP:20260420T111922
CREATED:20260113T003713Z
LAST-MODIFIED:20260113T003713Z
UID:10001935-1786464000-1786471200@lrrc.ca
SUMMARY:22 RIMFIRE OR AIR RIFLE CHALLENGE - PRACTICE MATCH
DESCRIPTION:22 RIMFIRE OR AIR RIFLE CHALLENGE\nCALL PETER SEDMAN FOR INFO 519-327-9798 \n\nLAKESHORE SMALLBORE LEAGUE SILHOUETTE STANDARD STANDING OFFHAND\nSILHOUETTE HUNTING STANDING OFFHAND\nHUNTING RIFLE  STANDING OFFHAND\n\nAPPROXIMATLY 100 ROUNDS \nPRACTICE MATCHES MAY TIL OCTOBER WEEKLY\nSCORED MATCHES NOVEMBER TIL APRIL WEEKLY
URL:https://lrrc.ca/event/22-rimfire-or-air-rifle-challenge-practice-match/2026-08-11/
CATEGORIES:Matches,Practice Matches
END:VEVENT
BEGIN:VEVENT
DTSTART;TZID=America/Toronto:20260818T160000
DTEND;TZID=America/Toronto:20260818T180000
DTSTAMP:20260420T111922
CREATED:20260113T003713Z
LAST-MODIFIED:20260113T003713Z
UID:10001936-1787068800-1787076000@lrrc.ca
SUMMARY:22 RIMFIRE OR AIR RIFLE CHALLENGE - PRACTICE MATCH
DESCRIPTION:22 RIMFIRE OR AIR RIFLE CHALLENGE\nCALL PETER SEDMAN FOR INFO 519-327-9798 \n\nLAKESHORE SMALLBORE LEAGUE SILHOUETTE STANDARD STANDING OFFHAND\nSILHOUETTE HUNTING STANDING OFFHAND\nHUNTING RIFLE  STANDING OFFHAND\n\nAPPROXIMATLY 100 ROUNDS \nPRACTICE MATCHES MAY TIL OCTOBER WEEKLY\nSCORED MATCHES NOVEMBER TIL APRIL WEEKLY
URL:https://lrrc.ca/event/22-rimfire-or-air-rifle-challenge-practice-match/2026-08-18/
CATEGORIES:Matches,Practice Matches
END:VEVENT
BEGIN:VEVENT
DTSTART;TZID=America/Toronto:20260825T160000
DTEND;TZID=America/Toronto:20260825T180000
DTSTAMP:20260420T111922
CREATED:20260113T003713Z
LAST-MODIFIED:20260113T003713Z
UID:10001937-1787673600-1787680800@lrrc.ca
SUMMARY:22 RIMFIRE OR AIR RIFLE CHALLENGE - PRACTICE MATCH
DESCRIPTION:22 RIMFIRE OR AIR RIFLE CHALLENGE\nCALL PETER SEDMAN FOR INFO 519-327-9798 \n\nLAKESHORE SMALLBORE LEAGUE SILHOUETTE STANDARD STANDING OFFHAND\nSILHOUETTE HUNTING STANDING OFFHAND\nHUNTING RIFLE  STANDING OFFHAND\n\nAPPROXIMATLY 100 ROUNDS \nPRACTICE MATCHES MAY TIL OCTOBER WEEKLY\nSCORED MATCHES NOVEMBER TIL APRIL WEEKLY
URL:https://lrrc.ca/event/22-rimfire-or-air-rifle-challenge-practice-match/2026-08-25/
CATEGORIES:Matches,Practice Matches
END:VEVENT
BEGIN:VEVENT
DTSTART;TZID=America/Toronto:20260901T160000
DTEND;TZID=America/Toronto:20260901T180000
DTSTAMP:20260420T111922
CREATED:20260113T003713Z
LAST-MODIFIED:20260113T003713Z
UID:10001938-1788278400-1788285600@lrrc.ca
SUMMARY:22 RIMFIRE OR AIR RIFLE CHALLENGE - PRACTICE MATCH
DESCRIPTION:22 RIMFIRE OR AIR RIFLE CHALLENGE\nCALL PETER SEDMAN FOR INFO 519-327-9798 \n\nLAKESHORE SMALLBORE LEAGUE SILHOUETTE STANDARD STANDING OFFHAND\nSILHOUETTE HUNTING STANDING OFFHAND\nHUNTING RIFLE  STANDING OFFHAND\n\nAPPROXIMATLY 100 ROUNDS \nPRACTICE MATCHES MAY TIL OCTOBER WEEKLY\nSCORED MATCHES NOVEMBER TIL APRIL WEEKLY
URL:https://lrrc.ca/event/22-rimfire-or-air-rifle-challenge-practice-match/2026-09-01/
CATEGORIES:Matches,Practice Matches
END:VEVENT
BEGIN:VEVENT
DTSTART;TZID=America/Toronto:20260908T160000
DTEND;TZID=America/Toronto:20260908T180000
DTSTAMP:20260420T111922
CREATED:20260113T003713Z
LAST-MODIFIED:20260113T003713Z
UID:10001939-1788883200-1788890400@lrrc.ca
SUMMARY:22 RIMFIRE OR AIR RIFLE CHALLENGE - PRACTICE MATCH
DESCRIPTION:22 RIMFIRE OR AIR RIFLE CHALLENGE\nCALL PETER SEDMAN FOR INFO 519-327-9798 \n\nLAKESHORE SMALLBORE LEAGUE SILHOUETTE STANDARD STANDING OFFHAND\nSILHOUETTE HUNTING STANDING OFFHAND\nHUNTING RIFLE  STANDING OFFHAND\n\nAPPROXIMATLY 100 ROUNDS \nPRACTICE MATCHES MAY TIL OCTOBER WEEKLY\nSCORED MATCHES NOVEMBER TIL APRIL WEEKLY
URL:https://lrrc.ca/event/22-rimfire-or-air-rifle-challenge-practice-match/2026-09-08/
CATEGORIES:Matches,Practice Matches
END:VEVENT
BEGIN:VEVENT
DTSTART;TZID=America/Toronto:20260915T160000
DTEND;TZID=America/Toronto:20260915T180000
DTSTAMP:20260420T111922
CREATED:20260113T003713Z
LAST-MODIFIED:20260113T003713Z
UID:10001940-1789488000-1789495200@lrrc.ca
SUMMARY:22 RIMFIRE OR AIR RIFLE CHALLENGE - PRACTICE MATCH
DESCRIPTION:22 RIMFIRE OR AIR RIFLE CHALLENGE\nCALL PETER SEDMAN FOR INFO 519-327-9798 \n\nLAKESHORE SMALLBORE LEAGUE SILHOUETTE STANDARD STANDING OFFHAND\nSILHOUETTE HUNTING STANDING OFFHAND\nHUNTING RIFLE  STANDING OFFHAND\n\nAPPROXIMATLY 100 ROUNDS \nPRACTICE MATCHES MAY TIL OCTOBER WEEKLY\nSCORED MATCHES NOVEMBER TIL APRIL WEEKLY
URL:https://lrrc.ca/event/22-rimfire-or-air-rifle-challenge-practice-match/2026-09-15/
CATEGORIES:Matches,Practice Matches
END:VEVENT
BEGIN:VEVENT
DTSTART;TZID=America/Toronto:20260922T160000
DTEND;TZID=America/Toronto:20260922T180000
DTSTAMP:20260420T111922
CREATED:20260113T003713Z
LAST-MODIFIED:20260113T003713Z
UID:10001941-1790092800-1790100000@lrrc.ca
SUMMARY:22 RIMFIRE OR AIR RIFLE CHALLENGE - PRACTICE MATCH
DESCRIPTION:22 RIMFIRE OR AIR RIFLE CHALLENGE\nCALL PETER SEDMAN FOR INFO 519-327-9798 \n\nLAKESHORE SMALLBORE LEAGUE SILHOUETTE STANDARD STANDING OFFHAND\nSILHOUETTE HUNTING STANDING OFFHAND\nHUNTING RIFLE  STANDING OFFHAND\n\nAPPROXIMATLY 100 ROUNDS \nPRACTICE MATCHES MAY TIL OCTOBER WEEKLY\nSCORED MATCHES NOVEMBER TIL APRIL WEEKLY
URL:https://lrrc.ca/event/22-rimfire-or-air-rifle-challenge-practice-match/2026-09-22/
CATEGORIES:Matches,Practice Matches
END:VEVENT
BEGIN:VEVENT
DTSTART;TZID=America/Toronto:20260929T160000
DTEND;TZID=America/Toronto:20260929T180000
DTSTAMP:20260420T111922
CREATED:20260113T003713Z
LAST-MODIFIED:20260113T003713Z
UID:10001942-1790697600-1790704800@lrrc.ca
SUMMARY:22 RIMFIRE OR AIR RIFLE CHALLENGE - PRACTICE MATCH
DESCRIPTION:22 RIMFIRE OR AIR RIFLE CHALLENGE\nCALL PETER SEDMAN FOR INFO 519-327-9798 \n\nLAKESHORE SMALLBORE LEAGUE SILHOUETTE STANDARD STANDING OFFHAND\nSILHOUETTE HUNTING STANDING OFFHAND\nHUNTING RIFLE  STANDING OFFHAND\n\nAPPROXIMATLY 100 ROUNDS \nPRACTICE MATCHES MAY TIL OCTOBER WEEKLY\nSCORED MATCHES NOVEMBER TIL APRIL WEEKLY
URL:https://lrrc.ca/event/22-rimfire-or-air-rifle-challenge-practice-match/2026-09-29/
CATEGORIES:Matches,Practice Matches
END:VEVENT
BEGIN:VEVENT
DTSTART;TZID=America/Toronto:20261006T160000
DTEND;TZID=America/Toronto:20261006T180000
DTSTAMP:20260420T111922
CREATED:20260113T003713Z
LAST-MODIFIED:20260113T003713Z
UID:10001943-1791302400-1791309600@lrrc.ca
SUMMARY:22 RIMFIRE OR AIR RIFLE CHALLENGE - PRACTICE MATCH
DESCRIPTION:22 RIMFIRE OR AIR RIFLE CHALLENGE\nCALL PETER SEDMAN FOR INFO 519-327-9798 \n\nLAKESHORE SMALLBORE LEAGUE SILHOUETTE STANDARD STANDING OFFHAND\nSILHOUETTE HUNTING STANDING OFFHAND\nHUNTING RIFLE  STANDING OFFHAND\n\nAPPROXIMATLY 100 ROUNDS \nPRACTICE MATCHES MAY TIL OCTOBER WEEKLY\nSCORED MATCHES NOVEMBER TIL APRIL WEEKLY
URL:https://lrrc.ca/event/22-rimfire-or-air-rifle-challenge-practice-match/2026-10-06/
CATEGORIES:Matches,Practice Matches
END:VEVENT
BEGIN:VEVENT
DTSTART;TZID=America/Toronto:20261013T160000
DTEND;TZID=America/Toronto:20261013T180000
DTSTAMP:20260420T111922
CREATED:20260113T003713Z
LAST-MODIFIED:20260113T003713Z
UID:10001944-1791907200-1791914400@lrrc.ca
SUMMARY:22 RIMFIRE OR AIR RIFLE CHALLENGE - PRACTICE MATCH
DESCRIPTION:22 RIMFIRE OR AIR RIFLE CHALLENGE\nCALL PETER SEDMAN FOR INFO 519-327-9798 \n\nLAKESHORE SMALLBORE LEAGUE SILHOUETTE STANDARD STANDING OFFHAND\nSILHOUETTE HUNTING STANDING OFFHAND\nHUNTING RIFLE  STANDING OFFHAND\n\nAPPROXIMATLY 100 ROUNDS \nPRACTICE MATCHES MAY TIL OCTOBER WEEKLY\nSCORED MATCHES NOVEMBER TIL APRIL WEEKLY
URL:https://lrrc.ca/event/22-rimfire-or-air-rifle-challenge-practice-match/2026-10-13/
CATEGORIES:Matches,Practice Matches
END:VEVENT
BEGIN:VEVENT
DTSTART;TZID=America/Toronto:20261020T160000
DTEND;TZID=America/Toronto:20261020T180000
DTSTAMP:20260420T111922
CREATED:20260113T003713Z
LAST-MODIFIED:20260113T003713Z
UID:10001945-1792512000-1792519200@lrrc.ca
SUMMARY:22 RIMFIRE OR AIR RIFLE CHALLENGE - PRACTICE MATCH
DESCRIPTION:22 RIMFIRE OR AIR RIFLE CHALLENGE\nCALL PETER SEDMAN FOR INFO 519-327-9798 \n\nLAKESHORE SMALLBORE LEAGUE SILHOUETTE STANDARD STANDING OFFHAND\nSILHOUETTE HUNTING STANDING OFFHAND\nHUNTING RIFLE  STANDING OFFHAND\n\nAPPROXIMATLY 100 ROUNDS \nPRACTICE MATCHES MAY TIL OCTOBER WEEKLY\nSCORED MATCHES NOVEMBER TIL APRIL WEEKLY
URL:https://lrrc.ca/event/22-rimfire-or-air-rifle-challenge-practice-match/2026-10-20/
CATEGORIES:Matches,Practice Matches
END:VEVENT
BEGIN:VEVENT
DTSTART;TZID=America/Toronto:20261027T160000
DTEND;TZID=America/Toronto:20261027T180000
DTSTAMP:20260420T111922
CREATED:20260113T003713Z
LAST-MODIFIED:20260113T003713Z
UID:10001946-1793116800-1793124000@lrrc.ca
SUMMARY:22 RIMFIRE OR AIR RIFLE CHALLENGE - PRACTICE MATCH
DESCRIPTION:22 RIMFIRE OR AIR RIFLE CHALLENGE\nCALL PETER SEDMAN FOR INFO 519-327-9798 \n\nLAKESHORE SMALLBORE LEAGUE SILHOUETTE STANDARD STANDING OFFHAND\nSILHOUETTE HUNTING STANDING OFFHAND\nHUNTING RIFLE  STANDING OFFHAND\n\nAPPROXIMATLY 100 ROUNDS \nPRACTICE MATCHES MAY TIL OCTOBER WEEKLY\nSCORED MATCHES NOVEMBER TIL APRIL WEEKLY
URL:https://lrrc.ca/event/22-rimfire-or-air-rifle-challenge-practice-match/2026-10-27/
CATEGORIES:Matches,Practice Matches
END:VEVENT
BEGIN:VEVENT
DTSTART;TZID=America/Toronto:20261103T160000
DTEND;TZID=America/Toronto:20261103T180000
DTSTAMP:20260420T111922
CREATED:20260113T004005Z
LAST-MODIFIED:20260113T004005Z
UID:10001947-1793721600-1793728800@lrrc.ca
SUMMARY:22 RIMFIRE OR AIR RIFLE CHALLENGE - SCORED MATCH
DESCRIPTION:22 RIMFIRE OR AIR RIFLE CHALLENGE – SCORED MATCH\nCALL PETER SEDMAN FOR INFO 519-327-9798 \n\nLAKESHORE SMALLBORE LEAGUE SILHOUETTE STANDARD STANDING OFFHAND\nSILHOUETTE HUNTING STANDING OFFHAND\nHUNTING RIFLE STANDING OFFHAND\n\nAPPROXIMATLY 100 ROUNDS \nPRACTICE MATCHES MAY TIL OCTOBER WEEKLY\nSCORED MATCHES NOVEMBER TIL APRIL WEEKLY
URL:https://lrrc.ca/event/22-rimfire-or-air-rifle-challenge-scored-match/2026-11-03/
CATEGORIES:Matches,Practice Matches
END:VEVENT
BEGIN:VEVENT
DTSTART;TZID=America/Toronto:20261110T160000
DTEND;TZID=America/Toronto:20261110T180000
DTSTAMP:20260420T111922
CREATED:20260113T004005Z
LAST-MODIFIED:20260113T004005Z
UID:10001948-1794326400-1794333600@lrrc.ca
SUMMARY:22 RIMFIRE OR AIR RIFLE CHALLENGE - SCORED MATCH
DESCRIPTION:22 RIMFIRE OR AIR RIFLE CHALLENGE – SCORED MATCH\nCALL PETER SEDMAN FOR INFO 519-327-9798 \n\nLAKESHORE SMALLBORE LEAGUE SILHOUETTE STANDARD STANDING OFFHAND\nSILHOUETTE HUNTING STANDING OFFHAND\nHUNTING RIFLE STANDING OFFHAND\n\nAPPROXIMATLY 100 ROUNDS \nPRACTICE MATCHES MAY TIL OCTOBER WEEKLY\nSCORED MATCHES NOVEMBER TIL APRIL WEEKLY
URL:https://lrrc.ca/event/22-rimfire-or-air-rifle-challenge-scored-match/2026-11-10/
CATEGORIES:Matches,Practice Matches
END:VEVENT
BEGIN:VEVENT
DTSTART;TZID=America/Toronto:20261117T160000
DTEND;TZID=America/Toronto:20261117T180000
DTSTAMP:20260420T111922
CREATED:20260113T004005Z
LAST-MODIFIED:20260113T004005Z
UID:10001949-1794931200-1794938400@lrrc.ca
SUMMARY:22 RIMFIRE OR AIR RIFLE CHALLENGE - SCORED MATCH
DESCRIPTION:22 RIMFIRE OR AIR RIFLE CHALLENGE – SCORED MATCH\nCALL PETER SEDMAN FOR INFO 519-327-9798 \n\nLAKESHORE SMALLBORE LEAGUE SILHOUETTE STANDARD STANDING OFFHAND\nSILHOUETTE HUNTING STANDING OFFHAND\nHUNTING RIFLE STANDING OFFHAND\n\nAPPROXIMATLY 100 ROUNDS \nPRACTICE MATCHES MAY TIL OCTOBER WEEKLY\nSCORED MATCHES NOVEMBER TIL APRIL WEEKLY
URL:https://lrrc.ca/event/22-rimfire-or-air-rifle-challenge-scored-match/2026-11-17/
CATEGORIES:Matches,Practice Matches
END:VEVENT
BEGIN:VEVENT
DTSTART;TZID=America/Toronto:20261124T160000
DTEND;TZID=America/Toronto:20261124T180000
DTSTAMP:20260420T111922
CREATED:20260113T004005Z
LAST-MODIFIED:20260113T004005Z
UID:10001950-1795536000-1795543200@lrrc.ca
SUMMARY:22 RIMFIRE OR AIR RIFLE CHALLENGE - SCORED MATCH
DESCRIPTION:22 RIMFIRE OR AIR RIFLE CHALLENGE – SCORED MATCH\nCALL PETER SEDMAN FOR INFO 519-327-9798 \n\nLAKESHORE SMALLBORE LEAGUE SILHOUETTE STANDARD STANDING OFFHAND\nSILHOUETTE HUNTING STANDING OFFHAND\nHUNTING RIFLE STANDING OFFHAND\n\nAPPROXIMATLY 100 ROUNDS \nPRACTICE MATCHES MAY TIL OCTOBER WEEKLY\nSCORED MATCHES NOVEMBER TIL APRIL WEEKLY
URL:https://lrrc.ca/event/22-rimfire-or-air-rifle-challenge-scored-match/2026-11-24/
CATEGORIES:Matches,Practice Matches
END:VEVENT
BEGIN:VEVENT
DTSTART;TZID=America/Toronto:20261201T160000
DTEND;TZID=America/Toronto:20261201T180000
DTSTAMP:20260420T111922
CREATED:20260113T004005Z
LAST-MODIFIED:20260113T004005Z
UID:10001951-1796140800-1796148000@lrrc.ca
SUMMARY:22 RIMFIRE OR AIR RIFLE CHALLENGE - SCORED MATCH
DESCRIPTION:22 RIMFIRE OR AIR RIFLE CHALLENGE – SCORED MATCH\nCALL PETER SEDMAN FOR INFO 519-327-9798 \n\nLAKESHORE SMALLBORE LEAGUE SILHOUETTE STANDARD STANDING OFFHAND\nSILHOUETTE HUNTING STANDING OFFHAND\nHUNTING RIFLE STANDING OFFHAND\n\nAPPROXIMATLY 100 ROUNDS \nPRACTICE MATCHES MAY TIL OCTOBER WEEKLY\nSCORED MATCHES NOVEMBER TIL APRIL WEEKLY
URL:https://lrrc.ca/event/22-rimfire-or-air-rifle-challenge-scored-match/2026-12-01/
CATEGORIES:Matches,Practice Matches
END:VEVENT
BEGIN:VEVENT
DTSTART;TZID=America/Toronto:20261208T160000
DTEND;TZID=America/Toronto:20261208T180000
DTSTAMP:20260420T111922
CREATED:20260113T004005Z
LAST-MODIFIED:20260113T004005Z
UID:10001952-1796745600-1796752800@lrrc.ca
SUMMARY:22 RIMFIRE OR AIR RIFLE CHALLENGE - SCORED MATCH
DESCRIPTION:22 RIMFIRE OR AIR RIFLE CHALLENGE – SCORED MATCH\nCALL PETER SEDMAN FOR INFO 519-327-9798 \n\nLAKESHORE SMALLBORE LEAGUE SILHOUETTE STANDARD STANDING OFFHAND\nSILHOUETTE HUNTING STANDING OFFHAND\nHUNTING RIFLE STANDING OFFHAND\n\nAPPROXIMATLY 100 ROUNDS \nPRACTICE MATCHES MAY TIL OCTOBER WEEKLY\nSCORED MATCHES NOVEMBER TIL APRIL WEEKLY
URL:https://lrrc.ca/event/22-rimfire-or-air-rifle-challenge-scored-match/2026-12-08/
CATEGORIES:Matches,Practice Matches
END:VEVENT
BEGIN:VEVENT
DTSTART;TZID=America/Toronto:20261215T160000
DTEND;TZID=America/Toronto:20261215T180000
DTSTAMP:20260420T111922
CREATED:20260113T004005Z
LAST-MODIFIED:20260113T004005Z
UID:10001953-1797350400-1797357600@lrrc.ca
SUMMARY:22 RIMFIRE OR AIR RIFLE CHALLENGE - SCORED MATCH
DESCRIPTION:22 RIMFIRE OR AIR RIFLE CHALLENGE – SCORED MATCH\nCALL PETER SEDMAN FOR INFO 519-327-9798 \n\nLAKESHORE SMALLBORE LEAGUE SILHOUETTE STANDARD STANDING OFFHAND\nSILHOUETTE HUNTING STANDING OFFHAND\nHUNTING RIFLE STANDING OFFHAND\n\nAPPROXIMATLY 100 ROUNDS \nPRACTICE MATCHES MAY TIL OCTOBER WEEKLY\nSCORED MATCHES NOVEMBER TIL APRIL WEEKLY
URL:https://lrrc.ca/event/22-rimfire-or-air-rifle-challenge-scored-match/2026-12-15/
CATEGORIES:Matches,Practice Matches
END:VEVENT
BEGIN:VEVENT
DTSTART;TZID=America/Toronto:20261222T160000
DTEND;TZID=America/Toronto:20261222T180000
DTSTAMP:20260420T111922
CREATED:20260113T004005Z
LAST-MODIFIED:20260113T004005Z
UID:10001954-1797955200-1797962400@lrrc.ca
SUMMARY:22 RIMFIRE OR AIR RIFLE CHALLENGE - SCORED MATCH
DESCRIPTION:22 RIMFIRE OR AIR RIFLE CHALLENGE – SCORED MATCH\nCALL PETER SEDMAN FOR INFO 519-327-9798 \n\nLAKESHORE SMALLBORE LEAGUE SILHOUETTE STANDARD STANDING OFFHAND\nSILHOUETTE HUNTING STANDING OFFHAND\nHUNTING RIFLE STANDING OFFHAND\n\nAPPROXIMATLY 100 ROUNDS \nPRACTICE MATCHES MAY TIL OCTOBER WEEKLY\nSCORED MATCHES NOVEMBER TIL APRIL WEEKLY
URL:https://lrrc.ca/event/22-rimfire-or-air-rifle-challenge-scored-match/2026-12-22/
CATEGORIES:Matches,Practice Matches
END:VEVENT
BEGIN:VEVENT
DTSTART;TZID=America/Toronto:20261229T160000
DTEND;TZID=America/Toronto:20261229T180000
DTSTAMP:20260420T111922
CREATED:20260113T004005Z
LAST-MODIFIED:20260113T004005Z
UID:10001955-1798560000-1798567200@lrrc.ca
SUMMARY:22 RIMFIRE OR AIR RIFLE CHALLENGE - SCORED MATCH
DESCRIPTION:22 RIMFIRE OR AIR RIFLE CHALLENGE – SCORED MATCH\nCALL PETER SEDMAN FOR INFO 519-327-9798 \n\nLAKESHORE SMALLBORE LEAGUE SILHOUETTE STANDARD STANDING OFFHAND\nSILHOUETTE HUNTING STANDING OFFHAND\nHUNTING RIFLE STANDING OFFHAND\n\nAPPROXIMATLY 100 ROUNDS \nPRACTICE MATCHES MAY TIL OCTOBER WEEKLY\nSCORED MATCHES NOVEMBER TIL APRIL WEEKLY
URL:https://lrrc.ca/event/22-rimfire-or-air-rifle-challenge-scored-match/2026-12-29/
CATEGORIES:Matches,Practice Matches
END:VEVENT
BEGIN:VEVENT
DTSTART;TZID=America/Toronto:20270105T160000
DTEND;TZID=America/Toronto:20270105T180000
DTSTAMP:20260420T111922
CREATED:20260113T004005Z
LAST-MODIFIED:20260113T004005Z
UID:10001956-1799164800-1799172000@lrrc.ca
SUMMARY:22 RIMFIRE OR AIR RIFLE CHALLENGE - SCORED MATCH
DESCRIPTION:22 RIMFIRE OR AIR RIFLE CHALLENGE – SCORED MATCH\nCALL PETER SEDMAN FOR INFO 519-327-9798 \n\nLAKESHORE SMALLBORE LEAGUE SILHOUETTE STANDARD STANDING OFFHAND\nSILHOUETTE HUNTING STANDING OFFHAND\nHUNTING RIFLE STANDING OFFHAND\n\nAPPROXIMATLY 100 ROUNDS \nPRACTICE MATCHES MAY TIL OCTOBER WEEKLY\nSCORED MATCHES NOVEMBER TIL APRIL WEEKLY
URL:https://lrrc.ca/event/22-rimfire-or-air-rifle-challenge-scored-match/2027-01-05/
CATEGORIES:Matches,Practice Matches
END:VEVENT
BEGIN:VEVENT
DTSTART;TZID=America/Toronto:20270112T160000
DTEND;TZID=America/Toronto:20270112T180000
DTSTAMP:20260420T111922
CREATED:20260113T004005Z
LAST-MODIFIED:20260113T004005Z
UID:10001957-1799769600-1799776800@lrrc.ca
SUMMARY:22 RIMFIRE OR AIR RIFLE CHALLENGE - SCORED MATCH
DESCRIPTION:22 RIMFIRE OR AIR RIFLE CHALLENGE – SCORED MATCH\nCALL PETER SEDMAN FOR INFO 519-327-9798 \n\nLAKESHORE SMALLBORE LEAGUE SILHOUETTE STANDARD STANDING OFFHAND\nSILHOUETTE HUNTING STANDING OFFHAND\nHUNTING RIFLE STANDING OFFHAND\n\nAPPROXIMATLY 100 ROUNDS \nPRACTICE MATCHES MAY TIL OCTOBER WEEKLY\nSCORED MATCHES NOVEMBER TIL APRIL WEEKLY
URL:https://lrrc.ca/event/22-rimfire-or-air-rifle-challenge-scored-match/2027-01-12/
CATEGORIES:Matches,Practice Matches
END:VEVENT
BEGIN:VEVENT
DTSTART;TZID=America/Toronto:20270119T160000
DTEND;TZID=America/Toronto:20270119T180000
DTSTAMP:20260420T111922
CREATED:20260113T004005Z
LAST-MODIFIED:20260113T004005Z
UID:10001958-1800374400-1800381600@lrrc.ca
SUMMARY:22 RIMFIRE OR AIR RIFLE CHALLENGE - SCORED MATCH
DESCRIPTION:22 RIMFIRE OR AIR RIFLE CHALLENGE – SCORED MATCH\nCALL PETER SEDMAN FOR INFO 519-327-9798 \n\nLAKESHORE SMALLBORE LEAGUE SILHOUETTE STANDARD STANDING OFFHAND\nSILHOUETTE HUNTING STANDING OFFHAND\nHUNTING RIFLE STANDING OFFHAND\n\nAPPROXIMATLY 100 ROUNDS \nPRACTICE MATCHES MAY TIL OCTOBER WEEKLY\nSCORED MATCHES NOVEMBER TIL APRIL WEEKLY
URL:https://lrrc.ca/event/22-rimfire-or-air-rifle-challenge-scored-match/2027-01-19/
CATEGORIES:Matches,Practice Matches
END:VEVENT
BEGIN:VEVENT
DTSTART;TZID=America/Toronto:20270126T160000
DTEND;TZID=America/Toronto:20270126T180000
DTSTAMP:20260420T111922
CREATED:20260113T004005Z
LAST-MODIFIED:20260113T004005Z
UID:10001959-1800979200-1800986400@lrrc.ca
SUMMARY:22 RIMFIRE OR AIR RIFLE CHALLENGE - SCORED MATCH
DESCRIPTION:22 RIMFIRE OR AIR RIFLE CHALLENGE – SCORED MATCH\nCALL PETER SEDMAN FOR INFO 519-327-9798 \n\nLAKESHORE SMALLBORE LEAGUE SILHOUETTE STANDARD STANDING OFFHAND\nSILHOUETTE HUNTING STANDING OFFHAND\nHUNTING RIFLE STANDING OFFHAND\n\nAPPROXIMATLY 100 ROUNDS \nPRACTICE MATCHES MAY TIL OCTOBER WEEKLY\nSCORED MATCHES NOVEMBER TIL APRIL WEEKLY
URL:https://lrrc.ca/event/22-rimfire-or-air-rifle-challenge-scored-match/2027-01-26/
CATEGORIES:Matches,Practice Matches
END:VEVENT
BEGIN:VEVENT
DTSTART;TZID=America/Toronto:20270202T160000
DTEND;TZID=America/Toronto:20270202T180000
DTSTAMP:20260420T111922
CREATED:20260113T004005Z
LAST-MODIFIED:20260113T004005Z
UID:10001960-1801584000-1801591200@lrrc.ca
SUMMARY:22 RIMFIRE OR AIR RIFLE CHALLENGE - SCORED MATCH
DESCRIPTION:22 RIMFIRE OR AIR RIFLE CHALLENGE – SCORED MATCH\nCALL PETER SEDMAN FOR INFO 519-327-9798 \n\nLAKESHORE SMALLBORE LEAGUE SILHOUETTE STANDARD STANDING OFFHAND\nSILHOUETTE HUNTING STANDING OFFHAND\nHUNTING RIFLE STANDING OFFHAND\n\nAPPROXIMATLY 100 ROUNDS \nPRACTICE MATCHES MAY TIL OCTOBER WEEKLY\nSCORED MATCHES NOVEMBER TIL APRIL WEEKLY
URL:https://lrrc.ca/event/22-rimfire-or-air-rifle-challenge-scored-match/2027-02-02/
CATEGORIES:Matches,Practice Matches
END:VEVENT
END:VCALENDAR