BEGIN:VCALENDAR
VERSION:2.0
PRODID:-//Listowel Rifle &amp; Revolver Club - ECPv6.15.20//NONSGML v1.0//EN
CALSCALE:GREGORIAN
METHOD:PUBLISH
X-WR-CALNAME:Listowel Rifle &amp; Revolver Club
X-ORIGINAL-URL:https://lrrc.ca
X-WR-CALDESC:Events for Listowel Rifle &amp; Revolver Club
REFRESH-INTERVAL;VALUE=DURATION:PT1H
X-Robots-Tag:noindex
X-PUBLISHED-TTL:PT1H
BEGIN:VTIMEZONE
TZID:America/Toronto
BEGIN:DAYLIGHT
TZOFFSETFROM:-0500
TZOFFSETTO:-0400
TZNAME:EDT
DTSTART:20250309T070000
END:DAYLIGHT
BEGIN:STANDARD
TZOFFSETFROM:-0400
TZOFFSETTO:-0500
TZNAME:EST
DTSTART:20251102T060000
END:STANDARD
BEGIN:DAYLIGHT
TZOFFSETFROM:-0500
TZOFFSETTO:-0400
TZNAME:EDT
DTSTART:20260308T070000
END:DAYLIGHT
BEGIN:STANDARD
TZOFFSETFROM:-0400
TZOFFSETTO:-0500
TZNAME:EST
DTSTART:20261101T060000
END:STANDARD
BEGIN:DAYLIGHT
TZOFFSETFROM:-0500
TZOFFSETTO:-0400
TZNAME:EDT
DTSTART:20270314T070000
END:DAYLIGHT
BEGIN:STANDARD
TZOFFSETFROM:-0400
TZOFFSETTO:-0500
TZNAME:EST
DTSTART:20271107T060000
END:STANDARD
END:VTIMEZONE
BEGIN:VEVENT
DTSTART;TZID=America/Toronto:20260414T160000
DTEND;TZID=America/Toronto:20260414T180000
DTSTAMP:20260420T164152
CREATED:20260113T003713Z
LAST-MODIFIED:20260113T003713Z
UID:10001918-1776182400-1776189600@lrrc.ca
SUMMARY:22 RIMFIRE OR AIR RIFLE CHALLENGE - PRACTICE MATCH
DESCRIPTION:22 RIMFIRE OR AIR RIFLE CHALLENGE\nCALL PETER SEDMAN FOR INFO 519-327-9798 \n\nLAKESHORE SMALLBORE LEAGUE SILHOUETTE STANDARD STANDING OFFHAND\nSILHOUETTE HUNTING STANDING OFFHAND\nHUNTING RIFLE  STANDING OFFHAND\n\nAPPROXIMATLY 100 ROUNDS \nPRACTICE MATCHES MAY TIL OCTOBER WEEKLY\nSCORED MATCHES NOVEMBER TIL APRIL WEEKLY
URL:https://lrrc.ca/event/22-rimfire-or-air-rifle-challenge-practice-match/2026-04-14/
CATEGORIES:Matches,Practice Matches
END:VEVENT
BEGIN:VEVENT
DTSTART;TZID=America/Toronto:20260407T160000
DTEND;TZID=America/Toronto:20260407T180000
DTSTAMP:20260420T164152
CREATED:20260113T003713Z
LAST-MODIFIED:20260113T003713Z
UID:10001917-1775577600-1775584800@lrrc.ca
SUMMARY:22 RIMFIRE OR AIR RIFLE CHALLENGE - PRACTICE MATCH
DESCRIPTION:22 RIMFIRE OR AIR RIFLE CHALLENGE\nCALL PETER SEDMAN FOR INFO 519-327-9798 \n\nLAKESHORE SMALLBORE LEAGUE SILHOUETTE STANDARD STANDING OFFHAND\nSILHOUETTE HUNTING STANDING OFFHAND\nHUNTING RIFLE  STANDING OFFHAND\n\nAPPROXIMATLY 100 ROUNDS \nPRACTICE MATCHES MAY TIL OCTOBER WEEKLY\nSCORED MATCHES NOVEMBER TIL APRIL WEEKLY
URL:https://lrrc.ca/event/22-rimfire-or-air-rifle-challenge-practice-match/2026-04-07/
CATEGORIES:Matches,Practice Matches
END:VEVENT
BEGIN:VEVENT
DTSTART;TZID=America/Toronto:20260331T160000
DTEND;TZID=America/Toronto:20260331T180000
DTSTAMP:20260420T164152
CREATED:20260113T003713Z
LAST-MODIFIED:20260113T003713Z
UID:10001916-1774972800-1774980000@lrrc.ca
SUMMARY:22 RIMFIRE OR AIR RIFLE CHALLENGE - PRACTICE MATCH
DESCRIPTION:22 RIMFIRE OR AIR RIFLE CHALLENGE\nCALL PETER SEDMAN FOR INFO 519-327-9798 \n\nLAKESHORE SMALLBORE LEAGUE SILHOUETTE STANDARD STANDING OFFHAND\nSILHOUETTE HUNTING STANDING OFFHAND\nHUNTING RIFLE  STANDING OFFHAND\n\nAPPROXIMATLY 100 ROUNDS \nPRACTICE MATCHES MAY TIL OCTOBER WEEKLY\nSCORED MATCHES NOVEMBER TIL APRIL WEEKLY
URL:https://lrrc.ca/event/22-rimfire-or-air-rifle-challenge-practice-match/2026-03-31/
CATEGORIES:Matches,Practice Matches
END:VEVENT
BEGIN:VEVENT
DTSTART;TZID=America/Toronto:20260324T160000
DTEND;TZID=America/Toronto:20260324T180000
DTSTAMP:20260420T164152
CREATED:20260113T003713Z
LAST-MODIFIED:20260113T003713Z
UID:10001915-1774368000-1774375200@lrrc.ca
SUMMARY:22 RIMFIRE OR AIR RIFLE CHALLENGE - PRACTICE MATCH
DESCRIPTION:22 RIMFIRE OR AIR RIFLE CHALLENGE\nCALL PETER SEDMAN FOR INFO 519-327-9798 \n\nLAKESHORE SMALLBORE LEAGUE SILHOUETTE STANDARD STANDING OFFHAND\nSILHOUETTE HUNTING STANDING OFFHAND\nHUNTING RIFLE  STANDING OFFHAND\n\nAPPROXIMATLY 100 ROUNDS \nPRACTICE MATCHES MAY TIL OCTOBER WEEKLY\nSCORED MATCHES NOVEMBER TIL APRIL WEEKLY
URL:https://lrrc.ca/event/22-rimfire-or-air-rifle-challenge-practice-match/2026-03-24/
CATEGORIES:Matches,Practice Matches
END:VEVENT
BEGIN:VEVENT
DTSTART;TZID=America/Toronto:20260317T160000
DTEND;TZID=America/Toronto:20260317T180000
DTSTAMP:20260420T164152
CREATED:20260113T003713Z
LAST-MODIFIED:20260113T003713Z
UID:10001914-1773763200-1773770400@lrrc.ca
SUMMARY:22 RIMFIRE OR AIR RIFLE CHALLENGE - PRACTICE MATCH
DESCRIPTION:22 RIMFIRE OR AIR RIFLE CHALLENGE\nCALL PETER SEDMAN FOR INFO 519-327-9798 \n\nLAKESHORE SMALLBORE LEAGUE SILHOUETTE STANDARD STANDING OFFHAND\nSILHOUETTE HUNTING STANDING OFFHAND\nHUNTING RIFLE  STANDING OFFHAND\n\nAPPROXIMATLY 100 ROUNDS \nPRACTICE MATCHES MAY TIL OCTOBER WEEKLY\nSCORED MATCHES NOVEMBER TIL APRIL WEEKLY
URL:https://lrrc.ca/event/22-rimfire-or-air-rifle-challenge-practice-match/2026-03-17/
CATEGORIES:Matches,Practice Matches
END:VEVENT
BEGIN:VEVENT
DTSTART;TZID=America/Toronto:20260310T160000
DTEND;TZID=America/Toronto:20260310T180000
DTSTAMP:20260420T164152
CREATED:20260113T003713Z
LAST-MODIFIED:20260113T003713Z
UID:10001913-1773158400-1773165600@lrrc.ca
SUMMARY:22 RIMFIRE OR AIR RIFLE CHALLENGE - PRACTICE MATCH
DESCRIPTION:22 RIMFIRE OR AIR RIFLE CHALLENGE\nCALL PETER SEDMAN FOR INFO 519-327-9798 \n\nLAKESHORE SMALLBORE LEAGUE SILHOUETTE STANDARD STANDING OFFHAND\nSILHOUETTE HUNTING STANDING OFFHAND\nHUNTING RIFLE  STANDING OFFHAND\n\nAPPROXIMATLY 100 ROUNDS \nPRACTICE MATCHES MAY TIL OCTOBER WEEKLY\nSCORED MATCHES NOVEMBER TIL APRIL WEEKLY
URL:https://lrrc.ca/event/22-rimfire-or-air-rifle-challenge-practice-match/2026-03-10/
CATEGORIES:Matches,Practice Matches
END:VEVENT
BEGIN:VEVENT
DTSTART;TZID=America/Toronto:20260303T160000
DTEND;TZID=America/Toronto:20260303T180000
DTSTAMP:20260420T164152
CREATED:20260113T003713Z
LAST-MODIFIED:20260113T003713Z
UID:10001912-1772553600-1772560800@lrrc.ca
SUMMARY:22 RIMFIRE OR AIR RIFLE CHALLENGE - PRACTICE MATCH
DESCRIPTION:22 RIMFIRE OR AIR RIFLE CHALLENGE\nCALL PETER SEDMAN FOR INFO 519-327-9798 \n\nLAKESHORE SMALLBORE LEAGUE SILHOUETTE STANDARD STANDING OFFHAND\nSILHOUETTE HUNTING STANDING OFFHAND\nHUNTING RIFLE  STANDING OFFHAND\n\nAPPROXIMATLY 100 ROUNDS \nPRACTICE MATCHES MAY TIL OCTOBER WEEKLY\nSCORED MATCHES NOVEMBER TIL APRIL WEEKLY
URL:https://lrrc.ca/event/22-rimfire-or-air-rifle-challenge-practice-match/2026-03-03/
CATEGORIES:Matches,Practice Matches
END:VEVENT
BEGIN:VEVENT
DTSTART;TZID=America/Toronto:20260224T160000
DTEND;TZID=America/Toronto:20260224T180000
DTSTAMP:20260420T164152
CREATED:20260113T003713Z
LAST-MODIFIED:20260113T003713Z
UID:10001911-1771948800-1771956000@lrrc.ca
SUMMARY:22 RIMFIRE OR AIR RIFLE CHALLENGE - PRACTICE MATCH
DESCRIPTION:22 RIMFIRE OR AIR RIFLE CHALLENGE\nCALL PETER SEDMAN FOR INFO 519-327-9798 \n\nLAKESHORE SMALLBORE LEAGUE SILHOUETTE STANDARD STANDING OFFHAND\nSILHOUETTE HUNTING STANDING OFFHAND\nHUNTING RIFLE  STANDING OFFHAND\n\nAPPROXIMATLY 100 ROUNDS \nPRACTICE MATCHES MAY TIL OCTOBER WEEKLY\nSCORED MATCHES NOVEMBER TIL APRIL WEEKLY
URL:https://lrrc.ca/event/22-rimfire-or-air-rifle-challenge-practice-match/2026-02-24/
CATEGORIES:Matches,Practice Matches
END:VEVENT
BEGIN:VEVENT
DTSTART;TZID=America/Toronto:20260217T160000
DTEND;TZID=America/Toronto:20260217T180000
DTSTAMP:20260420T164152
CREATED:20260113T003713Z
LAST-MODIFIED:20260113T003713Z
UID:10001910-1771344000-1771351200@lrrc.ca
SUMMARY:22 RIMFIRE OR AIR RIFLE CHALLENGE - PRACTICE MATCH
DESCRIPTION:22 RIMFIRE OR AIR RIFLE CHALLENGE\nCALL PETER SEDMAN FOR INFO 519-327-9798 \n\nLAKESHORE SMALLBORE LEAGUE SILHOUETTE STANDARD STANDING OFFHAND\nSILHOUETTE HUNTING STANDING OFFHAND\nHUNTING RIFLE  STANDING OFFHAND\n\nAPPROXIMATLY 100 ROUNDS \nPRACTICE MATCHES MAY TIL OCTOBER WEEKLY\nSCORED MATCHES NOVEMBER TIL APRIL WEEKLY
URL:https://lrrc.ca/event/22-rimfire-or-air-rifle-challenge-practice-match/2026-02-17/
CATEGORIES:Matches,Practice Matches
END:VEVENT
BEGIN:VEVENT
DTSTART;TZID=America/Toronto:20260210T160000
DTEND;TZID=America/Toronto:20260210T180000
DTSTAMP:20260420T164152
CREATED:20260113T003713Z
LAST-MODIFIED:20260113T003713Z
UID:10001909-1770739200-1770746400@lrrc.ca
SUMMARY:22 RIMFIRE OR AIR RIFLE CHALLENGE - PRACTICE MATCH
DESCRIPTION:22 RIMFIRE OR AIR RIFLE CHALLENGE\nCALL PETER SEDMAN FOR INFO 519-327-9798 \n\nLAKESHORE SMALLBORE LEAGUE SILHOUETTE STANDARD STANDING OFFHAND\nSILHOUETTE HUNTING STANDING OFFHAND\nHUNTING RIFLE  STANDING OFFHAND\n\nAPPROXIMATLY 100 ROUNDS \nPRACTICE MATCHES MAY TIL OCTOBER WEEKLY\nSCORED MATCHES NOVEMBER TIL APRIL WEEKLY
URL:https://lrrc.ca/event/22-rimfire-or-air-rifle-challenge-practice-match/2026-02-10/
CATEGORIES:Matches,Practice Matches
END:VEVENT
BEGIN:VEVENT
DTSTART;TZID=America/Toronto:20260203T160000
DTEND;TZID=America/Toronto:20260203T180000
DTSTAMP:20260420T164152
CREATED:20260113T003713Z
LAST-MODIFIED:20260113T003713Z
UID:10001908-1770134400-1770141600@lrrc.ca
SUMMARY:22 RIMFIRE OR AIR RIFLE CHALLENGE - PRACTICE MATCH
DESCRIPTION:22 RIMFIRE OR AIR RIFLE CHALLENGE\nCALL PETER SEDMAN FOR INFO 519-327-9798 \n\nLAKESHORE SMALLBORE LEAGUE SILHOUETTE STANDARD STANDING OFFHAND\nSILHOUETTE HUNTING STANDING OFFHAND\nHUNTING RIFLE  STANDING OFFHAND\n\nAPPROXIMATLY 100 ROUNDS \nPRACTICE MATCHES MAY TIL OCTOBER WEEKLY\nSCORED MATCHES NOVEMBER TIL APRIL WEEKLY
URL:https://lrrc.ca/event/22-rimfire-or-air-rifle-challenge-practice-match/2026-02-03/
CATEGORIES:Matches,Practice Matches
END:VEVENT
BEGIN:VEVENT
DTSTART;TZID=America/Toronto:20260127T160000
DTEND;TZID=America/Toronto:20260127T180000
DTSTAMP:20260420T164152
CREATED:20260113T003713Z
LAST-MODIFIED:20260113T003713Z
UID:10001907-1769529600-1769536800@lrrc.ca
SUMMARY:22 RIMFIRE OR AIR RIFLE CHALLENGE - PRACTICE MATCH
DESCRIPTION:22 RIMFIRE OR AIR RIFLE CHALLENGE\nCALL PETER SEDMAN FOR INFO 519-327-9798 \n\nLAKESHORE SMALLBORE LEAGUE SILHOUETTE STANDARD STANDING OFFHAND\nSILHOUETTE HUNTING STANDING OFFHAND\nHUNTING RIFLE  STANDING OFFHAND\n\nAPPROXIMATLY 100 ROUNDS \nPRACTICE MATCHES MAY TIL OCTOBER WEEKLY\nSCORED MATCHES NOVEMBER TIL APRIL WEEKLY
URL:https://lrrc.ca/event/22-rimfire-or-air-rifle-challenge-practice-match/2026-01-27/
CATEGORIES:Matches,Practice Matches
END:VEVENT
BEGIN:VEVENT
DTSTART;TZID=America/Toronto:20260120T160000
DTEND;TZID=America/Toronto:20260120T180000
DTSTAMP:20260420T164152
CREATED:20260113T003713Z
LAST-MODIFIED:20260113T003713Z
UID:10001906-1768924800-1768932000@lrrc.ca
SUMMARY:22 RIMFIRE OR AIR RIFLE CHALLENGE - PRACTICE MATCH
DESCRIPTION:22 RIMFIRE OR AIR RIFLE CHALLENGE\nCALL PETER SEDMAN FOR INFO 519-327-9798 \n\nLAKESHORE SMALLBORE LEAGUE SILHOUETTE STANDARD STANDING OFFHAND\nSILHOUETTE HUNTING STANDING OFFHAND\nHUNTING RIFLE  STANDING OFFHAND\n\nAPPROXIMATLY 100 ROUNDS \nPRACTICE MATCHES MAY TIL OCTOBER WEEKLY\nSCORED MATCHES NOVEMBER TIL APRIL WEEKLY
URL:https://lrrc.ca/event/22-rimfire-or-air-rifle-challenge-practice-match/2026-01-20/
CATEGORIES:Matches,Practice Matches
END:VEVENT
BEGIN:VEVENT
DTSTART;TZID=America/Toronto:20260113T160000
DTEND;TZID=America/Toronto:20260113T180000
DTSTAMP:20260420T164152
CREATED:20260113T003713Z
LAST-MODIFIED:20260113T003713Z
UID:10001905-1768320000-1768327200@lrrc.ca
SUMMARY:22 RIMFIRE OR AIR RIFLE CHALLENGE - PRACTICE MATCH
DESCRIPTION:22 RIMFIRE OR AIR RIFLE CHALLENGE\nCALL PETER SEDMAN FOR INFO 519-327-9798 \n\nLAKESHORE SMALLBORE LEAGUE SILHOUETTE STANDARD STANDING OFFHAND\nSILHOUETTE HUNTING STANDING OFFHAND\nHUNTING RIFLE  STANDING OFFHAND\n\nAPPROXIMATLY 100 ROUNDS \nPRACTICE MATCHES MAY TIL OCTOBER WEEKLY\nSCORED MATCHES NOVEMBER TIL APRIL WEEKLY
URL:https://lrrc.ca/event/22-rimfire-or-air-rifle-challenge-practice-match/2026-01-13/
CATEGORIES:Matches,Practice Matches
END:VEVENT
END:VCALENDAR