BEGIN:VCALENDAR
VERSION:2.0
PRODID:-//Listowel Rifle &amp; Revolver Club - ECPv6.15.20//NONSGML v1.0//EN
CALSCALE:GREGORIAN
METHOD:PUBLISH
X-ORIGINAL-URL:https://lrrc.ca
X-WR-CALDESC:Events for Listowel Rifle &amp; Revolver Club
REFRESH-INTERVAL;VALUE=DURATION:PT1H
X-Robots-Tag:noindex
X-PUBLISHED-TTL:PT1H
BEGIN:VTIMEZONE
TZID:America/Toronto
BEGIN:DAYLIGHT
TZOFFSETFROM:-0500
TZOFFSETTO:-0400
TZNAME:EDT
DTSTART:20250309T070000
END:DAYLIGHT
BEGIN:STANDARD
TZOFFSETFROM:-0400
TZOFFSETTO:-0500
TZNAME:EST
DTSTART:20251102T060000
END:STANDARD
BEGIN:DAYLIGHT
TZOFFSETFROM:-0500
TZOFFSETTO:-0400
TZNAME:EDT
DTSTART:20260308T070000
END:DAYLIGHT
BEGIN:STANDARD
TZOFFSETFROM:-0400
TZOFFSETTO:-0500
TZNAME:EST
DTSTART:20261101T060000
END:STANDARD
BEGIN:DAYLIGHT
TZOFFSETFROM:-0500
TZOFFSETTO:-0400
TZNAME:EDT
DTSTART:20270314T070000
END:DAYLIGHT
BEGIN:STANDARD
TZOFFSETFROM:-0400
TZOFFSETTO:-0500
TZNAME:EST
DTSTART:20271107T060000
END:STANDARD
END:VTIMEZONE
BEGIN:VEVENT
DTSTART;TZID=America/Toronto:20261031T090000
DTEND;TZID=America/Toronto:20261031T130000
DTSTAMP:20260421T190014
CREATED:20260113T002730Z
LAST-MODIFIED:20260113T002906Z
UID:10001903-1793437200-1793451600@lrrc.ca
SUMMARY:Revolver Match
DESCRIPTION:Revolver Match\nMatch to be shot on the outdoor handgun range starting at 9:00 a.m.\nA fee of $10.00 is charged with no charge for reshoots. \n\nRevolvers only 22 rim fire or any centre fire may be used.\nEach match requires approximately 30-40 rounds.\nTargets are supplied and will be explained the day of the match.\nA BBQ lunch provided after the match is included in the fee.\nMatch winners will be listed in the club newsletter.\nAll LRRC safety and range rules apply.
URL:https://lrrc.ca/event/revolver-match-2/2026-10-31/
LOCATION:Listowel Rifle & Revolver Club\, 8310 Rd 165\, Listowel\, Ontario\, N4W 3H2
CATEGORIES:Matches
ATTACH;FMTTYPE=image/jpeg:https://lrrc.ca/wp-content/uploads/2024/01/25-yard-PPC-range-handgun-rifle-800.jpg
ORGANIZER;CN="LRRC":MAILTO:listowelgunclub@gmail.com
END:VEVENT
END:VCALENDAR