BEGIN:VCALENDAR
VERSION:2.0
PRODID:-//Listowel Rifle &amp; Revolver Club - ECPv6.15.20//NONSGML v1.0//EN
CALSCALE:GREGORIAN
METHOD:PUBLISH
X-WR-CALNAME:Listowel Rifle &amp; Revolver Club
X-ORIGINAL-URL:https://lrrc.ca
X-WR-CALDESC:Events for Listowel Rifle &amp; Revolver Club
REFRESH-INTERVAL;VALUE=DURATION:PT1H
X-Robots-Tag:noindex
X-PUBLISHED-TTL:PT1H
BEGIN:VTIMEZONE
TZID:America/Toronto
BEGIN:DAYLIGHT
TZOFFSETFROM:-0500
TZOFFSETTO:-0400
TZNAME:EDT
DTSTART:20250309T070000
END:DAYLIGHT
BEGIN:STANDARD
TZOFFSETFROM:-0400
TZOFFSETTO:-0500
TZNAME:EST
DTSTART:20251102T060000
END:STANDARD
BEGIN:DAYLIGHT
TZOFFSETFROM:-0500
TZOFFSETTO:-0400
TZNAME:EDT
DTSTART:20260308T070000
END:DAYLIGHT
BEGIN:STANDARD
TZOFFSETFROM:-0400
TZOFFSETTO:-0500
TZNAME:EST
DTSTART:20261101T060000
END:STANDARD
BEGIN:DAYLIGHT
TZOFFSETFROM:-0500
TZOFFSETTO:-0400
TZNAME:EDT
DTSTART:20270314T070000
END:DAYLIGHT
BEGIN:STANDARD
TZOFFSETFROM:-0400
TZOFFSETTO:-0500
TZNAME:EST
DTSTART:20271107T060000
END:STANDARD
END:VTIMEZONE
BEGIN:VEVENT
DTSTART;TZID=America/Toronto:20260919T090000
DTEND;TZID=America/Toronto:20260919T130000
DTSTAMP:20260421T140942
CREATED:20260113T001909Z
LAST-MODIFIED:20260113T001954Z
UID:10001888-1789808400-1789822800@lrrc.ca
SUMMARY:Turkey Shoot
DESCRIPTION:Turkey Shoot\nMatch to be shot on the outdoor shotgun range starting at 9:00 a.m. and will continue as long as competitors want to shoot.\nA fee of $5.00 is charged per match shot. \n\nThe match is shot with the 12 ga. shotgun of your choice.\n12 ga. 2 ¾” # 4 shells are supplied by LRRC.\nTurkey sighter targets set at 30 yards on stands are supplied and will be explained the day of the match.\nThe fee paid per line is split between the winner of the line and LRRC. (High shot count wins.)\nMatch winners will be listed in the club newsletter.\nAll LRRC safety and range rules apply.
URL:https://lrrc.ca/event/turkey-shoot-2/2026-09-19/
LOCATION:Listowel Rifle & Revolver Club\, 8310 Rd 165\, Listowel\, Ontario\, N4W 3H2
CATEGORIES:Matches
ATTACH;FMTTYPE=image/jpeg:https://lrrc.ca/wp-content/uploads/2024/01/mark-olsen-wo39JBLqzo8-unsplash-2.jpg
ORGANIZER;CN="LRRC":MAILTO:listowelgunclub@gmail.com
END:VEVENT
END:VCALENDAR