BEGIN:VCALENDAR
VERSION:2.0
PRODID:-//Listowel Rifle &amp; Revolver Club - ECPv6.15.20//NONSGML v1.0//EN
CALSCALE:GREGORIAN
METHOD:PUBLISH
X-ORIGINAL-URL:https://lrrc.ca
X-WR-CALDESC:Events for Listowel Rifle &amp; Revolver Club
REFRESH-INTERVAL;VALUE=DURATION:PT1H
X-Robots-Tag:noindex
X-PUBLISHED-TTL:PT1H
BEGIN:VTIMEZONE
TZID:America/Toronto
BEGIN:DAYLIGHT
TZOFFSETFROM:-0500
TZOFFSETTO:-0400
TZNAME:EDT
DTSTART:20250309T070000
END:DAYLIGHT
BEGIN:STANDARD
TZOFFSETFROM:-0400
TZOFFSETTO:-0500
TZNAME:EST
DTSTART:20251102T060000
END:STANDARD
BEGIN:DAYLIGHT
TZOFFSETFROM:-0500
TZOFFSETTO:-0400
TZNAME:EDT
DTSTART:20260308T070000
END:DAYLIGHT
BEGIN:STANDARD
TZOFFSETFROM:-0400
TZOFFSETTO:-0500
TZNAME:EST
DTSTART:20261101T060000
END:STANDARD
BEGIN:DAYLIGHT
TZOFFSETFROM:-0500
TZOFFSETTO:-0400
TZNAME:EDT
DTSTART:20270314T070000
END:DAYLIGHT
BEGIN:STANDARD
TZOFFSETFROM:-0400
TZOFFSETTO:-0500
TZNAME:EST
DTSTART:20271107T060000
END:STANDARD
END:VTIMEZONE
BEGIN:VEVENT
DTSTART;TZID=America/Toronto:20260905T090000
DTEND;TZID=America/Toronto:20260905T130000
DTSTAMP:20260421T084638
CREATED:20260113T001708Z
LAST-MODIFIED:20260113T001741Z
UID:10000721-1788598800-1788613200@lrrc.ca
SUMMARY:22 Rim Fire Rifle and Handgun Combo Match
DESCRIPTION:22 Rim Fire Rifle and Handgun Combo Match\nMatch to be shot on the indoor or outdoor range\, depending on weather\, starting at 9:00 am.\nA fee of $10.00 is charged with no charge for reshoots. \n\nThe match is shot with combined targets for 22 rim fire rifles & handguns with iron sights only.\nA complete match requires approximately 100 rounds.\nTargets are supplied and will be explained the day of the match.\nA BBQ lunch provided after the match is included in the fee.\nMatch winners will be listed in the club newsletter.\nAll LRRC safety and range rules apply.
URL:https://lrrc.ca/event/22-rim-fire-rifle-and-handgun-combo-match-2/2026-09-05/
LOCATION:Listowel Rifle & Revolver Club\, 8310 Rd 165\, Listowel\, Ontario\, N4W 3H2
CATEGORIES:Matches
ATTACH;FMTTYPE=image/jpeg:https://lrrc.ca/wp-content/uploads/2024/01/25-yard-PPC-range-handgun-rifle-800.jpg
ORGANIZER;CN="LRRC":MAILTO:listowelgunclub@gmail.com
END:VEVENT
END:VCALENDAR