BEGIN:VCALENDAR
VERSION:2.0
PRODID:-//Listowel Rifle &amp; Revolver Club - ECPv6.15.20//NONSGML v1.0//EN
CALSCALE:GREGORIAN
METHOD:PUBLISH
X-WR-CALNAME:Listowel Rifle &amp; Revolver Club
X-ORIGINAL-URL:https://lrrc.ca
X-WR-CALDESC:Events for Listowel Rifle &amp; Revolver Club
REFRESH-INTERVAL;VALUE=DURATION:PT1H
X-Robots-Tag:noindex
X-PUBLISHED-TTL:PT1H
BEGIN:VTIMEZONE
TZID:America/Toronto
BEGIN:DAYLIGHT
TZOFFSETFROM:-0500
TZOFFSETTO:-0400
TZNAME:EDT
DTSTART:20250309T070000
END:DAYLIGHT
BEGIN:STANDARD
TZOFFSETFROM:-0400
TZOFFSETTO:-0500
TZNAME:EST
DTSTART:20251102T060000
END:STANDARD
BEGIN:DAYLIGHT
TZOFFSETFROM:-0500
TZOFFSETTO:-0400
TZNAME:EDT
DTSTART:20260308T070000
END:DAYLIGHT
BEGIN:STANDARD
TZOFFSETFROM:-0400
TZOFFSETTO:-0500
TZNAME:EST
DTSTART:20261101T060000
END:STANDARD
BEGIN:DAYLIGHT
TZOFFSETFROM:-0500
TZOFFSETTO:-0400
TZNAME:EDT
DTSTART:20270314T070000
END:DAYLIGHT
BEGIN:STANDARD
TZOFFSETFROM:-0400
TZOFFSETTO:-0500
TZNAME:EST
DTSTART:20271107T060000
END:STANDARD
END:VTIMEZONE
BEGIN:VEVENT
DTSTART;TZID=America/Toronto:20260623T160000
DTEND;TZID=America/Toronto:20260623T180000
DTSTAMP:20260420T222611
CREATED:20260113T003713Z
LAST-MODIFIED:20260113T003713Z
UID:10001928-1782230400-1782237600@lrrc.ca
SUMMARY:22 RIMFIRE OR AIR RIFLE CHALLENGE - PRACTICE MATCH
DESCRIPTION:22 RIMFIRE OR AIR RIFLE CHALLENGE\nCALL PETER SEDMAN FOR INFO 519-327-9798 \n\nLAKESHORE SMALLBORE LEAGUE SILHOUETTE STANDARD STANDING OFFHAND\nSILHOUETTE HUNTING STANDING OFFHAND\nHUNTING RIFLE  STANDING OFFHAND\n\nAPPROXIMATLY 100 ROUNDS \nPRACTICE MATCHES MAY TIL OCTOBER WEEKLY\nSCORED MATCHES NOVEMBER TIL APRIL WEEKLY
URL:https://lrrc.ca/event/22-rimfire-or-air-rifle-challenge-practice-match/2026-06-23/
CATEGORIES:Matches,Practice Matches
END:VEVENT
END:VCALENDAR